{"text_format":"1","workbook":"xlsx","n_sheets":11,"sheets":["seletivo","RANK","Vitórias Campineiro","taças","dados seletivo ","TACAS","(dados) 2013","(dados) GERAL","(dados) TAÇAS","dados campeões","dados taças"],"not_rendered":{"charts":0,"images":1,"macros":1,"external_links":0,"defined_names":0,"comments":0,"pivot_tables":0},"unopened":[],"bounds":{"document_bytes":16777216,"sheet_cells":100000,"rows_first":2000,"rows_last":500,"rows_between":2000,"halvings":0,"cell_chars":16384,"cell_head_chars":4096},"cells_cut":0,"cells_raw":0,"read":"whole","date_system":"1900"}

{"sheet":"seletivo","index":0,"n_rows":31,"n_cols":27,"rows_kept":31,"cut":false,"hidden":true,"merged":[[36,17,36,18],[8,2,8,4],[9,2,9,4],[10,2,10,4],[30,2,30,4],[24,2,24,4],[25,2,25,4],[26,2,26,4],[27,2,27,4],[34,17,34,18],[29,2,29,4],[15,17,20,17],[21,17,28,17],[20,2,20,4],[21,2,21,4],[28,2,28,4],[17,2,17,4],[15,0,20,0],[21,6,30,6],[22,2,22,4],[23,2,23,4],[18,2,18,4],[19,2,19,4],[15,6,20,6],[15,2,15,4],[16,2,16,4],[21,0,30,0],[0,21,0,24],[3,17,8,17],[9,17,14,17],[2,16,2,18],[0,17,0,18],[9,0,14,0],[1,0,1,4],[0,0,0,4],[3,6,8,6],[9,6,14,6],[12,2,12,4],[13,2,13,4],[14,2,14,4],[2,0,2,4],[0,6,0,14],[1,6,1,14],[3,0,8,0],[11,2,11,4],[3,2,3,4],[4,2,4,4],[7,2,7,4]]}
["ACESSO & DESCENSO",null,null,null,null,null,"SELETIVAS - 10ª TAÇA - 9 de dezembro/2009"]
[]
["* PRÓXIMO TORNEIO *",null,null,null,null,null,null,"ATU","ANT",null,"BOTONISTA","TOD","TOTAL","#","#1º",null,"PONTUAÇÃO"]
["OURO","►","serginho",null,null,null,"OURO",1,1,{"$f":"IF(H4=I4,$AA$4,IF(H4>I4,$AA$6,IF(H4<I4,$AA$5)))","v":"►"},{"$f":"'dados seletivo '!A20","v":"Serginho Castilho"},{"$f":"'dados seletivo '!BW20","v":0},{"$f":"'dados seletivo '!BV20","v":0},null,null,null,"1º","4 pontos entre cada posição",100,null,null,null,null,null,null,null,"►"]
[null,"►","celso",null,null,null,null,2,2,"►",{"$f":"'dados seletivo '!A7","v":"Celso de Assis"},{"$f":"'dados seletivo '!BW7","v":0},{"$f":"'dados seletivo '!BV7","v":0},{"$f":"(M5-M4)","v":0},{"$f":"(M5-M$4)","v":0},null,"2º",null,96,null,null,null,null,null,null,null,"▲"]
[null,"►","beto",null,null,null,null,3,3,"►",{"$f":"'dados seletivo '!A25","v":"Luiz Humberto"},{"$f":"'dados seletivo '!BW25","v":0},{"$f":"'dados seletivo '!BV25","v":0},0,0,null,"3º",null,92,null,null,null,null,null,null,null,"▼"]
[null,"►","raul",null,null,null,null,4,4,"►",{"$f":"'dados seletivo '!A30","v":"Raul Grizi"},{"$f":"'dados seletivo '!BW30","v":0},{"$f":"'dados seletivo '!BV30","v":0},0,0,null,"4º",null,88]
[null,"▲","nardy",null,null,null,null,5,5,"►",{"$f":"'dados seletivo '!A8","v":"Ricardo Nardy"},{"$f":"'dados seletivo '!BW8","v":0},{"$f":"'dados seletivo '!BV8","v":0},0,0,null,"5º",null,84]
[null,"▲","edson",null,null,null,null,6,6,"►",{"$f":"'dados seletivo '!$A$16","v":"Edson Fortuna "},{"$f":"'dados seletivo '!$BW$16","v":0},{"$f":"'dados seletivo '!$BV$16","v":0},0,0,null,"6º",null,80]
["PRATA","▼","michel",null,null,null,"PRATA",7,7,"►","Michel Benevides",{"$f":"'dados seletivo '!$BW$18","v":0},{"$f":"'dados seletivo '!$BV$18","v":0},0,0,null,"7º","3 pontos entre cada posição",77]
[null,"▼","benites",null,null,null,null,8,8,"►",{"$f":"'dados seletivo '!A38","v":"Ricardo Benites"},{"$f":"'dados seletivo '!BW38","v":0},{"$f":"'dados seletivo '!BV38","v":0},0,0,null,"8º",null,74,null,"ATU","Posição atual"]
[null,"►","wilson",null,null,null,null,9,9,"►",{"$f":"'dados seletivo '!A17","v":"Wilson Benevides"},{"$f":"'dados seletivo '!BW17","v":0},{"$f":"'dados seletivo '!BV17","v":0},0,0,null,"9º",null,71,null,"ANT","Posição anterior"]
[null,"►","joão",null,null,null,null,10,10,"►",{"$f":"'dados seletivo '!A27","v":"João Felipe"},{"$f":"'dados seletivo '!BW27","v":0},{"$f":"'dados seletivo '!BV27","v":0},0,0,null,"10º",null,68,null,"TOD","Torneios disputados"]
[null,"►",null,null,null,null,null,11,11,"►",{"$f":"'dados seletivo '!A9","v":"Antonio Ribeiro"},{"$f":"'dados seletivo '!BW9","v":0},{"$f":"'dados seletivo '!BV9","v":0},0,0,null,"11º",null,65,null,"#","Diferença colocação acima"]
[null,"►",null,null,null,null,null,12,12,"►",{"$f":"'dados seletivo '!A37","v":"César Rebecca"},{"$f":"'dados seletivo '!BW37","v":0},{"$f":"'dados seletivo '!BV37","v":0},0,0,null,"12º",null,62,null,"# 1º","Diferença p/ 1º colocado"]
["BRONZE","▼",null,null,null,null,"BRONZE",13,13,"►",{"$f":"'dados seletivo '!A4","v":"Márcio Costa"},{"$f":"'dados seletivo '!BW4","v":0},{"$f":"'dados seletivo '!BV4","v":0},0,0,null,"13º","2 pontos entre cada posição",60]
[null,"▼",null,null,null,null,null,14,14,"►",{"$f":"'dados seletivo '!A12","v":"Gustavo Arcolini"},{"$f":"'dados seletivo '!BW12","v":0},{"$f":"'dados seletivo '!BV12","v":0},0,0,null,"14º",null,58]
[null,"►",null,null,null,null,null,15,15,"►","André Stancatti",{"$f":"'dados seletivo '!BW6","v":0},{"$f":"'dados seletivo '!BV6","v":0},0,0,null,"15º",null,56]
[null,"►",null,null,null,null,null,16,16,"►",{"$f":"'dados seletivo '!A31","v":"Carlos Henrique"},{"$f":"'dados seletivo '!BW31","v":0},{"$f":"'dados seletivo '!BV31","v":0},0,0,null,"16º",null,54]
[null,"▲",null,null,null,null,null,17,17,"►",{"$f":"'dados seletivo '!A39","v":"Juliano Borges"},{"$f":"'dados seletivo '!BW39","v":0},{"$f":"'dados seletivo '!BV39","v":0},0,0,null,"17º",null,52]
[null,"▲",null,null,null,null,null,18,18,"►",{"$f":"'dados seletivo '!A29","v":"Gabriel Nardy"},{"$f":"'dados seletivo '!BW29","v":0},{"$f":"'dados seletivo '!BV29","v":0},0,0,null,"18º",null,50]
["EXTRA","▼",null,null,null,null,"EXTRA",19,19,"►",{"$f":"'dados seletivo '!$A$10","v":"Ismael Júnior"},{"$f":"'dados seletivo '!$BW$10","v":0},{"$f":"'dados seletivo '!$BV$10","v":0},0,0,null,"19º","1 ponto entre cada posição ",49]
[null,"▼",null,null,null,null,null,20,20,"►","Luiz Antonio",{"$f":"'dados seletivo '!$BW$21","v":0},{"$f":"'dados seletivo '!$BV$21","v":0},0,0,null,"20º",null,48]
[null,"►",null,null,null,null,null,21,21,"►","Lucas Henrique",{"$f":"'dados seletivo '!$BW$13","v":0},{"$f":"'dados seletivo '!$BV$13","v":0},0,0,null,"21º",null,47]
[null,"►",null,null,null,null,null,22,22,"►",{"$f":"'dados seletivo '!A34","v":"Márcio Guedes"},{"$f":"'dados seletivo '!$BW$34","v":0},{"$f":"'dados seletivo '!$BV$34","v":0},0,0,null,"22º",null,46]
[null,"►",null,null,null,null,null,23,23,"►",{"$f":"'dados seletivo '!A5","v":"Marcos Juliatto"},{"$f":"'dados seletivo '!BW5","v":0},{"$f":"'dados seletivo '!BV5","v":0},0,0,null,"23º",null,45]
[null,"►",null,null,null,null,null,24,24,"►",{"$f":"'dados seletivo '!A24","v":"Augusto Cesar"},{"$f":"'dados seletivo '!BW24","v":0},{"$f":"'dados seletivo '!BV24","v":0},0,0,null,"24º",null,44]
[null,"►",null,null,null,null,null,25,25,"►",null,null,null,0,0,null,"25º",null,43]
[null,"►",null,null,null,null,null,26,26,"►",null,null,null,0,0,null,"26º",null,42]
[null,"►",null,null,null,null,null,27,27,"►",null,null,null,0,0]
[null,"►",null,null,null,null,null,28,28,"►",null,null,null,0,0]

{"sheet":"RANK","index":1,"n_rows":22,"n_cols":32,"rows_kept":22,"cut":false,"hidden":false,"merged":[[0,3,0,4],[0,7,0,11],[0,5,0,6],[0,15,0,17],[0,12,0,14]]}
[null,"RANKING CDB 2013","TOTAL","TORNEIOS",null,"4ª TREINO",null,"TÍTULOS TORNEIOS INTERNOS",null,null,null,null,"PODIUM 2013",null,null,"PODIUM GERAL"]
[null,null,"PONTOS","PONTOS","JOGOS","PONTOS","JOGOS","JOGOS","O","P","B","E","1º","2º","3º","1º","2º","3º"]
[1,"SÉRGIO FILHO",{"$f":"VLOOKUP($B3,'(dados) 2013'!$A$5:$JM$24,273,0)","v":170},{"$f":"VLOOKUP($B3,'(dados) 2013'!$A$5:$JH$24,266,0)","v":115},{"$f":"VLOOKUP($B3,'(dados) 2013'!$A$5:$JH$24,267,0)","v":10},{"$f":"VLOOKUP($B3,'(dados) 2013'!$A$5:$JK$24,271,0)","v":55},{"$f":"VLOOKUP($B3,'(dados) 2013'!$A$5:$JK$24,270,0)","v":11},{"$f":"VLOOKUP($B3,'(dados) GERAL'!$A$4:$ID$63,234,0)","v":160},{"$f":"VLOOKUP($B3,'(dados) GERAL'!$A$4:$ID$63,235,0)","v":74},{"$f":"VLOOKUP($B3,'(dados) GERAL'!$A$4:$ID$63,236,0)","v":4},{"$f":"VLOOKUP($B3,'(dados) GERAL'!$A$4:$ID$63,237,0)","v":4},{"$f":"VLOOKUP($B3,'(dados) GERAL'!$A$4:$ID$63,238,0)","v":0},{"$f":"VLOOKUP($B3,'(dados) 2013'!$A$5:$JQ$24,275,0)","v":6},{"$f":"VLOOKUP($B3,'(dados) 2013'!$A$5:$JQ$24,276,0)","v":1},{"$f":"VLOOKUP($B3,'(dados) 2013'!$A$5:$JQ$24,277,0)","v":3},{"$f":"VLOOKUP($B3,'(dados) GERAL'!$A$4:$IJ$63,242,0)","v":74},{"$f":"VLOOKUP($B3,'(dados) GERAL'!$A$4:$IJ$63,243,0)","v":40},{"$f":"VLOOKUP($B3,'(dados) GERAL'!$A$4:$IJ$63,244,0)","v":16},null,null,null,null,null,null,null,null,null,null,null,null,null,"►"]
[2,"ANTONIO RIBEIRO",{"$f":"VLOOKUP($B4,'(dados) 2013'!$A$5:$JM$24,273,0)","v":152},{"$f":"VLOOKUP($B4,'(dados) 2013'!$A$5:$JH$24,266,0)","v":87},{"$f":"VLOOKUP($B4,'(dados) 2013'!$A$5:$JH$24,267,0)","v":13},{"$f":"VLOOKUP($B4,'(dados) 2013'!$A$5:$JK$24,271,0)","v":65},{"$f":"VLOOKUP($B4,'(dados) 2013'!$A$5:$JK$24,270,0)","v":13},{"$f":"VLOOKUP($B4,'(dados) GERAL'!$A$4:$ID$63,234,0)","v":211},{"$f":"VLOOKUP($B4,'(dados) GERAL'!$A$4:$ID$63,235,0)","v":3},{"$f":"VLOOKUP($B4,'(dados) GERAL'!$A$4:$ID$63,236,0)","v":12},{"$f":"VLOOKUP($B4,'(dados) GERAL'!$A$4:$ID$63,237,0)","v":0},{"$f":"VLOOKUP($B4,'(dados) GERAL'!$A$4:$ID$63,238,0)","v":0},{"$f":"VLOOKUP($B4,'(dados) 2013'!$A$5:$JQ$24,275,0)","v":2},{"$f":"VLOOKUP($B4,'(dados) 2013'!$A$5:$JQ$24,276,0)","v":4},{"$f":"VLOOKUP($B4,'(dados) 2013'!$A$5:$JQ$24,277,0)","v":2},{"$f":"VLOOKUP($B4,'(dados) GERAL'!$A$4:$IJ$63,242,0)","v":3},{"$f":"VLOOKUP($B4,'(dados) GERAL'!$A$4:$IJ$63,243,0)","v":15},{"$f":"VLOOKUP($B4,'(dados) GERAL'!$A$4:$IJ$63,244,0)","v":13},null,null,null,null,null,null,null,null,null,null,null,null,null,"▲"]
[3,"MÁRCIO COSTA",{"$f":"VLOOKUP($B5,'(dados) 2013'!$A$5:$JM$24,273,0)","v":119},{"$f":"VLOOKUP($B5,'(dados) 2013'!$A$5:$JH$24,266,0)","v":74},{"$f":"VLOOKUP($B5,'(dados) 2013'!$A$5:$JH$24,267,0)","v":8},{"$f":"VLOOKUP($B5,'(dados) 2013'!$A$5:$JK$24,271,0)","v":45},{"$f":"VLOOKUP($B5,'(dados) 2013'!$A$5:$JK$24,270,0)","v":9},{"$f":"VLOOKUP($B5,'(dados) GERAL'!$A$4:$ID$63,234,0)","v":159},{"$f":"VLOOKUP($B5,'(dados) GERAL'!$A$4:$ID$63,235,0)","v":39},{"$f":"VLOOKUP($B5,'(dados) GERAL'!$A$4:$ID$63,236,0)","v":13},{"$f":"VLOOKUP($B5,'(dados) GERAL'!$A$4:$ID$63,237,0)","v":3},{"$f":"VLOOKUP($B5,'(dados) GERAL'!$A$4:$ID$63,238,0)","v":0},{"$f":"VLOOKUP($B5,'(dados) 2013'!$A$5:$JQ$24,275,0)","v":3},{"$f":"VLOOKUP($B5,'(dados) 2013'!$A$5:$JQ$24,276,0)","v":2},{"$f":"VLOOKUP($B5,'(dados) 2013'!$A$5:$JQ$24,277,0)","v":1},{"$f":"VLOOKUP($B5,'(dados) GERAL'!$A$4:$IJ$63,242,0)","v":39},{"$f":"VLOOKUP($B5,'(dados) GERAL'!$A$4:$IJ$63,243,0)","v":37},{"$f":"VLOOKUP($B5,'(dados) GERAL'!$A$4:$IJ$63,244,0)","v":31},null,null,null,null,null,null,null,null,null,null,null,null,null,"▼"]
[4,"PEDRO NETO",{"$f":"VLOOKUP($B6,'(dados) 2013'!$A$5:$JM$24,273,0)","v":114},{"$f":"VLOOKUP($B6,'(dados) 2013'!$A$5:$JH$24,266,0)","v":69},{"$f":"VLOOKUP($B6,'(dados) 2013'!$A$5:$JH$24,267,0)","v":9},{"$f":"VLOOKUP($B6,'(dados) 2013'!$A$5:$JK$24,271,0)","v":45},{"$f":"VLOOKUP($B6,'(dados) 2013'!$A$5:$JK$24,270,0)","v":9},{"$f":"VLOOKUP($B6,'(dados) GERAL'!$A$4:$ID$63,234,0)","v":47},{"$f":"VLOOKUP($B6,'(dados) GERAL'!$A$4:$ID$63,235,0)","v":0},{"$f":"VLOOKUP($B6,'(dados) GERAL'!$A$4:$ID$63,236,0)","v":1},{"$f":"VLOOKUP($B6,'(dados) GERAL'!$A$4:$ID$63,237,0)","v":0},{"$f":"VLOOKUP($B6,'(dados) GERAL'!$A$4:$ID$63,238,0)","v":0},{"$f":"VLOOKUP($B6,'(dados) 2013'!$A$5:$JQ$24,275,0)","v":0},{"$f":"VLOOKUP($B6,'(dados) 2013'!$A$5:$JQ$24,276,0)","v":2},{"$f":"VLOOKUP($B6,'(dados) 2013'!$A$5:$JQ$24,277,0)","v":0},{"$f":"VLOOKUP($B6,'(dados) GERAL'!$A$4:$IJ$63,242,0)","v":0},{"$f":"VLOOKUP($B6,'(dados) GERAL'!$A$4:$IJ$63,243,0)","v":4},{"$f":"VLOOKUP($B6,'(dados) GERAL'!$A$4:$IJ$63,244,0)","v":0}]
[5,"FERNANDO DÉZIO",{"$f":"VLOOKUP($B7,'(dados) 2013'!$A$5:$JM$24,273,0)","v":107},{"$f":"VLOOKUP($B7,'(dados) 2013'!$A$5:$JH$24,266,0)","v":67},{"$f":"VLOOKUP($B7,'(dados) 2013'!$A$5:$JH$24,267,0)","v":9},{"$f":"VLOOKUP($B7,'(dados) 2013'!$A$5:$JK$24,271,0)","v":40},{"$f":"VLOOKUP($B7,'(dados) 2013'!$A$5:$JK$24,270,0)","v":8},{"$f":"VLOOKUP($B7,'(dados) GERAL'!$A$4:$ID$63,234,0)","v":46},{"$f":"VLOOKUP($B7,'(dados) GERAL'!$A$4:$ID$63,235,0)","v":0},{"$f":"VLOOKUP($B7,'(dados) GERAL'!$A$4:$ID$63,236,0)","v":2},{"$f":"VLOOKUP($B7,'(dados) GERAL'!$A$4:$ID$63,237,0)","v":0},{"$f":"VLOOKUP($B7,'(dados) GERAL'!$A$4:$ID$63,238,0)","v":0},{"$f":"VLOOKUP($B7,'(dados) 2013'!$A$5:$JQ$24,275,0)","v":0},{"$f":"VLOOKUP($B7,'(dados) 2013'!$A$5:$JQ$24,276,0)","v":0},{"$f":"VLOOKUP($B7,'(dados) 2013'!$A$5:$JQ$24,277,0)","v":1},{"$f":"VLOOKUP($B7,'(dados) GERAL'!$A$4:$IJ$63,242,0)","v":0},{"$f":"VLOOKUP($B7,'(dados) GERAL'!$A$4:$IJ$63,243,0)","v":1},{"$f":"VLOOKUP($B7,'(dados) GERAL'!$A$4:$IJ$63,244,0)","v":1}]
[6,"CÉSAR REBECCA",{"$f":"VLOOKUP($B8,'(dados) 2013'!$A$5:$JM$24,273,0)","v":106},{"$f":"VLOOKUP($B8,'(dados) 2013'!$A$5:$JH$24,266,0)","v":81},{"$f":"VLOOKUP($B8,'(dados) 2013'!$A$5:$JH$24,267,0)","v":9},{"$f":"VLOOKUP($B8,'(dados) 2013'!$A$5:$JK$24,271,0)","v":25},{"$f":"VLOOKUP($B8,'(dados) 2013'!$A$5:$JK$24,270,0)","v":5},{"$f":"VLOOKUP($B8,'(dados) GERAL'!$A$4:$ID$63,234,0)","v":74},{"$f":"VLOOKUP($B8,'(dados) GERAL'!$A$4:$ID$63,235,0)","v":2},{"$f":"VLOOKUP($B8,'(dados) GERAL'!$A$4:$ID$63,236,0)","v":5},{"$f":"VLOOKUP($B8,'(dados) GERAL'!$A$4:$ID$63,237,0)","v":1},{"$f":"VLOOKUP($B8,'(dados) GERAL'!$A$4:$ID$63,238,0)","v":0},{"$f":"VLOOKUP($B8,'(dados) 2013'!$A$5:$JQ$24,275,0)","v":2},{"$f":"VLOOKUP($B8,'(dados) 2013'!$A$5:$JQ$24,276,0)","v":2},{"$f":"VLOOKUP($B8,'(dados) 2013'!$A$5:$JQ$24,277,0)","v":2},{"$f":"VLOOKUP($B8,'(dados) GERAL'!$A$4:$IJ$63,242,0)","v":2},{"$f":"VLOOKUP($B8,'(dados) GERAL'!$A$4:$IJ$63,243,0)","v":7},{"$f":"VLOOKUP($B8,'(dados) GERAL'!$A$4:$IJ$63,244,0)","v":10}]
[7,"EDSON FORTUNA",{"$f":"VLOOKUP($B9,'(dados) 2013'!$A$5:$JM$24,273,0)","v":90},{"$f":"VLOOKUP($B9,'(dados) 2013'!$A$5:$JH$24,266,0)","v":60},{"$f":"VLOOKUP($B9,'(dados) 2013'!$A$5:$JH$24,267,0)","v":10},{"$f":"VLOOKUP($B9,'(dados) 2013'!$A$5:$JK$24,271,0)","v":30},{"$f":"VLOOKUP($B9,'(dados) 2013'!$A$5:$JK$24,270,0)","v":6},{"$f":"VLOOKUP($B9,'(dados) GERAL'!$A$4:$ID$63,234,0)","v":133},{"$f":"VLOOKUP($B9,'(dados) GERAL'!$A$4:$ID$63,235,0)","v":0},{"$f":"VLOOKUP($B9,'(dados) GERAL'!$A$4:$ID$63,236,0)","v":3},{"$f":"VLOOKUP($B9,'(dados) GERAL'!$A$4:$ID$63,237,0)","v":5},{"$f":"VLOOKUP($B9,'(dados) GERAL'!$A$4:$ID$63,238,0)","v":0},{"$f":"VLOOKUP($B9,'(dados) 2013'!$A$5:$JQ$24,275,0)","v":0},{"$f":"VLOOKUP($B9,'(dados) 2013'!$A$5:$JQ$24,276,0)","v":0},{"$f":"VLOOKUP($B9,'(dados) 2013'!$A$5:$JQ$24,277,0)","v":0},{"$f":"VLOOKUP($B9,'(dados) GERAL'!$A$4:$IJ$63,242,0)","v":0},{"$f":"VLOOKUP($B9,'(dados) GERAL'!$A$4:$IJ$63,243,0)","v":0},{"$f":"VLOOKUP($B9,'(dados) GERAL'!$A$4:$IJ$63,244,0)","v":3}]
[8,"CHELIO",{"$f":"VLOOKUP($B10,'(dados) 2013'!$A$5:$JM$24,273,0)","v":77},{"$f":"VLOOKUP($B10,'(dados) 2013'!$A$5:$JH$24,266,0)","v":62},{"$f":"VLOOKUP($B10,'(dados) 2013'!$A$5:$JH$24,267,0)","v":10},{"$f":"VLOOKUP($B10,'(dados) 2013'!$A$5:$JK$24,271,0)","v":15},{"$f":"VLOOKUP($B10,'(dados) 2013'!$A$5:$JK$24,270,0)","v":3},{"$f":"VLOOKUP($B10,'(dados) GERAL'!$A$4:$ID$63,234,0)","v":68},{"$f":"VLOOKUP($B10,'(dados) GERAL'!$A$4:$ID$63,235,0)","v":1},{"$f":"VLOOKUP($B10,'(dados) GERAL'!$A$4:$ID$63,236,0)","v":2},{"$f":"VLOOKUP($B10,'(dados) GERAL'!$A$4:$ID$63,237,0)","v":0},{"$f":"VLOOKUP($B10,'(dados) GERAL'!$A$4:$ID$63,238,0)","v":0},{"$f":"VLOOKUP($B10,'(dados) 2013'!$A$5:$JQ$24,275,0)","v":0},{"$f":"VLOOKUP($B10,'(dados) 2013'!$A$5:$JQ$24,276,0)","v":2},{"$f":"VLOOKUP($B10,'(dados) 2013'!$A$5:$JQ$24,277,0)","v":3},{"$f":"VLOOKUP($B10,'(dados) GERAL'!$A$4:$IJ$63,242,0)","v":1},{"$f":"VLOOKUP($B10,'(dados) GERAL'!$A$4:$IJ$63,243,0)","v":5},{"$f":"VLOOKUP($B10,'(dados) GERAL'!$A$4:$IJ$63,244,0)","v":8}]
[9,"RAFA SANTOS",{"$f":"VLOOKUP($B11,'(dados) 2013'!$A$5:$JM$24,273,0)","v":20},{"$f":"VLOOKUP($B11,'(dados) 2013'!$A$5:$JH$24,266,0)","v":0},{"$f":"VLOOKUP($B11,'(dados) 2013'!$A$5:$JH$24,267,0)","v":0},{"$f":"VLOOKUP($B11,'(dados) 2013'!$A$5:$JK$24,271,0)","v":20},{"$f":"VLOOKUP($B11,'(dados) 2013'!$A$5:$JK$24,270,0)","v":4},{"$f":"VLOOKUP($B11,'(dados) GERAL'!$A$4:$ID$63,234,0)","v":1},{"$f":"VLOOKUP($B11,'(dados) GERAL'!$A$4:$ID$63,235,0)","v":0},{"$f":"VLOOKUP($B11,'(dados) GERAL'!$A$4:$ID$63,236,0)","v":1},{"$f":"VLOOKUP($B11,'(dados) GERAL'!$A$4:$ID$63,237,0)","v":0},{"$f":"VLOOKUP($B11,'(dados) GERAL'!$A$4:$ID$63,238,0)","v":0},{"$f":"VLOOKUP($B11,'(dados) 2013'!$A$5:$JQ$24,275,0)","v":0},{"$f":"VLOOKUP($B11,'(dados) 2013'!$A$5:$JQ$24,276,0)","v":0},{"$f":"VLOOKUP($B11,'(dados) 2013'!$A$5:$JQ$24,277,0)","v":0},{"$f":"VLOOKUP($B11,'(dados) GERAL'!$A$4:$IJ$63,242,0)","v":0},{"$f":"VLOOKUP($B11,'(dados) GERAL'!$A$4:$IJ$63,243,0)","v":0},{"$f":"VLOOKUP($B11,'(dados) GERAL'!$A$4:$IJ$63,244,0)","v":0}]
[10,"JOÃO CASTILHO",{"$f":"VLOOKUP($B12,'(dados) 2013'!$A$5:$JM$24,273,0)","v":10},{"$f":"VLOOKUP($B12,'(dados) 2013'!$A$5:$JH$24,266,0)","v":0},{"$f":"VLOOKUP($B12,'(dados) 2013'!$A$5:$JH$24,267,0)","v":0},{"$f":"VLOOKUP($B12,'(dados) 2013'!$A$5:$JK$24,271,0)","v":10},{"$f":"VLOOKUP($B12,'(dados) 2013'!$A$5:$JK$24,270,0)","v":2},{"$f":"VLOOKUP($B12,'(dados) GERAL'!$A$4:$ID$63,234,0)","v":90},{"$f":"VLOOKUP($B12,'(dados) GERAL'!$A$4:$ID$63,235,0)","v":0},{"$f":"VLOOKUP($B12,'(dados) GERAL'!$A$4:$ID$63,236,0)","v":1},{"$f":"VLOOKUP($B12,'(dados) GERAL'!$A$4:$ID$63,237,0)","v":0},{"$f":"VLOOKUP($B12,'(dados) GERAL'!$A$4:$ID$63,238,0)","v":1},{"$f":"VLOOKUP($B12,'(dados) 2013'!$A$5:$JQ$24,275,0)","v":0},{"$f":"VLOOKUP($B12,'(dados) 2013'!$A$5:$JQ$24,276,0)","v":0},{"$f":"VLOOKUP($B12,'(dados) 2013'!$A$5:$JQ$24,277,0)","v":0},{"$f":"VLOOKUP($B12,'(dados) GERAL'!$A$4:$IJ$63,242,0)","v":0},{"$f":"VLOOKUP($B12,'(dados) GERAL'!$A$4:$IJ$63,243,0)","v":0},{"$f":"VLOOKUP($B12,'(dados) GERAL'!$A$4:$IJ$63,244,0)","v":0}]
[11,"FÁBIO JANUÁRIO",{"$f":"VLOOKUP($B13,'(dados) 2013'!$A$5:$JM$24,273,0)","v":10},{"$f":"VLOOKUP($B13,'(dados) 2013'!$A$5:$JH$24,266,0)","v":0},{"$f":"VLOOKUP($B13,'(dados) 2013'!$A$5:$JH$24,267,0)","v":0},{"$f":"VLOOKUP($B13,'(dados) 2013'!$A$5:$JK$24,271,0)","v":10},{"$f":"VLOOKUP($B13,'(dados) 2013'!$A$5:$JK$24,270,0)","v":2},{"$f":"VLOOKUP($B13,'(dados) GERAL'!$A$4:$ID$63,234,0)","v":2},{"$f":"VLOOKUP($B13,'(dados) GERAL'!$A$4:$ID$63,235,0)","v":0},{"$f":"VLOOKUP($B13,'(dados) GERAL'!$A$4:$ID$63,236,0)","v":1},{"$f":"VLOOKUP($B13,'(dados) GERAL'!$A$4:$ID$63,237,0)","v":0},{"$f":"VLOOKUP($B13,'(dados) GERAL'!$A$4:$ID$63,238,0)","v":0},{"$f":"VLOOKUP($B13,'(dados) 2013'!$A$5:$JQ$24,275,0)","v":0},{"$f":"VLOOKUP($B13,'(dados) 2013'!$A$5:$JQ$24,276,0)","v":0},{"$f":"VLOOKUP($B13,'(dados) 2013'!$A$5:$JQ$24,277,0)","v":0},{"$f":"VLOOKUP($B13,'(dados) GERAL'!$A$4:$IJ$63,242,0)","v":0},{"$f":"VLOOKUP($B13,'(dados) GERAL'!$A$4:$IJ$63,243,0)","v":0},{"$f":"VLOOKUP($B13,'(dados) GERAL'!$A$4:$IJ$63,244,0)","v":0}]
[12,"JOÃO PEDRO",{"$f":"VLOOKUP($B14,'(dados) 2013'!$A$5:$JM$24,273,0)","v":10},{"$f":"VLOOKUP($B14,'(dados) 2013'!$A$5:$JH$24,266,0)","v":0},{"$f":"VLOOKUP($B14,'(dados) 2013'!$A$5:$JH$24,267,0)","v":0},{"$f":"VLOOKUP($B14,'(dados) 2013'!$A$5:$JK$24,271,0)","v":10},{"$f":"VLOOKUP($B14,'(dados) 2013'!$A$5:$JK$24,270,0)","v":2},{"$f":"VLOOKUP($B14,'(dados) GERAL'!$A$4:$ID$63,234,0)","v":2},{"$f":"VLOOKUP($B14,'(dados) GERAL'!$A$4:$ID$63,235,0)","v":0},{"$f":"VLOOKUP($B14,'(dados) GERAL'!$A$4:$ID$63,236,0)","v":0},{"$f":"VLOOKUP($B14,'(dados) GERAL'!$A$4:$ID$63,237,0)","v":0},{"$f":"VLOOKUP($B14,'(dados) GERAL'!$A$4:$ID$63,238,0)","v":0},{"$f":"VLOOKUP($B14,'(dados) 2013'!$A$5:$JQ$24,275,0)","v":0},{"$f":"VLOOKUP($B14,'(dados) 2013'!$A$5:$JQ$24,276,0)","v":0},{"$f":"VLOOKUP($B14,'(dados) 2013'!$A$5:$JQ$24,277,0)","v":0},{"$f":"VLOOKUP($B14,'(dados) GERAL'!$A$4:$IJ$63,242,0)","v":0},{"$f":"VLOOKUP($B14,'(dados) GERAL'!$A$4:$IJ$63,243,0)","v":0},{"$f":"VLOOKUP($B14,'(dados) GERAL'!$A$4:$IJ$63,244,0)","v":0}]
[13,"SANDRO PIRIKITO",{"$f":"VLOOKUP($B15,'(dados) 2013'!$A$5:$JM$24,273,0)","v":10},{"$f":"VLOOKUP($B15,'(dados) 2013'!$A$5:$JH$24,266,0)","v":0},{"$f":"VLOOKUP($B15,'(dados) 2013'!$A$5:$JH$24,267,0)","v":0},{"$f":"VLOOKUP($B15,'(dados) 2013'!$A$5:$JK$24,271,0)","v":10},{"$f":"VLOOKUP($B15,'(dados) 2013'!$A$5:$JK$24,270,0)","v":2},{"$f":"VLOOKUP($B15,'(dados) GERAL'!$A$4:$ID$63,234,0)","v":0},{"$f":"VLOOKUP($B15,'(dados) GERAL'!$A$4:$ID$63,235,0)","v":0},{"$f":"VLOOKUP($B15,'(dados) GERAL'!$A$4:$ID$63,236,0)","v":0},{"$f":"VLOOKUP($B15,'(dados) GERAL'!$A$4:$ID$63,237,0)","v":0},{"$f":"VLOOKUP($B15,'(dados) GERAL'!$A$4:$ID$63,238,0)","v":0},{"$f":"VLOOKUP($B15,'(dados) 2013'!$A$5:$JQ$24,275,0)","v":0},{"$f":"VLOOKUP($B15,'(dados) 2013'!$A$5:$JQ$24,276,0)","v":0},{"$f":"VLOOKUP($B15,'(dados) 2013'!$A$5:$JQ$24,277,0)","v":0},{"$f":"VLOOKUP($B15,'(dados) GERAL'!$A$4:$IJ$63,242,0)","v":0},{"$f":"VLOOKUP($B15,'(dados) GERAL'!$A$4:$IJ$63,243,0)","v":0},{"$f":"VLOOKUP($B15,'(dados) GERAL'!$A$4:$IJ$63,244,0)","v":0}]
[14,"NARDY",{"$f":"VLOOKUP($B16,'(dados) 2013'!$A$5:$JM$24,273,0)","v":5},{"$f":"VLOOKUP($B16,'(dados) 2013'!$A$5:$JH$24,266,0)","v":0},{"$f":"VLOOKUP($B16,'(dados) 2013'!$A$5:$JH$24,267,0)","v":0},{"$f":"VLOOKUP($B16,'(dados) 2013'!$A$5:$JK$24,271,0)","v":5},{"$f":"VLOOKUP($B16,'(dados) 2013'!$A$5:$JK$24,270,0)","v":1},{"$f":"VLOOKUP($B16,'(dados) GERAL'!$A$4:$ID$63,234,0)","v":173},{"$f":"VLOOKUP($B16,'(dados) GERAL'!$A$4:$ID$63,235,0)","v":15},{"$f":"VLOOKUP($B16,'(dados) GERAL'!$A$4:$ID$63,236,0)","v":11},{"$f":"VLOOKUP($B16,'(dados) GERAL'!$A$4:$ID$63,237,0)","v":0},{"$f":"VLOOKUP($B16,'(dados) GERAL'!$A$4:$ID$63,238,0)","v":0},{"$f":"VLOOKUP($B16,'(dados) 2013'!$A$5:$JQ$24,275,0)","v":0},{"$f":"VLOOKUP($B16,'(dados) 2013'!$A$5:$JQ$24,276,0)","v":0},{"$f":"VLOOKUP($B16,'(dados) 2013'!$A$5:$JQ$24,277,0)","v":0},{"$f":"VLOOKUP($B16,'(dados) GERAL'!$A$4:$IJ$63,242,0)","v":15},{"$f":"VLOOKUP($B16,'(dados) GERAL'!$A$4:$IJ$63,243,0)","v":22},{"$f":"VLOOKUP($B16,'(dados) GERAL'!$A$4:$IJ$63,244,0)","v":34}]
[15,"FERNANDO BARBIN",{"$f":"VLOOKUP($B17,'(dados) 2013'!$A$5:$JM$24,273,0)","v":5},{"$f":"VLOOKUP($B17,'(dados) 2013'!$A$5:$JH$24,266,0)","v":0},{"$f":"VLOOKUP($B17,'(dados) 2013'!$A$5:$JH$24,267,0)","v":0},{"$f":"VLOOKUP($B17,'(dados) 2013'!$A$5:$JK$24,271,0)","v":5},{"$f":"VLOOKUP($B17,'(dados) 2013'!$A$5:$JK$24,270,0)","v":1},{"$f":"VLOOKUP($B17,'(dados) GERAL'!$A$4:$ID$63,234,0)","v":4},{"$f":"VLOOKUP($B17,'(dados) GERAL'!$A$4:$ID$63,235,0)","v":0},{"$f":"VLOOKUP($B17,'(dados) GERAL'!$A$4:$ID$63,236,0)","v":0},{"$f":"VLOOKUP($B17,'(dados) GERAL'!$A$4:$ID$63,237,0)","v":0},{"$f":"VLOOKUP($B17,'(dados) GERAL'!$A$4:$ID$63,238,0)","v":0},{"$f":"VLOOKUP($B17,'(dados) 2013'!$A$5:$JQ$24,275,0)","v":0},{"$f":"VLOOKUP($B17,'(dados) 2013'!$A$5:$JQ$24,276,0)","v":0},{"$f":"VLOOKUP($B17,'(dados) 2013'!$A$5:$JQ$24,277,0)","v":0},{"$f":"VLOOKUP($B17,'(dados) GERAL'!$A$4:$IJ$63,242,0)","v":0},{"$f":"VLOOKUP($B17,'(dados) GERAL'!$A$4:$IJ$63,243,0)","v":0},{"$f":"VLOOKUP($B17,'(dados) GERAL'!$A$4:$IJ$63,244,0)","v":0}]
[16,"CRISTIANO",{"$f":"VLOOKUP($B18,'(dados) 2013'!$A$5:$JM$24,273,0)","v":0},{"$f":"VLOOKUP($B18,'(dados) 2013'!$A$5:$JH$24,266,0)","v":0},{"$f":"VLOOKUP($B18,'(dados) 2013'!$A$5:$JH$24,267,0)","v":0},{"$f":"VLOOKUP($B18,'(dados) 2013'!$A$5:$JK$24,271,0)","v":0},{"$f":"VLOOKUP($B18,'(dados) 2013'!$A$5:$JK$24,270,0)","v":0},{"$f":"VLOOKUP($B18,'(dados) GERAL'!$A$4:$ID$63,234,0)","v":38},{"$f":"VLOOKUP($B18,'(dados) GERAL'!$A$4:$ID$63,235,0)","v":17},{"$f":"VLOOKUP($B18,'(dados) GERAL'!$A$4:$ID$63,236,0)","v":9},{"$f":"VLOOKUP($B18,'(dados) GERAL'!$A$4:$ID$63,237,0)","v":1},{"$f":"VLOOKUP($B18,'(dados) GERAL'!$A$4:$ID$63,238,0)","v":0},{"$f":"VLOOKUP($B18,'(dados) 2013'!$A$5:$JQ$24,275,0)","v":0},{"$f":"VLOOKUP($B18,'(dados) 2013'!$A$5:$JQ$24,276,0)","v":0},{"$f":"VLOOKUP($B18,'(dados) 2013'!$A$5:$JQ$24,277,0)","v":0},{"$f":"VLOOKUP($B18,'(dados) GERAL'!$A$4:$IJ$63,242,0)","v":17},{"$f":"VLOOKUP($B18,'(dados) GERAL'!$A$4:$IJ$63,243,0)","v":3},{"$f":"VLOOKUP($B18,'(dados) GERAL'!$A$4:$IJ$63,244,0)","v":2}]
[17,"WILSON BENEVIDES",{"$f":"VLOOKUP($B19,'(dados) 2013'!$A$5:$JM$24,273,0)","v":0},{"$f":"VLOOKUP($B19,'(dados) 2013'!$A$5:$JH$24,266,0)","v":0},{"$f":"VLOOKUP($B19,'(dados) 2013'!$A$5:$JH$24,267,0)","v":0},{"$f":"VLOOKUP($B19,'(dados) 2013'!$A$5:$JK$24,271,0)","v":0},{"$f":"VLOOKUP($B19,'(dados) 2013'!$A$5:$JK$24,270,0)","v":0},{"$f":"VLOOKUP($B19,'(dados) GERAL'!$A$4:$ID$63,234,0)","v":198},{"$f":"VLOOKUP($B19,'(dados) GERAL'!$A$4:$ID$63,235,0)","v":5},{"$f":"VLOOKUP($B19,'(dados) GERAL'!$A$4:$ID$63,236,0)","v":12},{"$f":"VLOOKUP($B19,'(dados) GERAL'!$A$4:$ID$63,237,0)","v":3},{"$f":"VLOOKUP($B19,'(dados) GERAL'!$A$4:$ID$63,238,0)","v":0},{"$f":"VLOOKUP($B19,'(dados) 2013'!$A$5:$JQ$24,275,0)","v":0},{"$f":"VLOOKUP($B19,'(dados) 2013'!$A$5:$JQ$24,276,0)","v":0},{"$f":"VLOOKUP($B19,'(dados) 2013'!$A$5:$JQ$24,277,0)","v":0},{"$f":"VLOOKUP($B19,'(dados) GERAL'!$A$4:$IJ$63,242,0)","v":5},{"$f":"VLOOKUP($B19,'(dados) GERAL'!$A$4:$IJ$63,243,0)","v":7},{"$f":"VLOOKUP($B19,'(dados) GERAL'!$A$4:$IJ$63,244,0)","v":11}]
[18,"JOÃO PEDRO GALL",{"$f":"VLOOKUP($B20,'(dados) 2013'!$A$5:$JM$24,273,0)","v":0},{"$f":"VLOOKUP($B20,'(dados) 2013'!$A$5:$JH$24,266,0)","v":0},{"$f":"VLOOKUP($B20,'(dados) 2013'!$A$5:$JH$24,267,0)","v":0},{"$f":"VLOOKUP($B20,'(dados) 2013'!$A$5:$JK$24,271,0)","v":0},{"$f":"VLOOKUP($B20,'(dados) 2013'!$A$5:$JK$24,270,0)","v":0},{"$f":"VLOOKUP($B20,'(dados) GERAL'!$A$4:$ID$63,234,0)","v":2},{"$f":"VLOOKUP($B20,'(dados) GERAL'!$A$4:$ID$63,235,0)","v":0},{"$f":"VLOOKUP($B20,'(dados) GERAL'!$A$4:$ID$63,236,0)","v":2},{"$f":"VLOOKUP($B20,'(dados) GERAL'!$A$4:$ID$63,237,0)","v":0},{"$f":"VLOOKUP($B20,'(dados) GERAL'!$A$4:$ID$63,238,0)","v":0},{"$f":"VLOOKUP($B20,'(dados) 2013'!$A$5:$JQ$24,275,0)","v":0},{"$f":"VLOOKUP($B20,'(dados) 2013'!$A$5:$JQ$24,276,0)","v":0},{"$f":"VLOOKUP($B20,'(dados) 2013'!$A$5:$JQ$24,277,0)","v":0},{"$f":"VLOOKUP($B20,'(dados) GERAL'!$A$4:$IJ$63,242,0)","v":0},{"$f":"VLOOKUP($B20,'(dados) GERAL'!$A$4:$IJ$63,243,0)","v":0},{"$f":"VLOOKUP($B20,'(dados) GERAL'!$A$4:$IJ$63,244,0)","v":0}]
[19,"RAFAEL MELLO",{"$f":"VLOOKUP($B21,'(dados) 2013'!$A$5:$JM$24,273,0)","v":0},{"$f":"VLOOKUP($B21,'(dados) 2013'!$A$5:$JH$24,266,0)","v":0},{"$f":"VLOOKUP($B21,'(dados) 2013'!$A$5:$JH$24,267,0)","v":0},{"$f":"VLOOKUP($B21,'(dados) 2013'!$A$5:$JK$24,271,0)","v":0},{"$f":"VLOOKUP($B21,'(dados) 2013'!$A$5:$JK$24,270,0)","v":0},{"$f":"VLOOKUP($B21,'(dados) GERAL'!$A$4:$ID$63,234,0)","v":0},{"$f":"VLOOKUP($B21,'(dados) GERAL'!$A$4:$ID$63,235,0)","v":0},{"$f":"VLOOKUP($B21,'(dados) GERAL'!$A$4:$ID$63,236,0)","v":0},{"$f":"VLOOKUP($B21,'(dados) GERAL'!$A$4:$ID$63,237,0)","v":0},{"$f":"VLOOKUP($B21,'(dados) GERAL'!$A$4:$ID$63,238,0)","v":0},{"$f":"VLOOKUP($B21,'(dados) 2013'!$A$5:$JQ$24,275,0)","v":0},{"$f":"VLOOKUP($B21,'(dados) 2013'!$A$5:$JQ$24,276,0)","v":0},{"$f":"VLOOKUP($B21,'(dados) 2013'!$A$5:$JQ$24,277,0)","v":0},{"$f":"VLOOKUP($B21,'(dados) GERAL'!$A$4:$IJ$63,242,0)","v":0},{"$f":"VLOOKUP($B21,'(dados) GERAL'!$A$4:$IJ$63,243,0)","v":0},{"$f":"VLOOKUP($B21,'(dados) GERAL'!$A$4:$IJ$63,244,0)","v":0}]
[20]

{"sheet":"Vitórias Campineiro","index":2,"n_rows":33,"n_cols":8,"rows_kept":33,"cut":false,"hidden":true,"merged":[[2,0,2,1],[0,0,0,6]]}
["Vitórias Integração"]
[]
["BOTONISTA",null,"V","P","B","E","TOD"]
["1º",{"$f":"'dados campeões'!A20","v":"Serginho Castilho"},{"$f":"'dados campeões'!C20","v":1},{"$f":"'dados campeões'!D20","v":0},{"$f":"'dados campeões'!E20","v":0},{"$f":"'dados campeões'!F20","v":0},{"$f":"'dados campeões'!B20","v":1},{"$f":"C4*(1000000000)+D4*(1000000)+E4*(1000)+F4*(100)+G4*(1)","v":1000000001}]
["2º",{"$f":"'dados campeões'!A8","v":"Ricardo Nardy"},{"$f":"'dados campeões'!C8","v":0},{"$f":"'dados campeões'!D8","v":0},{"$f":"'dados campeões'!E8","v":0},{"$f":"'dados campeões'!F8","v":0},{"$f":"'dados campeões'!B8","v":1},1]
["3º",{"$f":"'dados campeões'!A7","v":"Celso de Assis"},{"$f":"'dados campeões'!C7","v":0},{"$f":"'dados campeões'!D7","v":0},{"$f":"'dados campeões'!E7","v":0},{"$f":"'dados campeões'!F7","v":0},{"$f":"'dados campeões'!B7","v":1},1]
["4º",{"$f":"'dados campeões'!A25","v":"Luiz Humberto"},{"$f":"'dados campeões'!C25","v":0},{"$f":"'dados campeões'!D25","v":0},{"$f":"'dados campeões'!E25","v":0},{"$f":"'dados campeões'!F25","v":0},{"$f":"'dados campeões'!B25","v":1},1]
["5º",{"$f":"'dados campeões'!A17","v":"Wilson Benevides"},{"$f":"'dados campeões'!C17","v":0},{"$f":"'dados campeões'!D17","v":0},{"$f":"'dados campeões'!E17","v":0},{"$f":"'dados campeões'!F17","v":0},{"$f":"'dados campeões'!B17","v":1},1]
["6º",{"$f":"'dados campeões'!A30","v":"Raul Grizi"},{"$f":"'dados campeões'!C30","v":0},{"$f":"'dados campeões'!D30","v":0},{"$f":"'dados campeões'!E30","v":0},{"$f":"'dados campeões'!F30","v":0},{"$f":"'dados campeões'!B30","v":1},1]
["7º",{"$f":"'dados campeões'!A16","v":"Edson Fortuna "},{"$f":"'dados campeões'!C16","v":0},{"$f":"'dados campeões'!D16","v":0},{"$f":"'dados campeões'!E16","v":0},{"$f":"'dados campeões'!F16","v":0},{"$f":"'dados campeões'!B16","v":1},1]
["8º",{"$f":"'dados campeões'!A18","v":"Michel Benevides"},{"$f":"'dados campeões'!C18","v":0},{"$f":"'dados campeões'!D18","v":0},{"$f":"'dados campeões'!E18","v":0},{"$f":"'dados campeões'!F18","v":0},{"$f":"'dados campeões'!B18","v":1},1]
["9º",{"$f":"'dados campeões'!A27","v":"João Felipe"},{"$f":"'dados campeões'!C27","v":0},{"$f":"'dados campeões'!D27","v":0},{"$f":"'dados campeões'!E27","v":0},{"$f":"'dados campeões'!F27","v":0},{"$f":"'dados campeões'!B27","v":1},1]
["10º",{"$f":"'dados campeões'!A38","v":"Ricardo Benites"},{"$f":"'dados campeões'!C38","v":0},{"$f":"'dados campeões'!D38","v":0},{"$f":"'dados campeões'!E38","v":0},{"$f":"'dados campeões'!F38","v":0},{"$f":"'dados campeões'!B38","v":1},1]
["11º",{"$f":"'dados campeões'!A10","v":"Ismael Júnior"},{"$f":"'dados campeões'!C10","v":0},{"$f":"'dados campeões'!D10","v":0},{"$f":"'dados campeões'!E10","v":0},{"$f":"'dados campeões'!F10","v":0},{"$f":"'dados campeões'!B10","v":0},0]
["12º",{"$f":"'dados campeões'!A4","v":"Márcio Costa"},{"$f":"'dados campeões'!C4","v":0},{"$f":"'dados campeões'!D4","v":0},{"$f":"'dados campeões'!E4","v":0},{"$f":"'dados campeões'!F4","v":0},{"$f":"'dados campeões'!B4","v":0},0]
["13º",{"$f":"'dados campeões'!A11","v":"Cristiano Paffrath"},{"$f":"'dados campeões'!C11","v":0},{"$f":"'dados campeões'!D11","v":0},{"$f":"'dados campeões'!E11","v":0},{"$f":"'dados campeões'!F11","v":0},{"$f":"'dados campeões'!B11","v":0},0]
["14º",{"$f":"'dados campeões'!A12","v":"Gustavo Arcolini"},{"$f":"'dados campeões'!C12","v":0},{"$f":"'dados campeões'!D12","v":0},{"$f":"'dados campeões'!E12","v":0},{"$f":"'dados campeões'!F12","v":0},{"$f":"'dados campeões'!B12","v":0},0]
["15º",{"$f":"'dados campeões'!A6","v":"André Stancatti"},{"$f":"'dados campeões'!C6","v":0},{"$f":"'dados campeões'!D6","v":0},{"$f":"'dados campeões'!E6","v":0},{"$f":"'dados campeões'!F6","v":0},{"$f":"'dados campeões'!B6","v":0},0]
["16º",{"$f":"'dados campeões'!A9","v":"Antonio Ribeiro"},{"$f":"'dados campeões'!C9","v":0},{"$f":"'dados campeões'!D9","v":0},{"$f":"'dados campeões'!E9","v":0},{"$f":"'dados campeões'!F9","v":0},{"$f":"'dados campeões'!B9","v":0},0]
["17º",{"$f":"'dados campeões'!A21","v":"Luiz Antonio"},{"$f":"'dados campeões'!C21","v":0},{"$f":"'dados campeões'!D21","v":0},{"$f":"'dados campeões'!E21","v":0},{"$f":"'dados campeões'!F21","v":0},{"$f":"'dados campeões'!B21","v":0},0]
["18º",{"$f":"'dados campeões'!A35","v":"Luiz Guilherme"},{"$f":"'dados campeões'!C35","v":0},{"$f":"'dados campeões'!D35","v":0},{"$f":"'dados campeões'!E35","v":0},{"$f":"'dados campeões'!F35","v":0},{"$f":"'dados campeões'!B35","v":0},0]
["19º",{"$f":"'dados campeões'!A37","v":"César Rebecca"},{"$f":"'dados campeões'!C37","v":0},{"$f":"'dados campeões'!D37","v":0},{"$f":"'dados campeões'!E37","v":0},{"$f":"'dados campeões'!F37","v":0},{"$f":"'dados campeões'!B37","v":0},0]
["20º",{"$f":"'dados campeões'!A34","v":"Márcio Guedes"},{"$f":"'dados campeões'!C34","v":0},{"$f":"'dados campeões'!D34","v":0},{"$f":"'dados campeões'!E34","v":0},{"$f":"'dados campeões'!F34","v":0},{"$f":"'dados campeões'!B34","v":0},0]
["21º",{"$f":"'dados campeões'!A26","v":"Agnaldo Camelo"},{"$f":"'dados campeões'!C26","v":0},{"$f":"'dados campeões'!D26","v":0},{"$f":"'dados campeões'!E26","v":0},{"$f":"'dados campeões'!F26","v":0},{"$f":"'dados campeões'!B26","v":0},0]
["22º",{"$f":"'dados campeões'!A15","v":"Carlos Febo"},{"$f":"'dados campeões'!C15","v":0},{"$f":"'dados campeões'!D15","v":0},{"$f":"'dados campeões'!E15","v":0},{"$f":"'dados campeões'!F15","v":0},{"$f":"'dados campeões'!B15","v":0},0]
["23º",{"$f":"'dados campeões'!A13","v":"Lucas Henrique"},{"$f":"'dados campeões'!C13","v":0},{"$f":"'dados campeões'!D13","v":0},{"$f":"'dados campeões'!E13","v":0},{"$f":"'dados campeões'!F13","v":0},{"$f":"'dados campeões'!B13","v":0},0]
["24º",{"$f":"'dados campeões'!A22","v":"Leonardo Vicente"},{"$f":"'dados campeões'!C22","v":0},{"$f":"'dados campeões'!D22","v":0},{"$f":"'dados campeões'!E22","v":0},{"$f":"'dados campeões'!F22","v":0},{"$f":"'dados campeões'!B22","v":0},0]
["25º",{"$f":"'dados campeões'!A19","v":"Lígia Waki"},{"$f":"'dados campeões'!C19","v":0},{"$f":"'dados campeões'!D19","v":0},{"$f":"'dados campeões'!E19","v":0},{"$f":"'dados campeões'!F19","v":0},{"$f":"'dados campeões'!B19","v":0},0]
["26º",{"$f":"'dados campeões'!A31","v":"Carlos Henrique"},{"$f":"'dados campeões'!C31","v":0},{"$f":"'dados campeões'!D31","v":0},{"$f":"'dados campeões'!E31","v":0},{"$f":"'dados campeões'!F31","v":0},{"$f":"'dados campeões'!B31","v":0},0]
["27º",{"$f":"'dados campeões'!A24","v":"Augusto Cesar"},{"$f":"'dados campeões'!C24","v":0},{"$f":"'dados campeões'!D24","v":0},{"$f":"'dados campeões'!E24","v":0},{"$f":"'dados campeões'!F24","v":0},{"$f":"'dados campeões'!B24","v":0},0]
["28º",{"$f":"'dados campeões'!A29","v":"Gabriel Nardy"},{"$f":"'dados campeões'!C29","v":0},{"$f":"'dados campeões'!D29","v":0},{"$f":"'dados campeões'!E29","v":0},{"$f":"'dados campeões'!F29","v":0},{"$f":"'dados campeões'!B29","v":0},0]
["29º",{"$f":"'dados campeões'!A28","v":"Ronaldo Massa"},{"$f":"'dados campeões'!C28","v":0},{"$f":"'dados campeões'!D28","v":0},{"$f":"'dados campeões'!E28","v":0},{"$f":"'dados campeões'!F28","v":0},{"$f":"'dados campeões'!B28","v":0},0]
["30º",{"$f":"'dados campeões'!A23","v":"José Gallasch"},{"$f":"'dados campeões'!C23","v":0},{"$f":"'dados campeões'!D23","v":0},{"$f":"'dados campeões'!E23","v":0},{"$f":"'dados campeões'!F23","v":0},{"$f":"'dados campeões'!B23","v":0},0]

{"sheet":"taças","index":3,"n_rows":33,"n_cols":8,"rows_kept":33,"cut":false,"hidden":true,"merged":[[2,0,2,1],[0,0,0,6]]}
["Vitórias Taças"]
[]
["BOTONISTA",null,"O","P","B","E","TOD"]
["1º",{"$f":"'dados taças'!A10","v":"Ismael Júnior"},{"$f":"'dados taças'!C10","v":2},{"$f":"'dados taças'!D10","v":2},{"$f":"'dados taças'!E10","v":0},{"$f":"'dados taças'!F10","v":0},{"$f":"'dados taças'!B10","v":8},{"$f":"C4*(1000000000)+D4*(1000000)+E4*(1000)+F4*(100)+G4*(1)","v":2002000008}]
["2º",{"$f":"'dados taças'!A7","v":"Celso de Assis"},{"$f":"'dados taças'!C7","v":2},{"$f":"'dados taças'!D7","v":1},{"$f":"'dados taças'!E7","v":0},{"$f":"'dados taças'!F7","v":0},{"$f":"'dados taças'!B7","v":8},2001000008]
["3º",{"$f":"'dados taças'!A4","v":"Márcio Costa"},{"$f":"'dados taças'!C4","v":2},{"$f":"'dados taças'!D4","v":0},{"$f":"'dados taças'!E4","v":0},{"$f":"'dados taças'!F4","v":0},{"$f":"'dados taças'!B4","v":7},2000000007]
["4º",{"$f":"'dados taças'!A20","v":"Serginho Castilho"},{"$f":"'dados taças'!C20","v":2},{"$f":"'dados taças'!D20","v":0},{"$f":"'dados taças'!E20","v":0},{"$f":"'dados taças'!F20","v":0},{"$f":"'dados taças'!B20","v":7},2000000007]
["5º",{"$f":"'dados taças'!A8","v":"Ricardo Nardy"},{"$f":"'dados taças'!C8","v":1},{"$f":"'dados taças'!D8","v":0},{"$f":"'dados taças'!E8","v":0},{"$f":"'dados taças'!F8","v":0},{"$f":"'dados taças'!B8","v":9},1000000009]
["6º",{"$f":"'dados taças'!A9","v":"Antonio Ribeiro"},{"$f":"'dados taças'!C9","v":0},{"$f":"'dados taças'!D9","v":2},{"$f":"'dados taças'!E9","v":0},{"$f":"'dados taças'!F9","v":0},{"$f":"'dados taças'!B9","v":9},2000009]
["7º",{"$f":"'dados taças'!A25","v":"Luiz Humberto"},{"$f":"'dados taças'!C25","v":0},{"$f":"'dados taças'!D25","v":1},{"$f":"'dados taças'!E25","v":1},{"$f":"'dados taças'!F25","v":0},{"$f":"'dados taças'!B25","v":2},1001002]
["8º",{"$f":"'dados taças'!A17","v":"Wilson Benevides"},{"$f":"'dados taças'!C17","v":0},{"$f":"'dados taças'!D17","v":1},{"$f":"'dados taças'!E17","v":0},{"$f":"'dados taças'!F17","v":0},{"$f":"'dados taças'!B17","v":9},1000009]
["9º",{"$f":"'dados taças'!A16","v":"Edson Fortuna "},{"$f":"'dados taças'!C16","v":0},{"$f":"'dados taças'!D16","v":1},{"$f":"'dados taças'!E16","v":0},{"$f":"'dados taças'!F16","v":0},{"$f":"'dados taças'!B16","v":7},1000007]
["10º",{"$f":"'dados taças'!A11","v":"Cristiano Paffrath"},{"$f":"'dados taças'!C11","v":0},{"$f":"'dados taças'!D11","v":1},{"$f":"'dados taças'!E11","v":0},{"$f":"'dados taças'!F11","v":0},{"$f":"'dados taças'!B11","v":3},1000003]
["11º",{"$f":"'dados taças'!A31","v":"Carlos Henrique"},{"$f":"'dados taças'!C31","v":0},{"$f":"'dados taças'!D31","v":0},{"$f":"'dados taças'!E31","v":1},{"$f":"'dados taças'!F31","v":1},{"$f":"'dados taças'!B31","v":2},1102]
["12º",{"$f":"'dados taças'!A12","v":"Gustavo Arcolini"},{"$f":"'dados taças'!C12","v":0},{"$f":"'dados taças'!D12","v":0},{"$f":"'dados taças'!E12","v":1},{"$f":"'dados taças'!F12","v":0},{"$f":"'dados taças'!B12","v":8},1008]
["13º",{"$f":"'dados taças'!A15","v":"Carlos Febo"},{"$f":"'dados taças'!C15","v":0},{"$f":"'dados taças'!D15","v":0},{"$f":"'dados taças'!E15","v":1},{"$f":"'dados taças'!F15","v":0},{"$f":"'dados taças'!B15","v":6},1006]
["14º",{"$f":"'dados taças'!A22","v":"Leonardo Vicente"},{"$f":"'dados taças'!C22","v":0},{"$f":"'dados taças'!D22","v":0},{"$f":"'dados taças'!E22","v":1},{"$f":"'dados taças'!F22","v":0},{"$f":"'dados taças'!B22","v":2},1002]
["15º",{"$f":"'dados taças'!A35","v":"Luiz Guilherme"},{"$f":"'dados taças'!C35","v":0},{"$f":"'dados taças'!D35","v":0},{"$f":"'dados taças'!E35","v":1},{"$f":"'dados taças'!F35","v":0},{"$f":"'dados taças'!B35","v":2},1002]
["16º",{"$f":"'dados taças'!A37","v":"César Rebecca"},{"$f":"'dados taças'!C37","v":0},{"$f":"'dados taças'!D37","v":0},{"$f":"'dados taças'!E37","v":1},{"$f":"'dados taças'!F37","v":0},{"$f":"'dados taças'!B37","v":2},1002]
["17º",{"$f":"'dados taças'!A28","v":"Ronaldo Massa"},{"$f":"'dados taças'!C28","v":0},{"$f":"'dados taças'!D28","v":0},{"$f":"'dados taças'!E28","v":1},{"$f":"'dados taças'!F28","v":0},{"$f":"'dados taças'!B28","v":1},1001]
["18º",{"$f":"'dados taças'!A21","v":"Luiz Antonio"},{"$f":"'dados taças'!C21","v":0},{"$f":"'dados taças'!D21","v":0},{"$f":"'dados taças'!E21","v":0},{"$f":"'dados taças'!F21","v":1},{"$f":"'dados taças'!B21","v":2},102]
["19º",{"$f":"'dados taças'!A34","v":"Márcio Guedes"},{"$f":"'dados taças'!C34","v":0},{"$f":"'dados taças'!D34","v":0},{"$f":"'dados taças'!E34","v":0},{"$f":"'dados taças'!F34","v":1},{"$f":"'dados taças'!B34","v":1},101]
["20º",{"$f":"'dados taças'!A18","v":"Michel Benevides"},{"$f":"'dados taças'!C18","v":0},{"$f":"'dados taças'!D18","v":0},{"$f":"'dados taças'!E18","v":0},{"$f":"'dados taças'!F18","v":0},{"$f":"'dados taças'!B18","v":9},9]
["21º",{"$f":"'dados taças'!A13","v":"Lucas Henrique"},{"$f":"'dados taças'!C13","v":0},{"$f":"'dados taças'!D13","v":0},{"$f":"'dados taças'!E13","v":0},{"$f":"'dados taças'!F13","v":0},{"$f":"'dados taças'!B13","v":5},5]
["22º",{"$f":"'dados taças'!A27","v":"João Felipe"},{"$f":"'dados taças'!C27","v":0},{"$f":"'dados taças'!D27","v":0},{"$f":"'dados taças'!E27","v":0},{"$f":"'dados taças'!F27","v":0},{"$f":"'dados taças'!B27","v":5},5]
["23º",{"$f":"'dados taças'!A6","v":"André Stancatti"},{"$f":"'dados taças'!C6","v":0},{"$f":"'dados taças'!D6","v":0},{"$f":"'dados taças'!E6","v":0},{"$f":"'dados taças'!F6","v":0},{"$f":"'dados taças'!B6","v":4},4]
["24º",{"$f":"'dados taças'!A19","v":"Lígia Waki"},{"$f":"'dados taças'!C19","v":0},{"$f":"'dados taças'!D19","v":0},{"$f":"'dados taças'!E19","v":0},{"$f":"'dados taças'!F19","v":0},{"$f":"'dados taças'!B19","v":4},4]
["25º",{"$f":"'dados taças'!A29","v":"Gabriel Nardy"},{"$f":"'dados taças'!C29","v":0},{"$f":"'dados taças'!D29","v":0},{"$f":"'dados taças'!E29","v":0},{"$f":"'dados taças'!F29","v":0},{"$f":"'dados taças'!B29","v":4},4]
["26º",{"$f":"'dados taças'!A30","v":"Raul Grizi"},{"$f":"'dados taças'!C30","v":0},{"$f":"'dados taças'!D30","v":0},{"$f":"'dados taças'!E30","v":0},{"$f":"'dados taças'!F30","v":0},{"$f":"'dados taças'!B30","v":4},4]
["27º",{"$f":"'dados taças'!A26","v":"Agnaldo Camelo"},{"$f":"'dados taças'!C26","v":0},{"$f":"'dados taças'!D26","v":0},{"$f":"'dados taças'!E26","v":0},{"$f":"'dados taças'!F26","v":0},{"$f":"'dados taças'!B26","v":2},2]
["28º",{"$f":"'dados taças'!A32","v":"Bryan Brinque"},{"$f":"'dados taças'!C32","v":0},{"$f":"'dados taças'!D32","v":0},{"$f":"'dados taças'!E32","v":0},{"$f":"'dados taças'!F32","v":0},{"$f":"'dados taças'!B32","v":1},1]
["29º",{"$f":"'dados taças'!A38","v":"Ricardo Benites"},{"$f":"'dados taças'!C38","v":0},{"$f":"'dados taças'!D38","v":0},{"$f":"'dados taças'!E38","v":0},{"$f":"'dados taças'!F38","v":0},{"$f":"'dados taças'!B38","v":1},1]
["30º",{"$f":"'dados taças'!A5","v":"Marcos Juliatto"},{"$f":"'dados taças'!C5","v":0},{"$f":"'dados taças'!D5","v":0},{"$f":"'dados taças'!E5","v":0},{"$f":"'dados taças'!F5","v":0},{"$f":"'dados taças'!B5","v":0},0]

{"sheet":"dados seletivo ","index":4,"n_rows":39,"n_cols":75,"rows_kept":39,"cut":false,"hidden":true,"merged":[[1,73,1,74],[0,0,1,0]]}
["seletivo ","JAN","FEV","MAR","ABR","MAI","JUN","JUL","AGO","SET","OUT","NOV",null,null,null,null,16]
[null,null,null,null,null,null,null,null,null,null,null,null,null,null,null,null,156,null,null,1,2,3,4,5,6,7,8,9,10,11,12,13,14,15,16,17,18,19,20,21,22,23,24,25,26,null,null,null,null,null,null,null,null,null,null,null,null,null,null,null,null,null,null,null,null,null,null,null,null,null,null,null,null,"SELETIVO"]
["BOTONISTA",null,null,null,null,null,null,null,null,null,null,null,null,null,null,null,"2009-12-16",null,null,100,96,92,88,84,80,77,74,71,68,65,62,60,58,56,54,52,50,49,48,47,46,45,44,43,42,null,1,2,3,4,5,6,7,8,9,10,11,12,13,14,15,16,17,18,19,20,21,22,23,24,25,26,null,"TOTAL","TOD"]
["Márcio Costa",null,null,null,null,null,null,null,null,null,null,null,null,null,null,null,null,null,null,{"$f":"COUNTIF(B4:Q4,\"1\")","v":0},{"$f":"COUNTIF(B4:Q4,\"2\")","v":0},{"$f":"COUNTIF(B4:Q4,\"3\")","v":0},{"$f":"COUNTIF(B4:Q4,\"4\")","v":0},{"$f":"COUNTIF(B4:Q4,\"5\")","v":0},{"$f":"COUNTIF(B4:Q4,\"6\")","v":0},{"$f":"COUNTIF(B4:Q4,\"7\")","v":0},{"$f":"COUNTIF(B4:Q4,\"8\")","v":0},{"$f":"COUNTIF(B4:Q4,\"9\")","v":0},{"$f":"COUNTIF(B4:Q4,\"10\")","v":0},{"$f":"COUNTIF(B4:Q4,\"11\")","v":0},{"$f":"COUNTIF(B4:Q4,\"12\")","v":0},{"$f":"COUNTIF(B4:Q4,\"13\")","v":0},{"$f":"COUNTIF(B4:Q4,\"14\")","v":0},{"$f":"COUNTIF(B4:Q4,\"15\")","v":0},{"$f":"COUNTIF(B4:Q4,\"16\")","v":0},{"$f":"COUNTIF(B4:Q4,\"17\")","v":0},{"$f":"COUNTIF(B4:Q4,\"18\")","v":0},{"$f":"COUNTIF(B4:Q4,\"19\")","v":0},{"$f":"COUNTIF(B4:Q4,\"20\")","v":0},{"$f":"COUNTIF(B4:Q4,\"21\")","v":0},{"$f":"COUNTIF(B4:Q4,\"22\")","v":0},{"$f":"COUNTIF(B4:Q4,\"23\")","v":0},{"$f":"COUNTIF(B4:Q4,\"24\")","v":0},null,null,null,{"$f":"PRODUCT(T4,T$3)","v":0},0,0,0,0,0,0,0,0,0,0,0,0,0,0,0,{"$f":"PRODUCT(AJ4,AJ$3)","v":0},{"$f":"PRODUCT(AK4,AK$3)","v":0},{"$f":"PRODUCT(AL4,AL$3)","v":0},0,0,0,0,0,null,null,null,{"$f":"SUM(AU4:BR4)","v":0},{"$f":"COUNT(B4:Q4)","v":0}]
["Marcos Juliatto",null,null,null,null,null,null,null,null,null,null,null,null,null,null,null,null,null,null,0,0,0,0,0,0,0,0,0,0,0,0,0,0,0,0,0,0,0,0,0,0,0,0,null,null,null,0,0,0,0,0,0,0,0,0,0,0,0,0,0,0,0,0,0,{"$f":"PRODUCT(AL5,AL$3)","v":0},{"$f":"PRODUCT(AM5,AM$3)","v":0},{"$f":"PRODUCT(AN5,AN$3)","v":0},{"$f":"PRODUCT(AO5,AO$3)","v":0},{"$f":"PRODUCT(AP5,AP$3)","v":0},{"$f":"PRODUCT(AQ5,AQ$3)","v":0},null,null,null,{"$f":"SUM(AU5:BR5)","v":0},0]
["André Stancatti",null,null,null,null,null,null,null,null,null,null,null,null,null,null,null,null,null,null,0,0,0,0,0,0,0,0,0,0,0,0,0,0,0,0,0,0,0,0,0,0,0,0,null,null,null,0,0,0,0,0,0,0,0,0,0,0,0,0,0,0,0,0,0,0,0,0,0,0,0,null,null,null,0,0]
["Celso de Assis",null,null,null,null,null,null,null,null,null,null,null,null,null,null,null,null,null,null,0,0,0,0,0,0,0,0,0,0,0,0,0,0,0,0,0,0,0,0,0,0,0,0,null,null,null,0,0,0,0,0,0,0,0,0,0,0,0,0,0,0,0,0,0,0,0,0,0,0,0,null,null,null,0,0]
["Ricardo Nardy",null,null,null,null,null,null,null,null,null,null,null,null,null,null,null,null,null,null,0,0,0,0,0,0,0,0,0,0,0,0,0,0,0,0,0,0,0,0,0,0,0,0,null,null,null,0,0,0,0,0,0,0,0,0,0,0,0,0,0,0,0,0,0,0,0,0,0,0,0,null,null,null,0,0]
["Antonio Ribeiro",null,null,null,null,null,null,null,null,null,null,null,null,null,null,null,null,null,null,0,0,0,0,0,0,0,0,0,0,0,0,0,0,0,0,0,0,0,0,0,0,0,0,null,null,null,0,0,0,0,0,0,0,0,0,0,0,0,0,0,0,0,0,0,0,0,0,0,0,0,null,null,null,0,0]
["Ismael Júnior",null,null,null,null,null,null,null,null,null,null,null,null,null,null,null,null,null,null,0,0,0,0,0,0,0,0,0,0,0,0,0,0,0,0,0,0,0,0,0,0,0,0,null,null,null,0,0,0,0,0,0,0,0,0,0,0,0,0,0,0,0,0,0,0,0,0,0,0,0,null,null,null,0,0]
["Cristiano Paffrath",null,null,null,null,null,null,null,null,null,null,null,null,null,null,null,null,null,null,0,0,0,0,0,0,0,0,0,0,0,0,0,0,0,0,0,0,0,0,0,0,0,0,null,null,null,0,0,0,0,0,0,0,0,0,0,0,0,0,0,0,0,0,0,0,0,0,0,0,0,null,null,null,0,0]
["Gustavo Arcolini",null,null,null,null,null,null,null,null,null,null,null,null,null,null,null,null,null,null,0,0,0,0,0,0,0,0,0,0,0,0,0,0,0,0,0,0,0,0,0,0,0,0,null,null,null,0,0,0,0,0,0,0,0,0,0,0,0,0,0,0,0,0,0,0,0,0,0,0,0,null,null,null,0,0]
["Lucas Henrique",null,null,null,null,null,null,null,null,null,null,null,null,null,null,null,null,null,null,0,0,0,0,0,0,0,0,0,0,0,0,0,0,0,0,0,0,0,0,0,0,0,0,null,null,null,0,0,0,0,0,0,0,0,0,0,0,0,0,0,0,0,0,0,0,0,0,0,0,0,null,null,null,0,0]
["Maurício Penteado",null,null,null,null,null,null,null,null,null,null,null,null,null,null,null,null,null,null,0,0,0,0,0,0,0,0,0,0,0,0,0,0,0,0,0,0,0,0,0,0,0,0,null,null,null,0,0,0,0,0,0,0,0,0,0,0,0,0,0,0,0,0,0,0,0,0,0,0,0,null,null,null,0,0]
["Carlos Febo",null,null,null,null,null,null,null,null,null,null,null,null,null,null,null,null,null,null,0,0,0,0,0,0,0,0,0,0,0,0,0,0,0,0,0,0,0,0,0,0,0,0,null,null,null,0,0,0,0,0,0,0,0,0,0,0,0,0,0,0,0,0,0,0,0,0,0,0,0,null,null,null,0,0]
["Edson Fortuna ",null,null,null,null,null,null,null,null,null,null,null,null,null,null,null,null,null,null,0,0,0,0,0,0,0,0,0,0,0,0,0,0,0,0,0,0,0,0,0,0,0,0,null,null,null,0,0,0,0,0,0,0,0,0,0,0,0,0,0,0,0,0,0,0,0,0,0,0,0,null,null,null,0,0]
["Wilson Benevides",null,null,null,null,null,null,null,null,null,null,null,null,null,null,null,null,null,null,0,0,0,0,0,0,0,0,0,0,0,0,0,0,0,0,0,0,0,0,0,0,0,0,null,null,null,0,0,0,0,0,0,0,0,0,0,0,0,0,0,0,0,0,0,0,0,0,0,0,0,null,null,null,0,0]
["Michel Benevides",null,null,null,null,null,null,null,null,null,null,null,null,null,null,null,null,null,null,0,0,0,0,0,0,0,0,0,0,0,0,0,0,0,0,0,0,0,0,0,0,0,0,null,null,null,0,0,0,0,0,0,0,0,0,0,0,0,0,0,0,0,0,0,0,0,0,0,0,0,null,null,null,0,0]
["Lígia Waki",null,null,null,null,null,null,null,null,null,null,null,null,null,null,null,null,null,null,0,0,0,0,0,0,0,0,0,0,0,0,0,0,0,0,0,0,0,0,0,0,0,0,null,null,null,0,0,0,0,0,0,0,0,0,0,0,0,0,0,0,{"$f":"PRODUCT(AI19,AI$3)","v":0},0,0,0,0,0,0,0,0,null,null,null,0,0]
["Serginho Castilho",null,null,null,null,null,null,null,null,null,null,null,null,null,null,null,null,null,null,0,0,0,0,0,0,0,0,0,0,0,0,0,0,0,0,0,0,0,0,0,0,0,0,null,null,null,{"$f":"PRODUCT(T20,T$3)","v":0},0,0,0,0,0,0,0,0,0,0,0,0,0,0,0,0,0,0,0,0,0,0,0,null,null,null,0,0]
["Luiz Antonio",null,null,null,null,null,null,null,null,null,null,null,null,null,null,null,null,null,null,0,0,0,0,0,0,0,0,0,0,0,0,0,0,0,0,0,0,0,0,0,0,0,0,null,null,null,0,0,0,0,0,0,0,0,0,0,0,0,0,0,0,0,0,0,0,0,0,0,0,0,null,null,null,0,0]
["Leonardo Vicente",null,null,null,null,null,null,null,null,null,null,null,null,null,null,null,null,null,null,0,0,0,0,0,0,0,0,0,0,0,0,0,0,0,0,0,0,0,0,0,0,0,0,null,null,null,0,0,0,0,0,0,0,0,0,0,0,0,0,0,0,0,0,0,0,0,0,0,0,0,null,null,null,0,0]
["José Gallasch",null,null,null,null,null,null,null,null,null,null,null,null,null,null,null,null,null,null,0,0,0,0,0,0,0,0,0,0,0,0,0,0,0,0,0,0,0,0,0,0,0,0,null,null,null,0,0,0,0,0,0,0,0,0,0,0,0,0,0,0,0,0,0,0,0,0,0,0,0,null,null,null,0,0]
["Augusto Cesar",null,null,null,null,null,null,null,null,null,null,null,null,null,null,null,null,null,null,0,0,0,0,0,0,0,0,0,0,0,0,0,0,0,0,0,0,0,0,0,0,0,0,null,null,null,0,0,0,0,0,0,0,0,0,0,0,0,0,0,0,0,0,0,0,0,0,0,0,0,null,null,null,0,0]
["Luiz Humberto",null,null,null,null,null,null,null,null,null,null,null,null,null,null,null,null,null,null,0,0,0,0,0,0,0,0,0,0,0,0,0,0,0,0,0,0,0,0,0,0,0,0,null,null,null,0,0,0,0,0,0,0,0,0,0,0,0,0,0,0,0,0,0,0,0,0,0,0,0,null,null,null,0,0]
["Agnaldo Camelo",null,null,null,null,null,null,null,null,null,null,null,null,null,null,null,null,null,null,0,0,0,0,0,0,0,0,0,0,0,0,0,0,0,0,0,0,0,0,0,0,0,0,null,null,null,0,0,0,0,0,0,0,0,0,0,0,0,0,0,0,0,0,0,0,0,0,0,0,0,null,null,null,0,0]
["João Felipe",null,null,null,null,null,null,null,null,null,null,null,null,null,null,null,null,null,null,0,0,0,0,0,0,0,0,0,0,0,0,0,0,0,0,0,0,0,0,0,0,0,0,null,null,null,{"$f":"PRODUCT(T27,T$3)","v":0},0,0,0,0,0,0,0,0,0,{"$f":"PRODUCT(AD27,AD$3)","v":0},0,0,0,0,0,0,0,0,0,0,0,0,0,null,null,null,0,0]
["Ronaldo Massa",null,null,null,null,null,null,null,null,null,null,null,null,null,null,null,null,null,null,{"$f":"COUNTIF(B28:Q28,\"1\")","v":0},{"$f":"COUNTIF(B28:Q28,\"2\")","v":0},{"$f":"COUNTIF(B28:Q28,\"3\")","v":0},{"$f":"COUNTIF(B28:Q28,\"4\")","v":0},{"$f":"COUNTIF(B28:Q28,\"5\")","v":0},{"$f":"COUNTIF(B28:Q28,\"6\")","v":0},{"$f":"COUNTIF(B28:Q28,\"7\")","v":0},{"$f":"COUNTIF(B28:Q28,\"8\")","v":0},{"$f":"COUNTIF(B28:Q28,\"9\")","v":0},{"$f":"COUNTIF(B28:Q28,\"10\")","v":0},{"$f":"COUNTIF(B28:Q28,\"11\")","v":0},{"$f":"COUNTIF(B28:Q28,\"12\")","v":0},{"$f":"COUNTIF(B28:Q28,\"13\")","v":0},{"$f":"COUNTIF(B28:Q28,\"14\")","v":0},{"$f":"COUNTIF(B28:Q28,\"15\")","v":0},{"$f":"COUNTIF(B28:Q28,\"16\")","v":0},{"$f":"COUNTIF(B28:Q28,\"17\")","v":0},{"$f":"COUNTIF(B28:Q28,\"18\")","v":0},{"$f":"COUNTIF(B28:Q28,\"19\")","v":0},{"$f":"COUNTIF(B28:Q28,\"20\")","v":0},{"$f":"COUNTIF(B28:Q28,\"21\")","v":0},{"$f":"COUNTIF(B28:Q28,\"22\")","v":0},{"$f":"COUNTIF(B28:Q28,\"23\")","v":0},{"$f":"COUNTIF(B28:Q28,\"24\")","v":0},null,null,null,0,0,0,0,0,0,0,0,0,0,0,0,0,0,0,0,0,0,{"$f":"PRODUCT(AL28,AL$3)","v":0},0,0,0,0,0,null,null,null,{"$f":"SUM(AU28:BR28)","v":0},{"$f":"COUNT(B28:Q28)","v":0}]
["Gabriel Nardy",null,null,null,null,null,null,null,null,null,null,null,null,null,null,null,null,null,null,0,0,0,0,0,0,0,0,0,0,0,0,0,0,0,0,0,0,0,0,0,0,0,0,null,null,null,0,0,0,0,0,0,0,0,0,0,0,0,0,0,0,0,0,0,0,0,0,0,0,0,null,null,null,0,0]
["Raul Grizi",null,null,null,null,null,null,null,null,null,null,null,null,null,null,null,null,null,null,0,0,0,0,0,0,0,0,0,0,0,0,0,0,0,0,0,0,0,0,0,0,0,0,null,null,null,0,0,0,0,0,0,0,0,0,0,0,0,0,0,0,0,0,0,0,0,0,0,0,0,null,null,null,0,0]
["Carlos Henrique",null,null,null,null,null,null,null,null,null,null,null,null,null,null,null,null,null,null,0,0,0,0,0,0,0,0,0,0,0,0,0,0,0,0,0,0,0,0,0,0,0,0,null,null,null,{"$f":"PRODUCT(T31,T$3)","v":0},0,0,0,0,0,0,0,0,0,0,0,0,0,0,0,0,0,0,0,0,0,0,0,null,null,null,0,0]
["Bryan Brinque",null,null,null,null,null,null,null,null,null,null,null,null,null,null,null,null,null,null,0,0,0,0,0,0,0,0,0,0,0,0,0,0,0,0,0,0,0,0,0,0,0,0,null,null,null,0,0,0,0,0,0,0,0,0,0,0,0,0,0,0,0,0,0,{"$f":"PRODUCT(AL32,AL$3)","v":0},0,0,0,0,0,null,null,null,0,0]
["Guilherme Simeira",null,null,null,null,null,null,null,null,null,null,null,null,null,null,null,null,null,null,0,0,0,0,0,0,0,0,0,0,0,0,0,0,0,0,0,0,0,0,0,0,0,0,null,null,null,{"$f":"PRODUCT(T33,T$3)","v":0},0,0,0,0,0,0,0,0,0,0,0,0,0,0,0,0,0,0,0,0,0,0,0,null,null,null,0,0]
["Márcio Guedes",null,null,null,null,null,null,null,null,null,null,null,null,null,null,null,null,null,null,{"$f":"COUNTIF(B34:Q34,\"1\")","v":0},{"$f":"COUNTIF(B34:Q34,\"2\")","v":0},{"$f":"COUNTIF(B34:Q34,\"3\")","v":0},{"$f":"COUNTIF(B34:Q34,\"4\")","v":0},{"$f":"COUNTIF(B34:Q34,\"5\")","v":0},{"$f":"COUNTIF(B34:Q34,\"6\")","v":0},{"$f":"COUNTIF(B34:Q34,\"7\")","v":0},{"$f":"COUNTIF(B34:Q34,\"8\")","v":0},{"$f":"COUNTIF(B34:Q34,\"9\")","v":0},{"$f":"COUNTIF(B34:Q34,\"10\")","v":0},{"$f":"COUNTIF(B34:Q34,\"11\")","v":0},{"$f":"COUNTIF(B34:Q34,\"12\")","v":0},{"$f":"COUNTIF(B34:Q34,\"13\")","v":0},{"$f":"COUNTIF(B34:Q34,\"14\")","v":0},{"$f":"COUNTIF(B34:Q34,\"15\")","v":0},{"$f":"COUNTIF(B34:Q34,\"16\")","v":0},{"$f":"COUNTIF(B34:Q34,\"17\")","v":0},{"$f":"COUNTIF(B34:Q34,\"18\")","v":0},{"$f":"COUNTIF(B34:Q34,\"19\")","v":0},{"$f":"COUNTIF(B34:Q34,\"20\")","v":0},{"$f":"COUNTIF(B34:Q34,\"21\")","v":0},{"$f":"COUNTIF(B34:Q34,\"22\")","v":0},{"$f":"COUNTIF(B34:Q34,\"23\")","v":0},{"$f":"COUNTIF(B34:Q34,\"24\")","v":0},null,null,null,{"$f":"PRODUCT(T34,T$3)","v":0},0,0,0,0,0,0,0,0,0,0,0,0,0,0,0,0,0,0,0,0,0,0,0,null,null,null,{"$f":"SUM(AU34:BR34)","v":0},{"$f":"COUNT(B34:Q34)","v":0}]
["Luiz Guilherme",null,null,null,null,null,null,null,null,null,null,null,null,null,null,null,null,null,null,0,0,0,0,0,0,0,0,0,0,0,0,0,0,0,0,0,0,0,0,0,0,0,0,null,null,null,{"$f":"PRODUCT(T35,T$3)","v":0},0,0,0,0,0,0,0,0,0,0,0,0,0,0,0,0,0,0,0,0,0,0,0,null,null,null,0,0]
["Luiz Felipe",null,null,null,null,null,null,null,null,null,null,null,null,null,null,null,null,null,null,0,0,0,0,0,0,0,0,0,0,0,0,0,0,0,0,0,0,0,0,0,0,0,0,null,null,null,{"$f":"PRODUCT(T36,T$3)","v":0},0,0,0,0,0,0,0,0,0,0,0,0,0,0,0,0,0,0,0,0,0,0,0,null,null,null,0,0]
["César Rebecca",null,null,null,null,null,null,null,null,null,null,null,null,null,null,null,null,null,null,0,0,0,0,0,0,0,0,0,0,0,0,0,0,0,0,0,0,0,0,0,0,0,0,null,null,null,{"$f":"PRODUCT(T37,T$3)","v":0},0,0,0,0,0,0,0,0,0,{"$f":"PRODUCT(AD37,AD$3)","v":0},0,0,0,0,0,0,0,0,0,{"$f":"PRODUCT(AN37,AN$3)","v":0},0,0,0,null,null,null,0,0]
["Ricardo Benites",null,null,null,null,null,null,null,null,null,null,null,null,null,null,null,null,null,null,0,0,0,0,0,0,0,0,0,0,0,0,0,0,0,0,0,0,0,0,0,0,0,0,null,null,null,0,0,0,0,0,0,0,0,0,0,0,0,0,0,0,0,0,0,0,0,0,0,0,0,null,null,null,0,0]
["Juliano Borges",null,null,null,null,null,null,null,null,null,null,null,null,null,null,null,null,null,null,0,0,0,0,0,0,0,0,0,0,0,0,0,0,0,0,0,0,0,0,0,0,0,0,null,null,null,{"$f":"PRODUCT(T39,T$3)","v":0},0,0,0,0,0,0,0,0,0,0,0,0,0,0,0,0,0,0,0,0,0,0,0,null,null,null,0,0]

{"sheet":"TACAS","index":5,"n_rows":33,"n_cols":35,"rows_kept":33,"cut":false,"hidden":true,"merged":[[0,0,0,6]]}
["CAMPEÕES TAÇAS"]
[]
[null,"BOTONISTA","TD","O","P","B","E"]
["1º",{"$f":"'(dados) TAÇAS'!B11","v":"Celso de Assis"},{"$f":"'(dados) TAÇAS'!C11","v":10},{"$f":"'(dados) TAÇAS'!D11","v":3},{"$f":"'(dados) TAÇAS'!E11","v":1},{"$f":"'(dados) TAÇAS'!F11","v":0},{"$f":"'(dados) TAÇAS'!G11","v":0},{"$f":"D4*(1000000000)+E4*(1000000)+F4*(1000)+G4*(100)+C4*(10)","v":3001000100},null,null,null,null,null,null,null,null,null,null,null,null,null,null,null,null,null,null,null,null,null,null,null,null,null,null,"►"]
["2º",{"$f":"'(dados) TAÇAS'!B20","v":"Ismael Júnior"},{"$f":"'(dados) TAÇAS'!C20","v":9},{"$f":"'(dados) TAÇAS'!D20","v":2},{"$f":"'(dados) TAÇAS'!E20","v":2},{"$f":"'(dados) TAÇAS'!F20","v":0},{"$f":"'(dados) TAÇAS'!G20","v":0},2002000090,null,null,null,null,null,null,null,null,null,null,null,null,null,null,null,null,null,null,null,null,null,null,null,null,null,null,"▲"]
["3º",{"$f":"'(dados) TAÇAS'!B33","v":"Márcio Costa"},{"$f":"'(dados) TAÇAS'!C33","v":9},{"$f":"'(dados) TAÇAS'!D33","v":2},{"$f":"'(dados) TAÇAS'!E33","v":0},{"$f":"'(dados) TAÇAS'!F33","v":0},{"$f":"'(dados) TAÇAS'!G33","v":0},2000000090,null,"O","vitórias na ouro",null,null,null,null,null,null,null,null,null,null,null,null,null,null,null,null,null,null,null,null,null,null,null,"▼"]
["4º",{"$f":"'(dados) TAÇAS'!B43","v":"Ricardo Nardy"},{"$f":"'(dados) TAÇAS'!C43","v":11},{"$f":"'(dados) TAÇAS'!D43","v":1},{"$f":"'(dados) TAÇAS'!E43","v":0},{"$f":"'(dados) TAÇAS'!F43","v":0},{"$f":"'(dados) TAÇAS'!G43","v":0},1000000110,null,"P","vitórias na prata"]
["5º",{"$f":"'(dados) TAÇAS'!B6","v":"Antonio Ribeiro"},{"$f":"'(dados) TAÇAS'!C6","v":10},{"$f":"'(dados) TAÇAS'!D6","v":0},{"$f":"'(dados) TAÇAS'!E6","v":2},{"$f":"'(dados) TAÇAS'!F6","v":0},{"$f":"'(dados) TAÇAS'!G6","v":0},2000100,null,"B","vitórias na bronze"]
["6º",{"$f":"'(dados) TAÇAS'!B14","v":"Edson Fortuna "},{"$f":"'(dados) TAÇAS'!C14","v":8},{"$f":"'(dados) TAÇAS'!D14","v":0},{"$f":"'(dados) TAÇAS'!E14","v":2},{"$f":"'(dados) TAÇAS'!F14","v":0},{"$f":"'(dados) TAÇAS'!G14","v":0},2000080,null,"E","vitórias na extra"]
["7º",{"$f":"'(dados) TAÇAS'!B18","v":"Gustavo Arcolini"},{"$f":"'(dados) TAÇAS'!C18","v":10},{"$f":"'(dados) TAÇAS'!D18","v":0},{"$f":"'(dados) TAÇAS'!E18","v":1},{"$f":"'(dados) TAÇAS'!F18","v":1},{"$f":"'(dados) TAÇAS'!G18","v":0},1001100,null,"TD","taças disputadas"]
["8º",{"$f":"'(dados) TAÇAS'!B47","v":"Wilson Benevides"},{"$f":"'(dados) TAÇAS'!C47","v":11},{"$f":"'(dados) TAÇAS'!D47","v":0},{"$f":"'(dados) TAÇAS'!E47","v":1},{"$f":"'(dados) TAÇAS'!F47","v":0},{"$f":"'(dados) TAÇAS'!G47","v":0},1000110]
["9º",{"$f":"'(dados) TAÇAS'!B12","v":"César Rebecca"},{"$f":"'(dados) TAÇAS'!C12","v":3},{"$f":"'(dados) TAÇAS'!D12","v":0},{"$f":"'(dados) TAÇAS'!E12","v":0},{"$f":"'(dados) TAÇAS'!F12","v":1},{"$f":"'(dados) TAÇAS'!G12","v":0},1030]
["10º","Lucas Henrique",{"$f":"'(dados) TAÇAS'!C28","v":5},{"$f":"'(dados) TAÇAS'!D28","v":0},{"$f":"'(dados) TAÇAS'!E28","v":0},{"$f":"'(dados) TAÇAS'!F28","v":0},{"$f":"'(dados) TAÇAS'!G28","v":0},50]
["11º","André Stancatti",{"$f":"'(dados) TAÇAS'!C5","v":4},{"$f":"'(dados) TAÇAS'!D5","v":0},{"$f":"'(dados) TAÇAS'!E5","v":0},{"$f":"'(dados) TAÇAS'!F5","v":0},{"$f":"'(dados) TAÇAS'!G5","v":0},40]
["12º",{"$f":"'(dados) TAÇAS'!B40","v":"Paulo César"},{"$f":"'(dados) TAÇAS'!C40","v":1},{"$f":"'(dados) TAÇAS'!D40","v":0},{"$f":"'(dados) TAÇAS'!E40","v":0},{"$f":"'(dados) TAÇAS'!F40","v":0},{"$f":"'(dados) TAÇAS'!G40","v":0},10]
["13º",{"$f":"'(dados) TAÇAS'!B19","v":"Henrique Laitano"},{"$f":"'(dados) TAÇAS'!C19","v":1},{"$f":"'(dados) TAÇAS'!D19","v":0},{"$f":"'(dados) TAÇAS'!E19","v":0},{"$f":"'(dados) TAÇAS'!F19","v":0},{"$f":"'(dados) TAÇAS'!G19","v":0},10]
["14º",{"$f":"'(dados) TAÇAS'!B15","v":"Fábio Chelio"},{"$f":"'(dados) TAÇAS'!C15","v":1},{"$f":"'(dados) TAÇAS'!D15","v":0},{"$f":"'(dados) TAÇAS'!E15","v":0},{"$f":"'(dados) TAÇAS'!F15","v":0},{"$f":"'(dados) TAÇAS'!G15","v":0},10]
["15º",{"$f":"'(dados) TAÇAS'!B38","v":"Mauro Figueiredo"},{"$f":"'(dados) TAÇAS'!C38","v":1},{"$f":"'(dados) TAÇAS'!D38","v":0},{"$f":"'(dados) TAÇAS'!E38","v":0},{"$f":"'(dados) TAÇAS'!F38","v":0},{"$f":"'(dados) TAÇAS'!G38","v":0},10]
["16º",{"$f":"'(dados) TAÇAS'!B44","v":"Rodrigo Cisoto"},{"$f":"'(dados) TAÇAS'!C44","v":1},{"$f":"'(dados) TAÇAS'!D44","v":0},{"$f":"'(dados) TAÇAS'!E44","v":0},{"$f":"'(dados) TAÇAS'!F44","v":0},{"$f":"'(dados) TAÇAS'!G44","v":0},10]
["17º","José Henrique",{"$f":"'(dados) TAÇAS'!C25","v":0},{"$f":"'(dados) TAÇAS'!D25","v":0},{"$f":"'(dados) TAÇAS'!E25","v":0},{"$f":"'(dados) TAÇAS'!F25","v":0},{"$f":"'(dados) TAÇAS'!G25","v":0},0]
[null,null,null,null,null,null,null,0]
[null,null,null,null,null,null,null,0]
[null,null,null,null,null,null,null,0]
[null,null,null,null,null,null,null,0]
[null,null,null,null,null,null,null,0]
[null,null,null,null,null,null,null,0]
[null,null,null,null,null,null,null,0]
[null,null,null,null,null,null,null,0]
[null,null,null,null,null,null,null,0]
[null,null,null,null,null,null,null,0]
[null,null,null,null,null,null,null,0]
[null,null,null,null,null,null,null,0]
[null,null,null,null,null,null,null,0]

{"sheet":"(dados) 2013","index":6,"n_rows":24,"n_cols":277,"rows_kept":24,"cut":false,"hidden":false,"merged":[[24,39,24,41],[25,39,25,41],[25,14,25,16],[24,14,24,16]]}
["PARTICIPANTES",8,null,8,null,8,null,8,null,null,5,null,8,null,5,null,6,null,6,null,7,null,2,null,4,null,3,null,null,0]
[null,"TORNEIO","QUARTA","TORNEIO","QUARTA","TORNEIO","QUARTA","TORNEIO","QUARTA","QUARTA","TORNEIO","QUARTA","TORNEIO","QUARTA","TORNEIO","QUARTA","TORNEIO","QUARTA","TORNEIO","QUARTA","TORNEIO","QUARTA","TORNEIO","QUARTA","TORNEIO","QUARTA","TORNEIO","QUARTA","TORNEIO","TORNEIO","QUARTA","TORNEIO",null,null,null,null,null,null,null,null,null,null,null,null,4,null,null,null,null,5,null,null,null,null,null,6,null,null,null,null,null,null,7,null,null,null,null,null,null,null,8,null,null,null,null,null,null,null,null,9,null,null,null,null,null,null,null,null,null,10,null,null,null,null,null,null,null,null,null,null,11,null,null,null,null,null,null,null,null,null,null,null,12,null,null,null,null,null,null,null,null,null,null,null,null,13,null,null,null,null,null,null,null,null,null,null,null,null,null,14,null,null,null,null,null,null,null,null,null,null,null,null,null,null,15,null,null,null,null,null,null,null,null,null,null,null,null,null,null,null,16,null,null,null,null,null,null,null,null,null,null,null,null,null,null,null,null,17,null,null,null,null,null,null,null,null,null,null,null,null,null,null,null,null,null,18,null,null,null,null,null,null,null,null,null,null,null,null,null,null,null,null,null,null,19,null,null,null,null,null,null,null,null,null,null,null,null,null,null,null,null,null,null,null,20]
[null,210,"LIVRE",211,"LIVRE",212,"LIVRE",213,"LIVRE","LIVRE",214,"LIVRE",215,"LIVRE",216,"LIVRE",217,"LIVRE",218,"LIVRE",219,"LIVRE",220,"LIVRE",221,"LIVRE",222,"LIVRE",223,224,"LIVRE",225,null,null,null,null,null,null,null,null,null,null,null,null,10,8,6,5,null,11,9,7,6,5,null,12,10,8,7,6,5,null,13,11,9,8,7,6,5,null,14,12,10,9,8,7,6,5,null,15,13,11,10,9,8,7,6,5,null,16,14,12,11,10,9,8,7,6,5,null,17,15,13,12,11,10,9,8,7,6,5,null,18,16,14,13,12,11,10,9,8,7,6,5,null,19,17,15,14,13,12,11,10,9,8,7,6,5,null,20,18,16,15,14,13,12,11,10,9,8,7,6,5,null,21,19,17,16,15,14,13,12,11,10,9,8,7,6,5,null,22,20,18,17,16,15,14,13,12,11,10,9,8,7,6,5,null,23,21,19,18,17,16,15,14,13,12,11,10,9,8,7,6,5,null,24,22,20,19,18,17,16,15,14,13,12,11,10,9,8,7,6,5,null,25,23,21,20,19,18,17,16,15,14,13,12,11,10,9,8,7,6,5,null,26,24,22,21,20,19,18,17,16,15,14,13,12,11,10,9,8,7,6,5,null,"TORNEIO",null,null,null,"Q LIVRE",null,null,null,null,"PODIUM"]
[null,"2013-02-06","2013-02-13","2013-02-20","2013-02-27","2013-03-06","2013-03-13","2013-03-20","2013-03-27","2013-04-03","2013-04-10","2013-04-17","2013-04-24","2013-05-01","2013-05-08","2013-05-15","2013-05-22","2013-05-29","2013-06-05","2013-06-12","2013-06-19","2013-06-26","2013-07-03","2013-07-10","2013-08-07","2013-08-14","2013-08-21","2013-08-28","2013-09-04","2013-09-11","2013-09-18","2013-09-25",null,null,null,null,null,null,null,null,null,null,null,null,1,2,3,4,null,1,2,3,4,5,null,1,2,3,4,5,6,null,1,2,3,4,5,6,7,null,1,2,3,4,5,6,7,8,null,1,2,3,4,5,6,7,8,9,null,1,2,3,4,5,6,7,8,9,10,null,1,2,3,4,5,6,7,8,9,10,11,null,1,2,3,4,5,6,7,8,9,10,11,12,null,1,2,3,4,5,6,7,8,9,10,11,12,13,null,1,2,3,4,5,6,7,8,9,10,11,12,13,14,null,1,2,3,4,5,6,7,8,9,10,11,12,13,14,15,null,1,2,3,4,5,6,7,8,9,10,11,12,13,14,15,16,null,1,2,3,4,5,6,7,8,9,10,11,12,13,14,15,16,17,null,1,2,3,4,5,6,7,8,9,10,11,12,13,14,15,16,17,18,null,1,2,3,4,5,6,7,8,9,10,11,12,13,14,15,16,17,18,19,null,1,2,3,4,5,6,7,8,9,10,11,12,13,14,15,16,17,18,19,20,null,"PT","JG","V",null,"JG","PT",null,"TOTAL",null,"1º","2º","3º"]
["ANTONIO RIBEIRO",7,"OK",6,"OK",5,"OK",8,null,"OK",2,"OK",7,"OK",2,"OK",2,null,3,"OK",1,"OK",1,"OK",3,"OK",2,"OK",null,null,"OK",null,null,null,null,null,null,null,null,null,null,null,null,null,{"$f":"COUNTIFS($B5:$AQ5,\"=1\",$B$1:$AQ$1,\"=4\")*AS$3","v":0},{"$f":"COUNTIFS($B5:$AQ5,\"=2\",$B$1:$AQ$1,\"=4\")*AT$3","v":0},{"$f":"COUNTIFS($B5:$AQ5,\"=3\",$B$1:$AQ$1,\"=4\")*AU$3","v":6},{"$f":"COUNTIFS($B5:$AQ5,\"=4\",$B$1:$AQ$1,\"=4\")*AV$3","v":0},null,{"$f":"COUNTIFS($B5:$AQ5,\"=1\",$B$1:$AQ$1,\"=5\")*AX$3","v":0},{"$f":"COUNTIFS($B5:$AQ5,\"=2\",$B$1:$AQ$1,\"=5\")*AY$3","v":18},{"$f":"COUNTIFS($B5:$AQ5,\"=3\",$B$1:$AQ$1,\"=5\")*AZ$3","v":0},{"$f":"COUNTIFS($B5:$AQ5,\"=4\",$B$1:$AQ$1,\"=5\")*BA$3","v":0},{"$f":"COUNTIFS($B5:$AQ5,\"=5\",$B$1:$AQ$1,\"=5\")*BB$3","v":0},null,{"$f":"COUNTIFS($B5:$AQ5,\"=1\",$B$1:$AQ$1,\"=6\")*BD$3","v":0},{"$f":"COUNTIFS($B5:$AQ5,\"=2\",$B$1:$AQ$1,\"=6\")*BE$3","v":10},{"$f":"COUNTIFS($B5:$AQ5,\"=3\",$B$1:$AQ$1,\"=6\")*BF$3","v":8},{"$f":"COUNTIFS($B5:$AQ5,\"=4\",$B$1:$AQ$1,\"=6\")*BG$3","v":0},{"$f":"COUNTIFS($B5:$AQ5,\"=5\",$B$1:$AQ$1,\"=6\")*BH$3","v":0},{"$f":"COUNTIFS($B5:$AQ5,\"=6\",$B$1:$AQ$1,\"=6\")*BI$3","v":0},null,{"$f":"COUNTIFS($B5:$AQ5,\"=1\",$B$1:$AQ$1,\"=7\")*BK$3","v":13},{"$f":"COUNTIFS($B5:$AQ5,\"=2\",$B$1:$AQ$1,\"=7\")*BL$3","v":0},{"$f":"COUNTIFS($B5:$AQ5,\"=3\",$B$1:$AQ$1,\"=7\")*BM$3","v":0},{"$f":"COUNTIFS($B5:$AQ5,\"=4\",$B$1:$AQ$1,\"=7\")*BN$3","v":0},{"$f":"COUNTIFS($B5:$AQ5,\"=5\",$B$1:$AQ$1,\"=7\")*BO$3","v":0},{"$f":"COUNTIFS($B5:$AQ5,\"=6\",$B$1:$AQ$1,\"=7\")*BP$3","v":0},{"$f":"COUNTIFS($B5:$AQ5,\"=7\",$B$1:$AQ$1,\"=7\")*BQ$3","v":0},null,{"$f":"COUNTIFS($B5:$AQ5,\"=1\",$B$1:$AQ$1,\"=8\")*BS$3","v":0},{"$f":"COUNTIFS($B5:$AQ5,\"=2\",$B$1:$AQ$1,\"=8\")*BT$3","v":0},{"$f":"COUNTIFS($B5:$AQ5,\"=3\",$B$1:$AQ$1,\"=8\")*BU$3","v":0},{"$f":"COUNTIFS($B5:$AQ5,\"=4\",$B$1:$AQ$1,\"=8\")*BV$3","v":0},{"$f":"COUNTIFS($B5:$AQ5,\"=5\",$B$1:$AQ$1,\"=8\")*BW$3","v":8},{"$f":"COUNTIFS($B5:$AQ5,\"=6\",$B$1:$AQ$1,\"=8\")*BX$3","v":7},{"$f":"COUNTIFS($B5:$AQ5,\"=7\",$B$1:$AQ$1,\"=8\")*BY$3","v":12},{"$f":"COUNTIFS($B5:$AQ5,\"=8\",$B$1:$AQ$1,\"=8\")*BZ$3","v":5},null,{"$f":"COUNTIFS($B5:$AQ5,\"=1\",$B$1:$AQ$1,\"=9\")*CB$3","v":0},{"$f":"COUNTIFS($B5:$AQ5,\"=2\",$B$1:$AQ$1,\"=9\")*CC$3","v":0},{"$f":"COUNTIFS($B5:$AQ5,\"=3\",$B$1:$AQ$1,\"=9\")*CD$3","v":0},{"$f":"COUNTIFS($B5:$AQ5,\"=4\",$B$1:$AQ$1,\"=9\")*CE$3","v":0},{"$f":"COUNTIFS($B5:$AQ5,\"=5\",$B$1:$AQ$1,\"=9\")*CF$3","v":0},{"$f":"COUNTIFS($B5:$AQ5,\"=6\",$B$1:$AQ$1,\"=9\")*CG$3","v":0},{"$f":"COUNTIFS($B5:$AQ5,\"=7\",$B$1:$AQ$1,\"=9\")*CH$3","v":0},{"$f":"COUNTIFS($B5:$AQ5,\"=8\",$B$1:$AQ$1,\"=9\")*CI$3","v":0},{"$f":"COUNTIFS($B5:$AQ5,\"=9\",$B$1:$AQ$1,\"=9\")*CJ$3","v":0},null,{"$f":"COUNTIFS($B5:$AQ5,\"=1\",$B$1:$AQ$1,\"=10\")*CL$3","v":0},{"$f":"COUNTIFS($B5:$AQ5,\"=2\",$B$1:$AQ$1,\"=10\")*CM$3","v":0},{"$f":"COUNTIFS($B5:$AQ5,\"=3\",$B$1:$AQ$1,\"=10\")*CN$3","v":0},{"$f":"COUNTIFS($B5:$AQ5,\"=4\",$B$1:$AQ$1,\"=10\")*CO$3","v":0},{"$f":"COUNTIFS($B5:$AQ5,\"=5\",$B$1:$AQ$1,\"=10\")*CP$3","v":0},{"$f":"COUNTIFS($B5:$AQ5,\"=6\",$B$1:$AQ$1,\"=10\")*CQ$3","v":0},{"$f":"COUNTIFS($B5:$AQ5,\"=7\",$B$1:$AQ$1,\"=10\")*CR$3","v":0},{"$f":"COUNTIFS($B5:$AQ5,\"=8\",$B$1:$AQ$1,\"=10\")*CS$3","v":0},{"$f":"COUNTIFS($B5:$AQ5,\"=9\",$B$1:$AQ$1,\"=10\")*CT$3","v":0},{"$f":"COUNTIFS($B5:$AQ5,\"=10\",$B$1:$AQ$1,\"=10\")*CU$3","v":0},null,{"$f":"COUNTIFS($B5:$AQ5,\"=1\",$B$1:$AQ$1,\"=11\")*CW$3","v":0},{"$f":"COUNTIFS($B5:$AQ5,\"=2\",$B$1:$AQ$1,\"=11\")*CX$3","v":0},{"$f":"COUNTIFS($B5:$AQ5,\"=3\",$B$1:$AQ$1,\"=11\")*CY$3","v":0},{"$f":"COUNTIFS($B5:$AQ5,\"=4\",$B$1:$AQ$1,\"=11\")*CZ$3","v":0},{"$f":"COUNTIFS($B5:$AQ5,\"=5\",$B$1:$AQ$1,\"=11\")*DA$3","v":0},{"$f":"COUNTIFS($B5:$AQ5,\"=6\",$B$1:$AQ$1,\"=11\")*DB$3","v":0},{"$f":"COUNTIFS($B5:$AQ5,\"=7\",$B$1:$AQ$1,\"=11\")*DC$3","v":0},{"$f":"COUNTIFS($B5:$AQ5,\"=8\",$B$1:$AQ$1,\"=11\")*DD$3","v":0},{"$f":"COUNTIFS($B5:$AQ5,\"=9\",$B$1:$AQ$1,\"=11\")*DE$3","v":0},{"$f":"COUNTIFS($B5:$AQ5,\"=10\",$B$1:$AQ$1,\"=11\")*DF$3","v":0},{"$f":"COUNTIFS($B5:$AQ5,\"=11\",$B$1:$AQ$1,\"=11\")*DG$3","v":0},null,{"$f":"COUNTIFS($B5:$AQ5,\"=1\",$B$1:$AQ$1,\"=12\")*DI$3","v":0},{"$f":"COUNTIFS($B5:$AQ5,\"=2\",$B$1:$AQ$1,\"=12\")*DJ$3","v":0},{"$f":"COUNTIFS($B5:$AQ5,\"=3\",$B$1:$AQ$1,\"=12\")*DK$3","v":0},{"$f":"COUNTIFS($B5:$AQ5,\"=4\",$B$1:$AQ$1,\"=12\")*DL$3","v":0},{"$f":"COUNTIFS($B5:$AQ5,\"=5\",$B$1:$AQ$1,\"=12\")*DM$3","v":0},{"$f":"COUNTIFS($B5:$AQ5,\"=6\",$B$1:$AQ$1,\"=12\")*DN$3","v":0},{"$f":"COUNTIFS($B5:$AQ5,\"=7\",$B$1:$AQ$1,\"=12\")*DO$3","v":0},{"$f":"COUNTIFS($B5:$AQ5,\"=8\",$B$1:$AQ$1,\"=12\")*DP$3","v":0},{"$f":"COUNTIFS($B5:$AQ5,\"=9\",$B$1:$AQ$1,\"=12\")*DQ$3","v":0},{"$f":"COUNTIFS($B5:$AQ5,\"=10\",$B$1:$AQ$1,\"=12\")*DR$3","v":0},{"$f":"COUNTIFS($B5:$AQ5,\"=11\",$B$1:$AQ$1,\"=12\")*DS$3","v":0},{"$f":"COUNTIFS($B5:$AQ5,\"=12\",$B$1:$AQ$1,\"=12\")*DT$3","v":0},null,{"$f":"COUNTIFS($B5:$AQ5,\"=1\",$B$1:$AQ$1,\"=13\")*DV$3","v":0},{"$f":"COUNTIFS($B5:$AQ5,\"=2\",$B$1:$AQ$1,\"=13\")*DW$3","v":0},{"$f":"COUNTIFS($B5:$AQ5,\"=3\",$B$1:$AQ$1,\"=13\")*DX$3","v":0},{"$f":"COUNTIFS($B5:$AQ5,\"=4\",$B$1:$AQ$1,\"=13\")*DY$3","v":0},{"$f":"COUNTIFS($B5:$AQ5,\"=5\",$B$1:$AQ$1,\"=13\")*DZ$3","v":0},{"$f":"COUNTIFS($B5:$AQ5,\"=6\",$B$1:$AQ$1,\"=13\")*EA$3","v":0},{"$f":"COUNTIFS($B5:$AQ5,\"=7\",$B$1:$AQ$1,\"=13\")*EB$3","v":0},{"$f":"COUNTIFS($B5:$AQ5,\"=8\",$B$1:$AQ$1,\"=13\")*EC$3","v":0},{"$f":"COUNTIFS($B5:$AQ5,\"=9\",$B$1:$AQ$1,\"=13\")*ED$3","v":0},{"$f":"COUNTIFS($B5:$AQ5,\"=10\",$B$1:$AQ$1,\"=13\")*EE$3","v":0},{"$f":"COUNTIFS($B5:$AQ5,\"=11\",$B$1:$AQ$1,\"=13\")*EF$3","v":0},{"$f":"COUNTIFS($B5:$AQ5,\"=12\",$B$1:$AQ$1,\"=13\")*EG$3","v":0},{"$f":"COUNTIFS($B5:$AQ5,\"=13\",$B$1:$AQ$1,\"=13\")*EH$3","v":0},null,{"$f":"COUNTIFS($B5:$AQ5,\"=1\",$B$1:$AQ$1,\"=14\")*EJ$3","v":0},{"$f":"COUNTIFS($B5:$AQ5,\"=2\",$B$1:$AQ$1,\"=14\")*EK$3","v":0},{"$f":"COUNTIFS($B5:$AQ5,\"=3\",$B$1:$AQ$1,\"=14\")*EL$3","v":0},{"$f":"COUNTIFS($B5:$AQ5,\"=4\",$B$1:$AQ$1,\"=14\")*EM$3","v":0},{"$f":"COUNTIFS($B5:$AQ5,\"=5\",$B$1:$AQ$1,\"=14\")*EN$3","v":0},{"$f":"COUNTIFS($B5:$AQ5,\"=6\",$B$1:$AQ$1,\"=14\")*EO$3","v":0},{"$f":"COUNTIFS($B5:$AQ5,\"=7\",$B$1:$AQ$1,\"=14\")*EP$3","v":0},{"$f":"COUNTIFS($B5:$AQ5,\"=8\",$B$1:$AQ$1,\"=14\")*EQ$3","v":0},{"$f":"COUNTIFS($B5:$AQ5,\"=9\",$B$1:$AQ$1,\"=14\")*ER$3","v":0},{"$f":"COUNTIFS($B5:$AQ5,\"=10\",$B$1:$AQ$1,\"=14\")*ES$3","v":0},{"$f":"COUNTIFS($B5:$AQ5,\"=11\",$B$1:$AQ$1,\"=14\")*ET$3","v":0},{"$f":"COUNTIFS($B5:$AQ5,\"=12\",$B$1:$AQ$1,\"=14\")*EU$3","v":0},{"$f":"COUNTIFS($B5:$AQ5,\"=13\",$B$1:$AQ$1,\"=14\")*EV$3","v":0},{"$f":"COUNTIFS($B5:$AQ5,\"=14\",$B$1:$AQ$1,\"=14\")*EW$3","v":0},null,{"$f":"COUNTIFS($B5:$AQ5,\"=1\",$B$1:$AQ$1,\"=15\")*EY$3","v":0},{"$f":"COUNTIFS($B5:$AQ5,\"=2\",$B$1:$AQ$1,\"=15\")*EZ$3","v":0},{"$f":"COUNTIFS($B5:$AQ5,\"=3\",$B$1:$AQ$1,\"=15\")*FA$3","v":0},{"$f":"COUNTIFS($B5:$AQ5,\"=4\",$B$1:$AQ$1,\"=15\")*FB$3","v":0},{"$f":"COUNTIFS($B5:$AQ5,\"=5\",$B$1:$AQ$1,\"=15\")*FC$3","v":0},{"$f":"COUNTIFS($B5:$AQ5,\"=6\",$B$1:$AQ$1,\"=15\")*FD$3","v":0},{"$f":"COUNTIFS($B5:$AQ5,\"=7\",$B$1:$AQ$1,\"=15\")*FE$3","v":0},{"$f":"COUNTIFS($B5:$AQ5,\"=8\",$B$1:$AQ$1,\"=15\")*FF$3","v":0},{"$f":"COUNTIFS($B5:$AQ5,\"=9\",$B$1:$AQ$1,\"=15\")*FG$3","v":0},{"$f":"COUNTIFS($B5:$AQ5,\"=10\",$B$1:$AQ$1,\"=15\")*FH$3","v":0},{"$f":"COUNTIFS($B5:$AQ5,\"=11\",$B$1:$AQ$1,\"=15\")*FI$3","v":0},{"$f":"COUNTIFS($B5:$AQ5,\"=12\",$B$1:$AQ$1,\"=15\")*FJ$3","v":0},{"$f":"COUNTIFS($B5:$AQ5,\"=13\",$B$1:$AQ$1,\"=15\")*FK$3","v":0},{"$f":"COUNTIFS($B5:$AQ5,\"=14\",$B$1:$AQ$1,\"=15\")*FL$3","v":0},{"$f":"COUNTIFS($B5:$AQ5,\"=15\",$B$1:$AQ$1,\"=15\")*FM$3","v":0},null,{"$f":"COUNTIFS($B5:$AQ5,\"=1\",$B$1:$AQ$1,\"=16\")*FO$3","v":0},{"$f":"COUNTIFS($B5:$AQ5,\"=2\",$B$1:$AQ$1,\"=16\")*FP$3","v":0},{"$f":"COUNTIFS($B5:$AQ5,\"=3\",$B$1:$AQ$1,\"=16\")*FQ$3","v":0},{"$f":"COUNTIFS($B5:$AQ5,\"=4\",$B$1:$AQ$1,\"=16\")*FR$3","v":0},{"$f":"COUNTIFS($B5:$AQ5,\"=5\",$B$1:$AQ$1,\"=16\")*FS$3","v":0},{"$f":"COUNTIFS($B5:$AQ5,\"=6\",$B$1:$AQ$1,\"=16\")*FT$3","v":0},{"$f":"COUNTIFS($B5:$AQ5,\"=7\",$B$1:$AQ$1,\"=16\")*FU$3","v":0},{"$f":"COUNTIFS($B5:$AQ5,\"=8\",$B$1:$AQ$1,\"=16\")*FV$3","v":0},{"$f":"COUNTIFS($B5:$AQ5,\"=9\",$B$1:$AQ$1,\"=16\")*FW$3","v":0},{"$f":"COUNTIFS($B5:$AQ5,\"=10\",$B$1:$AQ$1,\"=16\")*FX$3","v":0},{"$f":"COUNTIFS($B5:$AQ5,\"=11\",$B$1:$AQ$1,\"=16\")*FY$3","v":0},{"$f":"COUNTIFS($B5:$AQ5,\"=12\",$B$1:$AQ$1,\"=16\")*FZ$3","v":0},{"$f":"COUNTIFS($B5:$AQ5,\"=13\",$B$1:$AQ$1,\"=16\")*GA$3","v":0},{"$f":"COUNTIFS($B5:$AQ5,\"=14\",$B$1:$AQ$1,\"=16\")*GB$3","v":0},{"$f":"COUNTIFS($B5:$AQ5,\"=15\",$B$1:$AQ$1,\"=16\")*GC$3","v":0},{"$f":"COUNTIFS($B5:$AQ5,\"=16\",$B$1:$AQ$1,\"=16\")*GD$3","v":0},null,{"$f":"COUNTIFS($B5:$AQ5,\"=1\",$B$1:$AQ$1,\"=17\")*GF$3","v":0},{"$f":"COUNTIFS($B5:$AQ5,\"=2\",$B$1:$AQ$1,\"=17\")*GG$3","v":0},{"$f":"COUNTIFS($B5:$AQ5,\"=3\",$B$1:$AQ$1,\"=17\")*GH$3","v":0},{"$f":"COUNTIFS($B5:$AQ5,\"=4\",$B$1:$AQ$1,\"=17\")*GI$3","v":0},{"$f":"COUNTIFS($B5:$AQ5,\"=5\",$B$1:$AQ$1,\"=17\")*GJ$3","v":0},{"$f":"COUNTIFS($B5:$AQ5,\"=6\",$B$1:$AQ$1,\"=17\")*GK$3","v":0},{"$f":"COUNTIFS($B5:$AQ5,\"=7\",$B$1:$AQ$1,\"=17\")*GL$3","v":0},{"$f":"COUNTIFS($B5:$AQ5,\"=8\",$B$1:$AQ$1,\"=17\")*GM$3","v":0},{"$f":"COUNTIFS($B5:$AQ5,\"=9\",$B$1:$AQ$1,\"=17\")*GN$3","v":0},{"$f":"COUNTIFS($B5:$AQ5,\"=10\",$B$1:$AQ$1,\"=17\")*GO$3","v":0},{"$f":"COUNTIFS($B5:$AQ5,\"=11\",$B$1:$AQ$1,\"=17\")*GP$3","v":0},{"$f":"COUNTIFS($B5:$AQ5,\"=12\",$B$1:$AQ$1,\"=17\")*GQ$3","v":0},{"$f":"COUNTIFS($B5:$AQ5,\"=13\",$B$1:$AQ$1,\"=17\")*GR$3","v":0},{"$f":"COUNTIFS($B5:$AQ5,\"=14\",$B$1:$AQ$1,\"=17\")*GS$3","v":0},{"$f":"COUNTIFS($B5:$AQ5,\"=15\",$B$1:$AQ$1,\"=17\")*GT$3","v":0},{"$f":"COUNTIFS($B5:$AQ5,\"=16\",$B$1:$AQ$1,\"=17\")*GU$3","v":0},{"$f":"COUNTIFS($B5:$AQ5,\"=17\",$B$1:$AQ$1,\"=17\")*GV$3","v":0},null,{"$f":"COUNTIFS($B5:$AQ5,\"=1\",$B$1:$AQ$1,\"=18\")*GX$3","v":0},{"$f":"COUNTIFS($B5:$AQ5,\"=2\",$B$1:$AQ$1,\"=18\")*GY$3","v":0},{"$f":"COUNTIFS($B5:$AQ5,\"=3\",$B$1:$AQ$1,\"=18\")*GZ$3","v":0},{"$f":"COUNTIFS($B5:$AQ5,\"=4\",$B$1:$AQ$1,\"=18\")*HA$3","v":0},{"$f":"COUNTIFS($B5:$AQ5,\"=5\",$B$1:$AQ$1,\"=18\")*HB$3","v":0},{"$f":"COUNTIFS($B5:$AQ5,\"=6\",$B$1:$AQ$1,\"=18\")*HC$3","v":0},{"$f":"COUNTIFS($B5:$AQ5,\"=7\",$B$1:$AQ$1,\"=18\")*HD$3","v":0},{"$f":"COUNTIFS($B5:$AQ5,\"=8\",$B$1:$AQ$1,\"=18\")*HE$3","v":0},{"$f":"COUNTIFS($B5:$AQ5,\"=9\",$B$1:$AQ$1,\"=18\")*HF$3","v":0},{"$f":"COUNTIFS($B5:$AQ5,\"=10\",$B$1:$AQ$1,\"=18\")*HG$3","v":0},{"$f":"COUNTIFS($B5:$AQ5,\"=11\",$B$1:$AQ$1,\"=18\")*HH$3","v":0},{"$f":"COUNTIFS($B5:$AQ5,\"=12\",$B$1:$AQ$1,\"=18\")*HI$3","v":0},{"$f":"COUNTIFS($B5:$AQ5,\"=13\",$B$1:$AQ$1,\"=18\")*HJ$3","v":0},{"$f":"COUNTIFS($B5:$AQ5,\"=14\",$B$1:$AQ$1,\"=18\")*HK$3","v":0},{"$f":"COUNTIFS($B5:$AQ5,\"=15\",$B$1:$AQ$1,\"=18\")*HL$3","v":0},{"$f":"COUNTIFS($B5:$AQ5,\"=16\",$B$1:$AQ$1,\"=18\")*HM$3","v":0},{"$f":"COUNTIFS($B5:$AQ5,\"=17\",$B$1:$AQ$1,\"=18\")*HN$3","v":0},{"$f":"COUNTIFS($B5:$AQ5,\"=18\",$B$1:$AQ$1,\"=18\")*HO$3","v":0},null,{"$f":"COUNTIFS($B5:$AQ5,\"=1\",$B$1:$AQ$1,\"=19\")*HQ$3","v":0},{"$f":"COUNTIFS($B5:$AQ5,\"=2\",$B$1:$AQ$1,\"=19\")*HR$3","v":0},{"$f":"COUNTIFS($B5:$AQ5,\"=3\",$B$1:$AQ$1,\"=19\")*HS$3","v":0},{"$f":"COUNTIFS($B5:$AQ5,\"=4\",$B$1:$AQ$1,\"=19\")*HT$3","v":0},{"$f":"COUNTIFS($B5:$AQ5,\"=5\",$B$1:$AQ$1,\"=19\")*HU$3","v":0},{"$f":"COUNTIFS($B5:$AQ5,\"=6\",$B$1:$AQ$1,\"=19\")*HV$3","v":0},{"$f":"COUNTIFS($B5:$AQ5,\"=7\",$B$1:$AQ$1,\"=19\")*HW$3","v":0},{"$f":"COUNTIFS($B5:$AQ5,\"=8\",$B$1:$AQ$1,\"=19\")*HX$3","v":0},{"$f":"COUNTIFS($B5:$AQ5,\"=9\",$B$1:$AQ$1,\"=19\")*HY$3","v":0},{"$f":"COUNTIFS($B5:$AQ5,\"=10\",$B$1:$AQ$1,\"=19\")*HZ$3","v":0},{"$f":"COUNTIFS($B5:$AQ5,\"=11\",$B$1:$AQ$1,\"=19\")*IA$3","v":0},{"$f":"COUNTIFS($B5:$AQ5,\"=12\",$B$1:$AQ$1,\"=19\")*IB$3","v":0},{"$f":"COUNTIFS($B5:$AQ5,\"=13\",$B$1:$AQ$1,\"=19\")*IC$3","v":0},{"$f":"COUNTIFS($B5:$AQ5,\"=14\",$B$1:$AQ$1,\"=19\")*ID$3","v":0},{"$f":"COUNTIFS($B5:$AQ5,\"=15\",$B$1:$AQ$1,\"=19\")*IE$3","v":0},{"$f":"COUNTIFS($B5:$AQ5,\"=16\",$B$1:$AQ$1,\"=19\")*IF$3","v":0},{"$f":"COUNTIFS($B5:$AQ5,\"=17\",$B$1:$AQ$1,\"=19\")*IG$3","v":0},{"$f":"COUNTIFS($B5:$AQ5,\"=18\",$B$1:$AQ$1,\"=19\")*IH$3","v":0},{"$f":"COUNTIFS($B5:$AQ5,\"=19\",$B$1:$AQ$1,\"=19\")*II$3","v":0},null,{"$f":"COUNTIFS($B5:$AQ5,\"=1\",$B$1:$AQ$1,\"=20\")*IK$3","v":0},{"$f":"COUNTIFS($B5:$AQ5,\"=2\",$B$1:$AQ$1,\"=20\")*IL$3","v":0},{"$f":"COUNTIFS($B5:$AQ5,\"=3\",$B$1:$AQ$1,\"=20\")*IM$3","v":0},{"$f":"COUNTIFS($B5:$AQ5,\"=4\",$B$1:$AQ$1,\"=20\")*IN$3","v":0},{"$f":"COUNTIFS($B5:$AQ5,\"=5\",$B$1:$AQ$1,\"=20\")*IO$3","v":0},{"$f":"COUNTIFS($B5:$AQ5,\"=6\",$B$1:$AQ$1,\"=20\")*IP$3","v":0},{"$f":"COUNTIFS($B5:$AQ5,\"=7\",$B$1:$AQ$1,\"=20\")*IQ$3","v":0},{"$f":"COUNTIFS($B5:$AQ5,\"=8\",$B$1:$AQ$1,\"=20\")*IR$3","v":0},{"$f":"COUNTIFS($B5:$AQ5,\"=9\",$B$1:$AQ$1,\"=20\")*IS$3","v":0},{"$f":"COUNTIFS($B5:$AQ5,\"=10\",$B$1:$AQ$1,\"=20\")*IT$3","v":0},{"$f":"COUNTIFS($B5:$AQ5,\"=11\",$B$1:$AQ$1,\"=20\")*IU$3","v":0},{"$f":"COUNTIFS($B5:$AQ5,\"=12\",$B$1:$AQ$1,\"=20\")*IV$3","v":0},{"$f":"COUNTIFS($B5:$AQ5,\"=13\",$B$1:$AQ$1,\"=20\")*IW$3","v":0},{"$f":"COUNTIFS($B5:$AQ5,\"=14\",$B$1:$AQ$1,\"=20\")*IX$3","v":0},{"$f":"COUNTIFS($B5:$AQ5,\"=15\",$B$1:$AQ$1,\"=20\")*IY$3","v":0},{"$f":"COUNTIFS($B5:$AQ5,\"=16\",$B$1:$AQ$1,\"=20\")*IZ$3","v":0},{"$f":"COUNTIFS($B5:$AQ5,\"=17\",$B$1:$AQ$1,\"=20\")*JA$3","v":0},{"$f":"COUNTIFS($B5:$AQ5,\"=18\",$B$1:$AQ$1,\"=20\")*JB$3","v":0},{"$f":"COUNTIFS($B5:$AQ5,\"=19\",$B$1:$AQ$1,\"=20\")*JC$3","v":0},{"$f":"COUNTIFS($B5:$AQ5,\"=20\",$B$1:$AQ$1,\"=20\")*JD$3","v":0},null,{"$f":"SUM(AS5:JD5)","v":87},{"$f":"COUNT(B5:AQ5)","v":13},{"$f":"COUNTIF(B5:AQ5,\"1\")","v":2},null,{"$f":"COUNTIF(B5:AQ5,\"OK\")","v":13},{"$f":"COUNTIF(B5:AQ5,\"OK\")*5","v":65},null,{"$f":"JK5+JF5","v":152},null,{"$f":"COUNTIF($B5:$AQ5,\"1\")","v":2},{"$f":"COUNTIF($B5:$AQ5,\"2\")","v":4},{"$f":"COUNTIF($B5:$AQ5,\"3\")","v":2}]
["CÉSAR REBECCA",1,"OK",8,"OK",8,null,1,"OK","OK",4,null,2,null,3,"OK",3,null,2,null,null,null,null,null,null,null,null,null,null,null,null,null,null,null,null,null,null,null,null,null,null,null,null,null,0,0,0,0,null,0,0,7,6,0,null,0,10,8,0,0,0,null,0,0,0,0,0,0,0,null,28,12,0,0,0,0,0,10,null,0,0,0,0,0,0,0,0,0,null,0,0,0,0,0,0,0,0,0,0,null,0,0,0,0,0,0,0,0,0,0,0,null,0,0,0,0,0,0,0,0,0,0,0,0,null,0,0,0,0,0,0,0,0,0,0,0,0,0,null,0,0,0,0,0,0,0,0,0,0,0,0,0,0,null,0,0,0,0,0,0,0,0,0,0,0,0,0,0,0,null,0,0,0,0,0,0,0,0,0,0,0,0,0,0,0,0,null,0,0,0,0,0,0,0,0,0,0,0,0,0,0,0,0,0,null,0,0,0,0,0,0,0,0,0,0,0,0,0,0,0,0,0,0,null,0,0,0,0,0,0,0,0,0,0,0,0,0,0,0,0,0,0,0,null,0,0,0,0,0,0,0,0,0,0,0,0,0,0,0,0,0,0,0,0,null,81,9,2,null,5,25,null,106,null,2,2,2]
["CHELIO",2,null,5,null,3,"OK",4,null,null,3,"OK",8,null,4,null,null,null,null,null,7,null,2,"OK",null,null,3,null,null,null,null,null,null,null,null,null,null,null,null,null,null,null,null,null,0,0,0,0,null,0,0,7,6,0,null,0,0,0,0,0,0,null,0,0,0,0,0,0,5,null,0,12,10,9,8,0,0,5,null,0,0,0,0,0,0,0,0,0,null,0,0,0,0,0,0,0,0,0,0,null,0,0,0,0,0,0,0,0,0,0,0,null,0,0,0,0,0,0,0,0,0,0,0,0,null,0,0,0,0,0,0,0,0,0,0,0,0,0,null,0,0,0,0,0,0,0,0,0,0,0,0,0,0,null,0,0,0,0,0,0,0,0,0,0,0,0,0,0,0,null,0,0,0,0,0,0,0,0,0,0,0,0,0,0,0,0,null,0,0,0,0,0,0,0,0,0,0,0,0,0,0,0,0,0,null,0,0,0,0,0,0,0,0,0,0,0,0,0,0,0,0,0,0,null,0,0,0,0,0,0,0,0,0,0,0,0,0,0,0,0,0,0,0,null,0,0,0,0,0,0,0,0,0,0,0,0,0,0,0,0,0,0,0,0,null,62,10,0,null,3,15,null,77,null,0,2,3]
["CRISTIANO",null,null,null,null,null,null,null,null,null,null,null,null,null,null,null,null,null,null,null,null,null,null,null,null,null,null,null,null,null,null,null,null,null,null,null,null,null,null,null,null,null,null,null,0,0,0,0,null,0,0,0,0,0,null,0,0,0,0,0,0,null,0,0,0,0,0,0,0,null,0,0,0,0,0,0,0,0,null,0,0,0,0,0,0,0,0,0,null,0,0,0,0,0,0,0,0,0,0,null,0,0,0,0,0,0,0,0,0,0,0,null,0,0,0,0,0,0,0,0,0,0,0,0,null,0,0,0,0,0,0,0,0,0,0,0,0,0,null,0,0,0,0,0,0,0,0,0,0,0,0,0,0,null,0,0,0,0,0,0,0,0,0,0,0,0,0,0,0,null,0,0,0,0,0,0,0,0,0,0,0,0,0,0,0,0,null,0,0,0,0,0,0,0,0,0,0,0,0,0,0,0,0,0,null,0,0,0,0,0,0,0,0,0,0,0,0,0,0,0,0,0,0,null,0,0,0,0,0,0,0,0,0,0,0,0,0,0,0,0,0,0,0,null,0,0,0,0,0,0,0,0,0,0,0,0,0,0,0,0,0,0,0,0,null,0,0,0,null,0,0,null,0,null,0,0,0]
["EDSON FORTUNA",8,"OK",7,"OK",6,"OK",7,"OK",null,5,"OK",5,null,5,"OK",4,null,6,null,6,null,null,null,null,null,null,null,null,null,null,null,null,null,null,null,null,null,null,null,null,null,null,null,0,0,0,0,null,0,0,0,0,10,null,0,0,0,7,0,5,null,0,0,0,0,0,6,0,null,0,0,0,0,8,7,12,5,null,0,0,0,0,0,0,0,0,0,null,0,0,0,0,0,0,0,0,0,0,null,0,0,0,0,0,0,0,0,0,0,0,null,0,0,0,0,0,0,0,0,0,0,0,0,null,0,0,0,0,0,0,0,0,0,0,0,0,0,null,0,0,0,0,0,0,0,0,0,0,0,0,0,0,null,0,0,0,0,0,0,0,0,0,0,0,0,0,0,0,null,0,0,0,0,0,0,0,0,0,0,0,0,0,0,0,0,null,0,0,0,0,0,0,0,0,0,0,0,0,0,0,0,0,0,null,0,0,0,0,0,0,0,0,0,0,0,0,0,0,0,0,0,0,null,0,0,0,0,0,0,0,0,0,0,0,0,0,0,0,0,0,0,0,null,0,0,0,0,0,0,0,0,0,0,0,0,0,0,0,0,0,0,0,0,null,60,10,0,null,6,30,null,90,null,0,0,0]
["FÁBIO JANUÁRIO",null,null,null,"OK",null,null,null,"OK",null,null,null,null,null,null,null,null,null,null,null,null,null,null,null,null,null,null,null,null,null,null,null,null,null,null,null,null,null,null,null,null,null,null,null,0,0,0,0,null,0,0,0,0,0,null,0,0,0,0,0,0,null,0,0,0,0,0,0,0,null,0,0,0,0,0,0,0,0,null,0,0,0,0,0,0,0,0,0,null,0,0,0,0,0,0,0,0,0,0,null,0,0,0,0,0,0,0,0,0,0,0,null,0,0,0,0,0,0,0,0,0,0,0,0,null,0,0,0,0,0,0,0,0,0,0,0,0,0,null,0,0,0,0,0,0,0,0,0,0,0,0,0,0,null,0,0,0,0,0,0,0,0,0,0,0,0,0,0,0,null,0,0,0,0,0,0,0,0,0,0,0,0,0,0,0,0,null,0,0,0,0,0,0,0,0,0,0,0,0,0,0,0,0,0,null,0,0,0,0,0,0,0,0,0,0,0,0,0,0,0,0,0,0,null,0,0,0,0,0,0,0,0,0,0,0,0,0,0,0,0,0,0,0,null,0,0,0,0,0,0,0,0,0,0,0,0,0,0,0,0,0,0,0,0,null,0,0,0,null,2,10,null,10,null,0,0,0]
["FERNANDO BARBIN",null,null,null,null,null,null,null,null,null,null,"OK",null,null,null,null,null,null,null,null,null,null,null,null,null,null,null,null,null,null,null,null,null,null,null,null,null,null,null,null,null,null,null,null,0,0,0,0,null,0,0,0,0,0,null,0,0,0,0,0,0,null,0,0,0,0,0,0,0,null,0,0,0,0,0,0,0,0,null,0,0,0,0,0,0,0,0,0,null,0,0,0,0,0,0,0,0,0,0,null,0,0,0,0,0,0,0,0,0,0,0,null,0,0,0,0,0,0,0,0,0,0,0,0,null,0,0,0,0,0,0,0,0,0,0,0,0,0,null,0,0,0,0,0,0,0,0,0,0,0,0,0,0,null,0,0,0,0,0,0,0,0,0,0,0,0,0,0,0,null,0,0,0,0,0,0,0,0,0,0,0,0,0,0,0,0,null,0,0,0,0,0,0,0,0,0,0,0,0,0,0,0,0,0,null,0,0,0,0,0,0,0,0,0,0,0,0,0,0,0,0,0,0,null,0,0,0,0,0,0,0,0,0,0,0,0,0,0,0,0,0,0,0,null,0,0,0,0,0,0,0,0,0,0,0,0,0,0,0,0,0,0,0,0,null,0,0,0,null,1,5,null,5,null,0,0,0]
["FERNANDO DÉZIO",6,null,4,"OK",4,null,5,"OK","OK",null,null,4,"OK",null,"OK",6,null,5,"OK",3,"OK",null,"OK",4,null,null,null,null,null,null,null,null,null,null,null,null,null,null,null,null,null,null,null,0,0,0,5,null,0,0,0,0,0,null,0,0,0,0,6,5,null,0,0,9,0,0,0,0,null,0,0,0,27,8,7,0,0,null,0,0,0,0,0,0,0,0,0,null,0,0,0,0,0,0,0,0,0,0,null,0,0,0,0,0,0,0,0,0,0,0,null,0,0,0,0,0,0,0,0,0,0,0,0,null,0,0,0,0,0,0,0,0,0,0,0,0,0,null,0,0,0,0,0,0,0,0,0,0,0,0,0,0,null,0,0,0,0,0,0,0,0,0,0,0,0,0,0,0,null,0,0,0,0,0,0,0,0,0,0,0,0,0,0,0,0,null,0,0,0,0,0,0,0,0,0,0,0,0,0,0,0,0,0,null,0,0,0,0,0,0,0,0,0,0,0,0,0,0,0,0,0,0,null,0,0,0,0,0,0,0,0,0,0,0,0,0,0,0,0,0,0,0,null,0,0,0,0,0,0,0,0,0,0,0,0,0,0,0,0,0,0,0,0,null,67,9,0,null,8,40,null,107,null,0,0,1]
["JOÃO CASTILHO",null,"OK",null,null,null,null,null,null,null,null,null,null,null,null,null,null,null,null,null,null,null,null,null,null,"OK",null,null,null,null,null,null,null,null,null,null,null,null,null,null,null,null,null,null,0,0,0,0,null,0,0,0,0,0,null,0,0,0,0,0,0,null,0,0,0,0,0,0,0,null,0,0,0,0,0,0,0,0,null,0,0,0,0,0,0,0,0,0,null,0,0,0,0,0,0,0,0,0,0,null,0,0,0,0,0,0,0,0,0,0,0,null,0,0,0,0,0,0,0,0,0,0,0,0,null,0,0,0,0,0,0,0,0,0,0,0,0,0,null,0,0,0,0,0,0,0,0,0,0,0,0,0,0,null,0,0,0,0,0,0,0,0,0,0,0,0,0,0,0,null,0,0,0,0,0,0,0,0,0,0,0,0,0,0,0,0,null,0,0,0,0,0,0,0,0,0,0,0,0,0,0,0,0,0,null,0,0,0,0,0,0,0,0,0,0,0,0,0,0,0,0,0,0,null,0,0,0,0,0,0,0,0,0,0,0,0,0,0,0,0,0,0,0,null,0,0,0,0,0,0,0,0,0,0,0,0,0,0,0,0,0,0,0,0,null,0,0,0,null,2,10,null,10,null,0,0,0]
["JOÃO PEDRO",null,null,null,"OK",null,null,null,"OK",null,null,null,null,null,null,null,null,null,null,null,null,null,null,null,null,null,null,null,null,null,null,null,null,null,null,null,null,null,null,null,null,null,null,null,0,0,0,0,null,0,0,0,0,0,null,0,0,0,0,0,0,null,0,0,0,0,0,0,0,null,0,0,0,0,0,0,0,0,null,0,0,0,0,0,0,0,0,0,null,0,0,0,0,0,0,0,0,0,0,null,0,0,0,0,0,0,0,0,0,0,0,null,0,0,0,0,0,0,0,0,0,0,0,0,null,0,0,0,0,0,0,0,0,0,0,0,0,0,null,0,0,0,0,0,0,0,0,0,0,0,0,0,0,null,0,0,0,0,0,0,0,0,0,0,0,0,0,0,0,null,0,0,0,0,0,0,0,0,0,0,0,0,0,0,0,0,null,0,0,0,0,0,0,0,0,0,0,0,0,0,0,0,0,0,null,0,0,0,0,0,0,0,0,0,0,0,0,0,0,0,0,0,0,null,0,0,0,0,0,0,0,0,0,0,0,0,0,0,0,0,0,0,0,null,0,0,0,0,0,0,0,0,0,0,0,0,0,0,0,0,0,0,0,0,null,0,0,0,null,2,10,null,10,null,0,0,0]
["JOÃO PEDRO GALL",null,null,null,null,null,null,null,null,null,null,null,null,null,null,null,null,null,null,null,null,null,null,null,null,null,null,null,null,null,null,null,null,null,null,null,null,null,null,null,null,null,null,null,0,0,0,0,null,0,0,0,0,0,null,0,0,0,0,0,0,null,0,0,0,0,0,0,0,null,0,0,0,0,0,0,0,0,null,0,0,0,0,0,0,0,0,0,null,0,0,0,0,0,0,0,0,0,0,null,0,0,0,0,0,0,0,0,0,0,0,null,0,0,0,0,0,0,0,0,0,0,0,0,null,0,0,0,0,0,0,0,0,0,0,0,0,0,null,0,0,0,0,0,0,0,0,0,0,0,0,0,0,null,0,0,0,0,0,0,0,0,0,0,0,0,0,0,0,null,0,0,0,0,0,0,0,0,0,0,0,0,0,0,0,0,null,0,0,0,0,0,0,0,0,0,0,0,0,0,0,0,0,0,null,0,0,0,0,0,0,0,0,0,0,0,0,0,0,0,0,0,0,null,0,0,0,0,0,0,0,0,0,0,0,0,0,0,0,0,0,0,0,null,0,0,0,0,0,0,0,0,0,0,0,0,0,0,0,0,0,0,0,0,null,0,0,0,null,0,0,null,0,null,0,0,0]
["MÁRCIO COSTA",4,"OK",3,"OK",2,"OK",2,"OK",null,null,"OK",1,"OK",null,"OK",null,null,null,null,5,"OK",null,"OK",1,null,1,null,null,null,null,null,null,null,null,null,null,null,null,null,null,null,null,null,10,0,0,0,null,0,0,0,0,0,null,0,0,0,0,0,0,null,0,0,0,0,7,0,0,null,14,24,10,9,0,0,0,0,null,0,0,0,0,0,0,0,0,0,null,0,0,0,0,0,0,0,0,0,0,null,0,0,0,0,0,0,0,0,0,0,0,null,0,0,0,0,0,0,0,0,0,0,0,0,null,0,0,0,0,0,0,0,0,0,0,0,0,0,null,0,0,0,0,0,0,0,0,0,0,0,0,0,0,null,0,0,0,0,0,0,0,0,0,0,0,0,0,0,0,null,0,0,0,0,0,0,0,0,0,0,0,0,0,0,0,0,null,0,0,0,0,0,0,0,0,0,0,0,0,0,0,0,0,0,null,0,0,0,0,0,0,0,0,0,0,0,0,0,0,0,0,0,0,null,0,0,0,0,0,0,0,0,0,0,0,0,0,0,0,0,0,0,0,null,0,0,0,0,0,0,0,0,0,0,0,0,0,0,0,0,0,0,0,0,null,74,8,3,null,9,45,null,119,null,3,2,1]
["NARDY",null,"OK",null,null,null,null,null,null,null,null,null,null,null,null,null,null,null,null,null,null,null,null,null,null,null,null,null,null,null,null,null,null,null,null,null,null,null,null,null,null,null,null,null,0,0,0,0,null,0,0,0,0,0,null,0,0,0,0,0,0,null,0,0,0,0,0,0,0,null,0,0,0,0,0,0,0,0,null,0,0,0,0,0,0,0,0,0,null,0,0,0,0,0,0,0,0,0,0,null,0,0,0,0,0,0,0,0,0,0,0,null,0,0,0,0,0,0,0,0,0,0,0,0,null,0,0,0,0,0,0,0,0,0,0,0,0,0,null,0,0,0,0,0,0,0,0,0,0,0,0,0,0,null,0,0,0,0,0,0,0,0,0,0,0,0,0,0,0,null,0,0,0,0,0,0,0,0,0,0,0,0,0,0,0,0,null,0,0,0,0,0,0,0,0,0,0,0,0,0,0,0,0,0,null,0,0,0,0,0,0,0,0,0,0,0,0,0,0,0,0,0,0,null,0,0,0,0,0,0,0,0,0,0,0,0,0,0,0,0,0,0,0,null,0,0,0,0,0,0,0,0,0,0,0,0,0,0,0,0,0,0,0,0,null,0,0,0,null,1,5,null,5,null,0,0,0]
["PEDRO NETO",5,null,2,"OK",7,null,6,"OK","OK",null,"OK",6,"OK",null,"OK",5,null,4,"OK",4,"OK",null,"OK",2,null,null,null,null,null,null,null,null,null,null,null,null,null,null,null,null,null,null,null,0,8,0,0,null,0,0,0,0,0,null,0,0,0,7,6,0,null,0,0,0,8,0,0,0,null,0,12,0,0,8,14,6,0,null,0,0,0,0,0,0,0,0,0,null,0,0,0,0,0,0,0,0,0,0,null,0,0,0,0,0,0,0,0,0,0,0,null,0,0,0,0,0,0,0,0,0,0,0,0,null,0,0,0,0,0,0,0,0,0,0,0,0,0,null,0,0,0,0,0,0,0,0,0,0,0,0,0,0,null,0,0,0,0,0,0,0,0,0,0,0,0,0,0,0,null,0,0,0,0,0,0,0,0,0,0,0,0,0,0,0,0,null,0,0,0,0,0,0,0,0,0,0,0,0,0,0,0,0,0,null,0,0,0,0,0,0,0,0,0,0,0,0,0,0,0,0,0,0,null,0,0,0,0,0,0,0,0,0,0,0,0,0,0,0,0,0,0,0,null,0,0,0,0,0,0,0,0,0,0,0,0,0,0,0,0,0,0,0,0,null,69,9,0,null,9,45,null,114,null,0,2,0]
["RAFA SANTOS",null,"OK",null,null,null,"OK",null,null,null,null,null,null,null,null,"OK",null,null,null,"OK",null,null,null,null,null,null,null,null,null,null,null,null,null,null,null,null,null,null,null,null,null,null,null,null,0,0,0,0,null,0,0,0,0,0,null,0,0,0,0,0,0,null,0,0,0,0,0,0,0,null,0,0,0,0,0,0,0,0,null,0,0,0,0,0,0,0,0,0,null,0,0,0,0,0,0,0,0,0,0,null,0,0,0,0,0,0,0,0,0,0,0,null,0,0,0,0,0,0,0,0,0,0,0,0,null,0,0,0,0,0,0,0,0,0,0,0,0,0,null,0,0,0,0,0,0,0,0,0,0,0,0,0,0,null,0,0,0,0,0,0,0,0,0,0,0,0,0,0,0,null,0,0,0,0,0,0,0,0,0,0,0,0,0,0,0,0,null,0,0,0,0,0,0,0,0,0,0,0,0,0,0,0,0,0,null,0,0,0,0,0,0,0,0,0,0,0,0,0,0,0,0,0,0,null,0,0,0,0,0,0,0,0,0,0,0,0,0,0,0,0,0,0,0,null,0,0,0,0,0,0,0,0,0,0,0,0,0,0,0,0,0,0,0,0,null,0,0,0,null,4,20,null,20,null,0,0,0]
["RAFAEL MELLO",null,null,null,null,null,null,null,null,null,null,null,null,null,null,null,null,null,null,null,null,null,null,null,null,null,null,null,null,null,null,null,null,null,null,null,null,null,null,null,null,null,null,null,0,0,0,0,null,0,0,0,0,0,null,0,0,0,0,0,0,null,0,0,0,0,0,0,0,null,0,0,0,0,0,0,0,0,null,0,0,0,0,0,0,0,0,0,null,0,0,0,0,0,0,0,0,0,0,null,0,0,0,0,0,0,0,0,0,0,0,null,0,0,0,0,0,0,0,0,0,0,0,0,null,0,0,0,0,0,0,0,0,0,0,0,0,0,null,0,0,0,0,0,0,0,0,0,0,0,0,0,0,null,0,0,0,0,0,0,0,0,0,0,0,0,0,0,0,null,0,0,0,0,0,0,0,0,0,0,0,0,0,0,0,0,null,0,0,0,0,0,0,0,0,0,0,0,0,0,0,0,0,0,null,0,0,0,0,0,0,0,0,0,0,0,0,0,0,0,0,0,0,null,0,0,0,0,0,0,0,0,0,0,0,0,0,0,0,0,0,0,0,null,0,0,0,0,0,0,0,0,0,0,0,0,0,0,0,0,0,0,0,0,null,0,0,0,null,0,0,null,0,null,0,0,0]
["SANDRO PIRIKITO",null,null,null,"OK",null,null,null,"OK",null,null,null,null,null,null,null,null,null,null,null,null,null,null,null,null,null,null,null,null,null,null,null,null,null,null,null,null,null,null,null,null,null,null,null,0,0,0,0,null,0,0,0,0,0,null,0,0,0,0,0,0,null,0,0,0,0,0,0,0,null,0,0,0,0,0,0,0,0,null,0,0,0,0,0,0,0,0,0,null,0,0,0,0,0,0,0,0,0,0,null,0,0,0,0,0,0,0,0,0,0,0,null,0,0,0,0,0,0,0,0,0,0,0,0,null,0,0,0,0,0,0,0,0,0,0,0,0,0,null,0,0,0,0,0,0,0,0,0,0,0,0,0,0,null,0,0,0,0,0,0,0,0,0,0,0,0,0,0,0,null,0,0,0,0,0,0,0,0,0,0,0,0,0,0,0,0,null,0,0,0,0,0,0,0,0,0,0,0,0,0,0,0,0,0,null,0,0,0,0,0,0,0,0,0,0,0,0,0,0,0,0,0,0,null,0,0,0,0,0,0,0,0,0,0,0,0,0,0,0,0,0,0,0,null,0,0,0,0,0,0,0,0,0,0,0,0,0,0,0,0,0,0,0,0,null,0,0,0,null,2,10,null,10,null,0,0,0]
["SÉRGIO FILHO",3,"OK",1,"OK",1,"OK",3,"OK","OK",1,"OK",3,"OK",1,"OK",1,null,1,null,2,"OK",null,null,null,"OK",null,null,null,null,"OK",null,null,null,null,null,null,null,null,null,null,null,null,null,0,0,0,0,null,22,0,0,0,0,null,24,0,0,0,0,0,null,0,11,0,0,0,0,0,null,28,0,30,0,0,0,0,0,null,0,0,0,0,0,0,0,0,0,null,0,0,0,0,0,0,0,0,0,0,null,0,0,0,0,0,0,0,0,0,0,0,null,0,0,0,0,0,0,0,0,0,0,0,0,null,0,0,0,0,0,0,0,0,0,0,0,0,0,null,0,0,0,0,0,0,0,0,0,0,0,0,0,0,null,0,0,0,0,0,0,0,0,0,0,0,0,0,0,0,null,0,0,0,0,0,0,0,0,0,0,0,0,0,0,0,0,null,0,0,0,0,0,0,0,0,0,0,0,0,0,0,0,0,0,null,0,0,0,0,0,0,0,0,0,0,0,0,0,0,0,0,0,0,null,0,0,0,0,0,0,0,0,0,0,0,0,0,0,0,0,0,0,0,null,0,0,0,0,0,0,0,0,0,0,0,0,0,0,0,0,0,0,0,0,null,115,10,6,null,11,55,null,170,null,6,1,3]
["WILSON BENEVIDES",null,null,null,null,null,null,null,null,null,null,null,null,null,null,null,null,null,null,null,null,null,null,null,null,null,null,null,null,null,null,null,null,null,null,null,null,null,null,null,null,null,null,null,0,0,0,0,null,0,0,0,0,0,null,0,0,0,0,0,0,null,0,0,0,0,0,0,0,null,0,0,0,0,0,0,0,0,null,0,0,0,0,0,0,0,0,0,null,0,0,0,0,0,0,0,0,0,0,null,0,0,0,0,0,0,0,0,0,0,0,null,0,0,0,0,0,0,0,0,0,0,0,0,null,0,0,0,0,0,0,0,0,0,0,0,0,0,null,0,0,0,0,0,0,0,0,0,0,0,0,0,0,null,0,0,0,0,0,0,0,0,0,0,0,0,0,0,0,null,0,0,0,0,0,0,0,0,0,0,0,0,0,0,0,0,null,0,0,0,0,0,0,0,0,0,0,0,0,0,0,0,0,0,null,0,0,0,0,0,0,0,0,0,0,0,0,0,0,0,0,0,0,null,0,0,0,0,0,0,0,0,0,0,0,0,0,0,0,0,0,0,0,null,0,0,0,0,0,0,0,0,0,0,0,0,0,0,0,0,0,0,0,0,null,0,0,0,null,0,0,null,0,null,0,0,0]
[null,null,null,null,null,null,null,null,null,null,null,null,null,null,null,null,null,null,null,null,null,null,null,null,null,null,null,null,null,null,null,null,null,null,null,null,null,null,null,null,null,null,null,null,0,0,0,0,null,0,0,0,0,0,null,0,0,0,0,0,0,null,0,0,0,0,0,0,0,null,0,0,0,0,0,0,0,0,null,0,0,0,0,0,0,0,0,0,null,0,0,0,0,0,0,0,0,0,0,null,0,0,0,0,0,0,0,0,0,0,0,null,0,0,0,0,0,0,0,0,0,0,0,0,null,0,0,0,0,0,0,0,0,0,0,0,0,0,null,0,0,0,0,0,0,0,0,0,0,0,0,0,0,null,0,0,0,0,0,0,0,0,0,0,0,0,0,0,0,null,0,0,0,0,0,0,0,0,0,0,0,0,0,0,0,0,null,0,0,0,0,0,0,0,0,0,0,0,0,0,0,0,0,0,null,0,0,0,0,0,0,0,0,0,0,0,0,0,0,0,0,0,0,null,0,0,0,0,0,0,0,0,0,0,0,0,0,0,0,0,0,0,0,null,0,0,0,0,0,0,0,0,0,0,0,0,0,0,0,0,0,0,0,0,null,0,0,0,null,0,0,null,0,null,0,0,0]

{"sheet":"(dados) GERAL","index":7,"n_rows":63,"n_cols":244,"rows_kept":63,"cut":false,"hidden":false,"merged":[[0,0,1,0],[64,8,64,9],[64,20,64,21],[64,32,64,33],[64,44,64,45],[65,49,65,50],[64,61,64,62],[64,73,64,74],[66,8,66,9],[66,20,66,21],[66,32,66,33],[66,44,66,45],[66,49,66,50],[65,8,65,9],[65,20,65,21],[65,32,65,33],[65,44,65,45],[64,49,64,50],[66,61,66,62],[66,73,66,74],[66,85,66,86],[66,97,66,98],[64,97,64,98],[65,61,65,62],[65,73,65,74],[65,85,65,86],[65,97,65,98],[64,85,64,86],[64,149,64,150],[65,108,65,109],[65,120,65,121],[65,132,65,133],[65,144,65,145],[65,149,65,150],[64,108,64,109],[64,120,64,121],[64,132,64,133],[64,144,64,145],[66,149,66,150],[66,108,66,109],[66,120,66,121],[66,132,66,133],[66,144,66,145]]}
["GERAL",null,null,null,null,null,null,null,null,null,null,null,null,"1ª taça",null,null,null,null,null,null,null,null,null,null,null,"2ª taça",null,null,null,null,null,null,null,null,null,null,null,null,null,null,"3 taça",null,null,null,null,null,null,null,null,null,null,null,null,null,null,"4 taça",null,null,null,null,null,null,null,null,null,null,null,null,null,null,null,null,"5 taça",null,null,null,null,null,null,null,null,null,null,null,null,null,null,null,null,"6 taça",null,null,null,null,null,null,null,null,null,null,null,null,null,null,null,null,"7ª taça",null,null,null,null,null,null,null,null,null,null,null,null,null,null,null,null,"8ª Taça",null,null,null,null,null,null,null,null,null,null,null,null,null,null,null,null,"9ª taça",null,null,null,"10ª Taça",null,null,null,null,null,null,null,null,null,null,null,null,null,null,null,null,null,null,null,null,"11ª Taça",1,2,3,4,5,6,7,8,9,10,11,12,13,14,15,16,17,18,19,20,21,22,"COPAS",1,2,3,4,5,6,7,8,9,10,11,12,13,14,15,16,17,18,19,20,"COPAS",1,2,3,4,5,6,7,8,9,10,11,12,13,14,15,16]
[null,1,2,3,4,5,6,7,8,9,10,11,12,13,14,15,16,17,18,19,20,21,22,23,24,25,26,27,28,29,30,31,32,33,34,35,36,37,38,39,40,41,42,43,44,45,46,47,48,49,50,51,52,53,54,55,56,57,58,59,60,61,62,63,64,65,66,67,68,69,70,71,72,73,74,75,76,77,78,79,80,81,82,83,84,85,86,87,88,89,90,91,92,93,94,95,96,97,98,99,100,101,102,103,104,105,106,107,108,109,110,111,112,113,114,115,116,117,118,119,120,121,122,123,124,125,126,127,128,129,130,131,132,133,134,135,136,137,138,139,140,141,142,143,144,145,146,147,148,149,150,151,152,153,154,155,156,157,158,159,160,161,162,163,164,165,166,167,168,169,170,171,172,173,174,175,176,177,178,179,180,181,182,183,184,185,186,187,188,189,190,191,192,193,194,195,196,197,198,199,200,201,202,203,204,205,206,207,208,209,210,211,212,213,214,215,216,217,218,219,220,221,222,223,224,225,null,null,null,null,null,null,null,null,"geral",null,null,null,null,null,"POSIÇÕES"]
["BOTONISTA","2006-11-29","2006-12-06","2006-12-13","2006-12-20","2006-12-27","2007-01-03","2007-01-10","2007-01-17","2007-01-25","2007-01-31","2007-02-07","2007-02-14","2007-02-21","2007-02-28","2007-03-07","2007-03-14","2007-03-28","2007-04-04","2007-04-11","2007-04-18","2007-04-25","2007-05-02","2007-05-09","2007-05-16","2007-05-23","2007-05-30","2007-06-06","2007-06-13","2007-06-20","2007-06-27","2007-07-04","2007-07-11","2007-07-18","2007-07-25","2007-08-01","2007-08-08","2007-08-15","2007-08-22","2007-08-29","2007-09-05","2007-09-12","2007-09-19","2007-09-26","2007-10-03","2007-10-10","2007-10-17","2007-10-24","2007-10-31","2007-11-07","2007-11-14","2007-11-21","2007-11-28","2007-12-05","2007-12-12","2007-12-19","2008-01-02","2008-01-09","2008-01-16","2008-01-23","2008-01-30","2008-02-06","2008-02-13","2008-02-20","2008-02-27","2008-03-05","2008-03-12","2008-03-19","2008-03-26","2008-04-02","2008-04-09","2008-04-16","2008-04-23","2008-04-30","2008-05-07","2008-05-14","2008-05-21","2008-05-28","2008-06-04","2008-06-11","2008-06-18","2008-06-25","2008-07-02","2008-07-09","2008-07-16","2008-07-23","2008-07-30","2008-08-06","2008-08-13","2008-08-20","2008-08-27","2008-09-03","2008-09-10","2008-09-17","2008-09-24","2008-10-01","2008-10-08","2008-10-15","2008-10-22","2008-10-29","2008-11-05","2008-11-12","2008-11-19","2008-11-26","2008-12-03","2008-12-10","2008-12-17","2009-01-07","2009-01-14","2009-01-21","2009-01-28","2009-02-04","2009-02-11","2009-02-18","2009-02-25","2009-03-04","2009-03-11","2009-03-18","2009-03-25","2009-04-01","2009-04-08","2009-04-15","2009-04-22","2009-04-29","2009-05-06","2009-05-13","2009-05-20","2009-05-27","2009-06-03","2009-06-10","2009-06-17","2009-06-24","2009-07-01","2009-07-08","2009-07-15","2009-07-22","2009-07-29","2009-08-05","2009-08-12","2009-08-19","2009-08-26","2009-09-02","2009-09-30","2009-10-28","2009-12-09","2010-02-17","2010-03-17","2010-03-31","2010-04-14","2010-04-28","2010-05-12","2010-05-26","2010-06-09","2010-06-23","2010-07-07","2010-07-21","2010-08-04","2010-08-18","2010-09-01","2010-09-15","2010-09-19","2010-10-13","2010-10-27","2010-11-10","2010-11-24","2010-12-08","2011-02-09","2011-02-23","2011-03-09","2011-03-23","2011-04-06","2011-04-20","2011-05-04","2011-05-18","2011-06-01","2011-06-15","2011-06-29","2011-07-13","2011-07-27","2011-08-10","2011-08-24","2011-09-07","2011-09-21","2011-10-05","2011-10-19","2011-11-02","2011-11-16","2011-11-30","2011-12-14","2012-02-08","2012-02-22","2012-03-07","2012-03-21","2012-04-04","2012-04-18","2012-05-02","2012-05-16","2012-05-30","2012-06-13","2012-07-25","2012-08-08","2012-08-22","2012-09-05","2012-09-19","2012-10-10","2012-10-24","2012-11-07","2012-11-21","2012-12-05","2012-12-12","2013-02-06","2013-02-20","2013-03-06","2013-03-20","2013-04-10","2013-04-24","2013-05-08","2013-05-23","2013-06-05","2013-06-19","2013-07-03","2013-08-07","2013-08-21","2013-09-04","2013-09-11","2013-09-25",null,null,null,null,null,null,null,"TOD","O","P","B","E","FOTOS ON LINE",null,"JOGOS","1º","2º","3º"]
["Adriano França","F","F","F","F","F","F","F","F","F","F","F","F","F","F","F","F","F","F","F","F","F","F","F","F","F","F","F","F","F","F","F","F","F","F","F","F","F","F","F","F","F","F","F","F","F","F","F","F","F","F","F","F","F","F","F","F","F","F","F","F","F","F","F","F","F","F","F","F","F","F","F","F","F","F","F","F","F","F","F","F","F","F","F","F","F","F","F","F","F","F","F","F","F","F","F","F","F","F","F","F","F","F","F","F","F","F","F","F","F","F","F","F","F","F","F","F","F","F","F","F","F","F","F","F","F","F","F","F","F","F","F","F","F","F","F","F","F","F","F","F","F","F","F","F","F","F","F","F","F","F","F","F","F","F","F","F","F","F","F","F","F","F","F","F","F","F","F","F","F","F","F","F","F","F","F","F","F","F","F","F","F","F","F","F","F","F","F","F","F","F","F","F","F","F","F","F","F","F","F","F","F","F","F","F","F","F",11,"F","F","F","F","F","F","F","F","F","F","F","F","F","F","F","F","F",null,null,null,null,null,null,null,null,{"$f":"COUNT(B4:HX4)","v":1},{"$f":"COUNTIF(B4:HX4,\"100\")","v":0},{"$f":"COUNTIF(B4:HX4,\"200\")","v":0},{"$f":"COUNTIF(B4:HX4,\"300\")","v":0},{"$f":"COUNTIF(B4:HX4,\"400\")","v":0},"<img src=\"http://www.clubedobotao.com/wp-content/uploads/2012/12/SOMBRA-2012.jpg\" alt=\"\" title=\"Adriano França\" width=\"25\" height=\"25\" class=\"aligncenter size-full wp-image-6198\" />",null,{"$f":"COUNT(B4:HX4)","v":1},{"$f":"COUNTIF($B4:$HX4,\"100\")","v":0},{"$f":"COUNTIF($B4:$HX4,\"2\")","v":0},{"$f":"COUNTIF($B4:$HX4,\"3\")","v":0}]
["Agnaldo Camelo","F","F","F","F","F","F","F","F","F","F","F","F","F","F","F","F","F","F","F","F","F","F",16,16,17,13,10,10,"F",12,16,300,300,"F",300,9,"F",10,"F",17,300,6,"F","F","F","F","F","F","F","F","F","F","F","F","F","F","F",400,15,15,18,17,"F",300,12,15,300,17,"F","F",17,"F","F","F","F","F","F","F","F","F","F","F","F","F","F","F","F","F","F","F","F","F","F","F","F","F","F","F","F","F","F","F","F","F","F","F","F","F","F","F","F","F","F","F","F","F","F","F","F","F","F","F","F","F","F","F","F","F","F","F","F","F","F","F","F","F","F","F","F","F","F","F","F","F","F","F","F","F","F","F","F","F","F","F","F","F","F","F","F","F","F","F","F","F","F","F","F","F","F","F","F","F","F","F","F","F","F","F","F","F","F","F","F","F","F","F","F","F","F","F","F","F","F","F","F","F","F","F","F","F","F","F","F","F","F","F","F","F","F","F","F","F","F","F","F","F","F","F","F","F","F","F","F","F",null,null,null,null,null,null,null,null,27,0,0,6,1,"<img src=\"http://www.clubedobotao.com/wp-content/uploads/2012/12/SOMBRA-2012.jpg\" alt=\"\" title=\"SOMBRA\" width=\"25\" height=\"25\" class=\"aligncenter size-full wp-image-6198\" />",null,27,0,0,0]
["Anderson Henrique","F","F","F","F","F","F","F","F","F","F","F","F","F","F","F","F","F","F","F","F","F","F","F","F","F","F","F","F","F","F","F","F","F","F","F","F","F","F","F","F","F","F","F","F","F","F","F","F","F","F","F","F","F","F","F","F","F","F","F","F","F","F","F","F","F","F","F","F","F","F","F","F","F","F","F","F","F","F","F","F","F","F","F","F","F","F","F","F","F","F","F","F","F","F","F","F","F","F","F","F","F","F","F","F","F","F","F","F","F","F","F","F","F","F","F","F","F","F","F","F","F","F","F","F","F","F","F","F","F","F","F","F","F","F","F","F","F","F","F","F","F","F","F","F","F","F","F","F","F","F","F","F","F","F","F","F","F","F","F","F","F","F","F","F","F","F","F","F","F","F","F","F","F","F","F","F","F",14,11,14,"F",15,12,9,5,12,"F","F","F","F","F","F","F","F","F","F","F","F","F","F","F","F","F","F","F","F","F","F","F","F","F","F","F","F","F","F","F","F","F","F","F","F","F","F",null,null,null,null,null,null,null,null,8,0,0,0,0,"<img src=\"http://www.clubedobotao.com/wp-content/uploads/2012/12/SOMBRA-2012.jpg\" alt=\"\" title=\"SOMBRA\" width=\"25\" height=\"25\" class=\"aligncenter size-full wp-image-6198\" />",null,8,0,0,0]
["Andre Stancatti",100,4,4,4,7,5,9,14,10,5,16,5,4,200,200,3,2,3,6,6,"F",9,10,"F",10,11,"F",15,200,11,8,10,8,200,10,"F","F","F","F",11,"F",300,300,8,9,8,8,8,8,4,4,8,5,4,9,8,9,200,6,200,11,"F","F","F","F","F","F","F","F","F","F","F","F",300,"F",200,"F",5,9,"F","F","F","F",200,"F","F","F","F","F","F","F","F","F","F","F","F","F","F","F",300,12,"F","F",10,"F","F","F","F","F","F","F","F","F","F","F","F","F","F","F","F","F","F","F",10,8,3,5,8,"F",9,"F","F","F","F","F","F","F","F","F","F","F","F","F","F","F","F","F","F","F","F","F","F","F","F","F","F","F","F","F","F","F","F","F","F","F","F","F","F","F","F","F","F","F","F","F","F","F","F","F","F","F","F","F","F","F","F","F","F","F","F","F","F","F","F","F","F","F","F","F","F","F","F","F","F","F","F","F","F","F","F","F","F","F","F","F","F","F","F","F","F","F","F","F","F",null,null,null,null,null,null,null,null,67,1,8,4,0,"<img src=\"http://www.clubedobotao.com/wp-content/uploads/2012/12/SOMBRA-2012.jpg\" alt=\"\" title=\"SOMBRA\" width=\"25\" height=\"25\" class=\"aligncenter size-full wp-image-6198\" />",null,67,1,1,3]
["Antonio Ribeiro",6,8,3,15,3,8,6,12,15,8,7,6,10,10,10,10,8,9,9,10,9,10,5,2,5,200,2,6,5,5,6,11,9,9,8,200,10,9,9,10,8,5,9,5,8,4,6,5,4,5,3,6,9,8,200,9,200,4,5,6,6,8,4,6,7,9,9,9,4,200,6,10,9,8,200,4,5,12,5,5,6,8,5,6,6,14,13,11,8,7,9,5,8,5,9,200,6,8,6,9,"F",10,"F",2,"F",200,13,11,14,10,11,8,6,14,9,2,5,"F",4,"F",11,200,10,5,3,6,8,3,4,5,10,9,4,5,10,"F",9,6,8,4,"F","F","F","F",2,3,4,4,3,5,2,5,5,2,5,9,100,8,"F",2,9,12,6,9,4,200,6,200,6,10,2,4,4,3,5,11,11,10,3,4,5,11,8,5,12,14,13,13,4,3,6,10,200,4,5,8,6,7,3,4,2,6,6,8,4,6,2,4,8,7,6,5,8,2,7,2,2,3,100,100,3,2,"F","F",null,null,null,null,null,null,null,null,211,3,12,0,0,"<img src=\"http://www.clubedobotao.com/wp-content/uploads/2012/12/ANTONIO-RIBEIRO-2012.jpg\" alt=\"\" title=\"Antonio Ribeiro\" width=\"25\" height=\"25\" class=\"aligncenter size-thumbnail wp-image-4920\" />",null,211,3,15,13]
["Augusto Cesar","F","F","F","F","F","F","F","F","F","F","F","F","F","F","F","F","F","F","F","F","F","F","F","F","F","F","F","F","F","F","F","F","F","F","F","F","F","F","F","F","F","F","F","F","F","F","F","F","F","F",17,"F","F","F","F","F","F","F",23,400,17,"F",21,"F",16,"F",21,"F","F","F",16,"F","F","F","F","F","F","F","F","F",9,"F","F","F","F","F",12,"F","F","F","F",17,12,14,11,"F","F","F","F","F","F","F","F",12,"F","F","F","F","F","F","F","F",300,"F","F","F","F","F","F","F","F","F","F","F","F","F","F","F","F","F","F","F","F","F","F","F","F","F","F","F","F","F","F","F","F","F","F","F","F","F","F","F","F","F","F","F","F","F","F","F","F","F","F","F","F","F","F","F","F","F","F","F","F","F","F","F","F","F","F","F","F","F","F","F","F","F","F","F","F","F","F","F","F","F","F","F","F","F","F","F","F","F","F","F","F","F","F","F","F","F","F","F","F","F","F","F","F","F","F","F","F","F","F","F",null,null,null,null,null,null,null,null,16,0,0,1,1,"<img src=\"http://www.clubedobotao.com/wp-content/uploads/2012/12/SOMBRA-2012.jpg\" alt=\"\" title=\"SOMBRA\" width=\"25\" height=\"25\" class=\"aligncenter size-full wp-image-6198\" />",null,16,0,0,0]
["Beto Magrini","F","F","F","F","F","F","F","F","F","F","F","F","F","F","F","F","F","F","F","F","F","F","F","F","F","F","F","F","F","F","F","F","F","F","F","F","F","F","F","F","F","F","F","F","F","F","F","F","F","F","F","F","F","F","F","F","F","F","F","F","F","F","F","F","F","F","F","F","F","F","F","F","F","F","F","F","F","F","F","F","F","F",14,300,"F",300,"F","F","F",3,3,300,200,4,100,5,"F","F","F","F","F","F","F",8,"F",300,6,5,8,5,10,200,2,100,4,6,200,2,"F",3,100,"F","F",12,200,100,3,"F",9,"F",200,3,"F","F",200,3,2,2,100,200,3,"F","F","F","F","F","F","F","F","F","F","F","F","F","F","F","F","F","F","F","F","F","F","F","F","F","F","F","F","F","F","F","F","F","F","F","F","F","F","F","F","F","F","F","F","F","F","F",100,10,"F",200,100,3,"F","F","F","F","F","F","F","F","F","F","F","F","F","F","F","F","F","F","F","F","F","F","F","F","F","F","F","F","F","F",null,null,null,null,null,null,null,null,45,7,8,4,0,"<img src=\"http://www.clubedobotao.com/wp-content/uploads/2012/12/BETO-MAGRINI-2012.jpg\" alt=\"\" title=\"Beto Magrini\" width=\"25\" height=\"25\" class=\"aligncenter size-thumbnail wp-image-5768\" />",null,45,7,4,8]
["Bryan Brinque","F","F","F","F","F","F","F","F","F","F","F","F","F","F","F","F","F","F","F","F","F","F","F","F","F","F","F","F","F","F","F","F","F","F","F","F","F","F","F","F","F","F","F","F","F","F","F","F","F","F","F","F","F","F","F","F","F","F","F","F","F","F","F","F","F","F","F","F","F","F","F","F","F","F","F","F","F","F","F","F","F","F","F","F","F","F","F","F","F","F",18,20,16,17,17,14,10,"F",17,"F","F","F","F","F","F",17,"F","F","F","F","F","F","F","F","F","F","F","F","F","F","F","F","F","F","F","F","F","F","F","F","F","F","F","F","F","F","F","F","F","F","F","F","F","F","F","F","F","F","F","F","F","F","F","F","F","F","F","F","F","F","F","F","F","F","F","F","F","F","F","F","F","F","F","F","F","F","F","F","F","F","F","F","F","F","F","F","F","F","F","F","F","F","F","F","F","F","F","F","F","F","F","F","F","F","F","F","F","F","F","F","F","F","F","F","F","F","F","F","F","F","F","F","F","F",null,null,null,null,null,null,null,null,9,0,0,0,0,"<img src=\"http://www.clubedobotao.com/wp-content/uploads/2012/12/SOMBRA-2012.jpg\" alt=\"\" title=\"SOMBRA\" width=\"25\" height=\"25\" class=\"aligncenter size-full wp-image-6198\" />",null,9,0,0,0]
["Carlos Febo",4,9,11,2,13,"F","F",7,4,"F",11,9,9,11,"F",8,16,10,"F",11,16,"F",14,15,15,"F","F",300,"F","F",14,"F","F",14,15,15,15,14,"F",300,14,9,"F",10,"F",14,"F","F","F","F","F",300,300,"F",15,10,12,9,"F",300,16,9,"F","F","F","F","F","F","F","F","F","F","F",15,14,"F",17,"F",12,"F",8,"F",16,16,11,15,"F","F",14,14,15,11,14,12,"F","F",9,11,15,"F",300,8,"F","F","F",16,"F","F","F","F","F","F","F","F","F","F","F","F","F","F","F","F","F","F","F","F","F","F","F","F","F","F","F","F","F","F","F","F","F","F","F","F","F","F","F","F","F","F","F","F","F","F","F","F","F","F","F","F","F","F","F","F","F","F","F","F","F","F","F","F","F","F","F","F","F","F","F","F","F","F","F","F","F","F","F","F","F","F","F","F","F","F","F","F","F","F","F","F","F","F","F","F","F","F","F","F","F","F","F","F","F","F","F","F","F","F","F","F","F","F","F","F","F","F",null,null,null,null,null,null,null,null,61,0,0,6,0,"<img src=\"http://www.clubedobotao.com/wp-content/uploads/2012/12/SOMBRA-2012.jpg\" alt=\"\" title=\"SOMBRA\" width=\"25\" height=\"25\" class=\"aligncenter size-full wp-image-6198\" />",null,61,0,1,0]
["Carlos Henrique","F","F","F","F","F","F","F","F","F","F","F","F","F","F","F","F","F","F","F","F","F","F","F","F","F","F","F","F","F","F","F","F","F","F","F","F","F","F","F","F","F","F","F","F","F","F","F","F","F","F","F","F","F","F","F","F","F","F","F","F","F","F","F","F",8,400,20,16,10,15,15,300,13,12,9,11,10,"F","F","F","F","F","F","F","F","F",15,12,19,8,8,6,11,16,"F","F","F","F","F",14,"F","F","F","F","F","F",10,"F","F","F","F","F","F","F","F","F","F","F","F","F","F","F","F","F","F",10,"F","F",13,"F","F","F","F","F","F","F","F","F","F","F","F","F","F","F","F","F","F","F","F","F","F","F","F","F","F","F","F","F","F","F","F","F","F","F","F","F","F","F","F","F","F","F","F","F","F","F","F","F","F","F","F","F","F","F","F","F","F","F","F","F","F","F","F","F","F","F","F","F","F","F","F","F","F","F","F","F","F","F","F","F","F","F","F","F","F","F","F","F","F","F","F","F","F","F",null,null,null,null,null,null,null,null,25,0,0,1,1,"<img src=\"http://www.clubedobotao.com/wp-content/uploads/2012/12/SOMBRA-2012.jpg\" alt=\"\" title=\"SOMBRA\" width=\"25\" height=\"25\" class=\"aligncenter size-full wp-image-6198\" />",null,25,0,0,0]
["Celso de Assis",3,3,7,3,6,4,4,3,7,9,8,10,5,4,5,4,4,6,5,8,10,12,12,9,9,10,"F",14,300,300,10,200,200,8,200,8,8,200,200,200,200,4,100,4,3,2,4,4,6,6,5,4,3,3,6,7,8,5,3,5,7,5,2,5,3,4,3,6,6,5,5,6,10,"F","F","F",8,2,8,200,4,6,10,9,9,2,100,3,100,6,2,100,5,200,3,100,5,200,3,5,8,2,4,"F",9,100,2,6,9,8,5,9,4,6,11,8,4,6,"F",8,3,"F","F",4,2,2,2,4,100,2,100,5,5,8,4,100,3,4,4,2,2,3,3,3,"F",4,"F","F","F","F","F",3,2,100,100,2,5,100,5,100,3,9,7,100,100,4,3,100,100,100,100,100,3,2,2,3,"F",8,2,2,100,2,2,2,2,4,2,3,"F","F","F","F","F","F","F","F","F","F","F","F","F","F","F","F","F","F","F","F","F","F","F","F","F","F","F","F","F","F","F","F","F","F","F","F",null,null,null,null,null,null,null,null,173,21,10,2,0,"<img src=\"http://www.clubedobotao.com/wp-content/uploads/2012/12/SOMBRA-2012.jpg\" alt=\"\" title=\"SOMBRA\" width=\"25\" height=\"25\" class=\"aligncenter size-full wp-image-6198\" />",null,173,21,24,24]
["César Rebecca","F","F","F","F","F","F","F","F","F","F","F","F","F","F","F","F","F","F","F","F","F","F","F","F","F","F","F","F","F","F","F","F","F","F","F","F","F","F","F","F","F","F","F","F","F","F","F","F","F","F","F","F","F","F","F","F","F","F","F","F","F","F","F","F","F","F","F","F","F","F","F","F","F","F","F","F","F","F","F","F","F","F","F","F","F","F","F","F","F","F","F","F","F","F","F","F","F","F","F","F","F","F","F","F","F","F","F","F","F","F","F","F","F","F","F","F","F","F","F",10,10,5,300,11,9,12,11,5,12,8,6,10,6,11,6,200,5,10,9,3,"F","F","F","F","F","F","F","F","F","F","F","F","F","F","F","F","F","F","F","F",4,5,"F",7,6,8,2,3,2,5,200,2,2,4,6,9,6,11,4,5,200,3,4,4,"F",9,3,"F",3,6,200,4,5,10,4,6,8,6,2,6,3,7,200,4,3,4,3,"F","F",100,8,8,100,4,2,3,3,2,"F","F","F","F","F","F",null,null,null,null,null,null,null,null,74,2,5,1,0,"<img src=\"http://www.clubedobotao.com/wp-content/uploads/2012/12/CÉSAR-REBECCA-2012.jpg\" alt=\"\" title=\"César Rebecca\" width=\"25\" height=\"25\" class=\"aligncenter size-thumbnail wp-image-4922\" />",null,74,2,7,10]
["Chelio","F","F","F","F","F","F","F","F","F","F","F","F","F","F","F","F","F","F","F","F","F","F","F","F","F","F","F","F","F","F","F","F","F","F","F","F","F","F","F","F","F","F","F","F","F","F","F","F","F","F","F","F","F","F","F","F","F","F","F","F","F","F","F","F","F","F","F","F","F","F","F","F","F","F","F","F","F","F","F","F","F","F","F","F","F","F","F","F","F","F","F","F","F","F","F","F","F","F","F","F","F","F","F","F","F","F","F","F","F","F","F","F","F","F","F","F","F","F","F","F","F","F","F","F","F","F","F","F","F","F","F","F","F","F","F","F","F","F","F","F","F","F","F","F",5,6,5,5,5,4,5,2,8,6,7,8,6,9,6,3,8,"F",10,5,7,13,10,5,8,6,8,"F","F",10,4,5,9,5,10,8,"F",8,5,11,4,100,6,2,"F",200,3,5,10,11,9,200,3,"F",7,10,5,3,2,3,6,"F",6,5,9,2,5,3,4,3,8,4,"F","F",7,2,"F",3,"F","F",null,null,null,null,null,null,null,null,68,1,2,0,0,"<img src=\"http://www.clubedobotao.com/wp-content/uploads/2012/12/FÁBIO-CHELIO-2012.jpg\" alt=\"\" title=\"Chelio\" width=\"25\" height=\"25\" class=\"aligncenter size-full wp-image-6201\" />",null,68,1,5,8]
["Cristiano","F","F",100,"F",100,"F","F","F",100,100,100,"F",200,"F",100,"F","F",200,200,100,100,100,8,8,8,100,"F",100,100,100,100,3,"F","F",100,"F","F","F",100,2,"F","F","F","F","F","F","F","F","F","F","F","F","F","F","F",3,"F","F","F","F","F","F","F","F","F","F","F","F","F","F","F","F","F","F","F","F","F","F","F","F","F","F","F","F","F","F","F","F","F","F","F","F","F","F","F","F","F","F","F","F","F","F","F","F",200,"F","F",300,200,2,"F","F","F",200,"F","F","F","F","F","F","F","F","F","F","F","F","F","F","F","F","F","F","F","F","F","F","F","F","F","F","F","F","F","F","F","F","F","F","F","F","F","F","F","F","F","F","F","F","F","F","F","F","F","F","F","F","F","F","F","F","F","F","F",200,"F","F",200,100,"F","F","F","F",200,"F","F","F",9,"F","F","F","F","F",8,2,"F","F","F","F","F","F","F","F","F","F","F","F",9,"F","F","F","F","F","F","F","F","F","F","F","F","F","F","F","F","F",null,null,null,null,null,null,null,null,38,17,9,1,0,"<img src=\"http://www.clubedobotao.com/wp-content/uploads/2012/12/CRISTIANO-PAFFRATH-2012.jpg\" alt=\"\" title=\"Cristiano\" width=\"25\" height=\"25\" class=\"aligncenter size-thumbnail wp-image-4640\" />",null,38,17,3,2]
["Edson Fortuna",5,"F",12,6,8,7,11,8,8,10,14,13,14,16,16,11,"F","F",16,"F",15,15,18,14,14,12,11,11,11,9,9,8,11,10,11,10,9,"F","F",12,9,10,"F",300,10,"F",300,11,14,"F",16,14,12,14,12,11,11,15,9,"F",13,15,300,16,17,"F","F",300,15,"F","F",15,"F","F",16,"F","F","F","F",11,10,"F",300,15,15,8,8,"F",16,"F",16,"F","F","F",15,"F","F",14,"F","F","F","F","F","F","F","F",12,9,6,12,8,4,5,11,8,5,9,"F",7,9,9,6,200,9,"F",9,"F","F",10,3,"F","F",8,6,8,"F",10,200,5,"F",6,"F",5,"F",4,"F","F","F",4,3,3,"F",6,"F","F",6,"F","F","F","F",5,"F",5,8,200,11,8,"F","F","F","F","F","F","F","F","F",8,6,8,6,8,5,10,"F",11,"F","F",11,6,9,8,"F","F","F","F","F","F","F","F","F","F","F","F","F",11,"F","F","F","F",8,7,6,7,5,5,5,4,6,6,"F","F","F","F","F",null,null,null,null,null,null,null,null,133,0,3,5,0,"<img src=\"http://www.clubedobotao.com/wp-content/uploads/2012/12/EDSON-FORTUNA-2012.jpg\" alt=\"\" title=\"Edson Fortuna\" width=\"25\" height=\"25\" class=\"aligncenter size-full wp-image-6200\" />",null,133,0,0,3]
["Eduardo Barbosa","F","F","F","F","F","F","F","F","F","F","F","F","F","F","F","F","F","F","F","F","F","F","F","F","F","F","F","F","F","F","F","F","F","F","F","F","F","F","F","F","F","F","F","F","F","F","F","F","F","F","F","F","F","F","F","F","F","F","F","F","F","F","F","F","F","F","F","F","F","F","F","F","F","F","F","F","F","F","F","F","F","F","F","F","F","F","F","F","F","F","F","F","F","F","F","F","F","F","F","F","F","F","F","F","F","F","F","F","F","F","F","F","F","F","F","F","F","F","F","F","F","F","F","F","F","F","F","F","F","F","F","F","F","F","F","F","F","F","F","F","F","F","F","F","F","F","F","F","F","F","F","F","F","F","F","F","F","F","F","F","F","F","F","F","F","F","F","F","F","F","F","F","F","F","F","F",14,"F",14,12,"F","F","F","F","F","F","F","F","F","F","F","F","F","F","F","F","F","F","F","F","F","F","F","F","F","F","F","F","F","F","F","F","F","F","F","F","F","F","F","F","F","F","F","F",null,null,null,null,null,null,null,null,3,0,0,0,0,"<img src=\"http://www.clubedobotao.com/wp-content/uploads/2012/12/SOMBRA-2012.jpg\" alt=\"\" title=\"SOMBRA\" width=\"25\" height=\"25\" class=\"aligncenter size-full wp-image-6198\" />",null,3,0,0,0]
["Fábio Januário","F","F","F","F","F","F","F","F","F","F","F","F","F","F","F","F","F","F","F","F","F","F","F","F","F","F","F","F","F","F","F","F","F","F","F","F","F","F","F","F","F","F","F","F","F","F","F","F","F","F","F","F","F","F","F","F","F","F","F","F","F","F","F","F","F","F","F","F","F","F","F","F","F","F","F","F","F","F","F","F","F","F","F","F","F","F","F","F","F","F","F","F","F","F","F","F","F","F","F","F","F","F","F","F","F","F","F","F","F","F","F","F","F","F","F","F","F","F","F","F","F","F","F","F","F","F","F","F","F","F","F","F","F","F","F","F","F","F","F","F","F","F","F","F","F","F","F","F","F","F","F","F","F","F","F","F","F","F","F","F","F","F","F","F","F","F","F","F","F","F","F","F","F","F","F","F","F","F","F","F","F","F","F","F","F","F","F","F","F","F","F","F","F","F","F","F","F","F","F","F","F","F","F","F",200,"F",10,"F","F","F","F","F","F","F","F","F","F","F","F","F","F","F","F","F",null,null,null,null,null,null,null,null,2,0,1,0,0,"<img src=\"http://www.clubedobotao.com/wp-content/uploads/2012/12/FÁBIO-JANUÁRIO-2012.jpg\" alt=\"\" title=\"Fábio Januário\" width=\"25\" height=\"25\" class=\"aligncenter size-full wp-image-6198\" />",null,2,0,0,0]
["Fernando Barbin","F","F","F","F","F","F","F","F","F","F","F","F","F","F","F","F","F","F","F","F","F","F","F","F","F","F","F","F","F","F","F","F","F","F","F","F","F","F","F","F","F","F","F","F","F","F","F","F","F","F","F","F","F","F","F","F","F","F","F","F","F","F","F","F","F","F","F","F","F","F","F","F","F","F","F","F","F","F","F","F","F","F","F","F","F","F","F","F","F","F","F","F","F","F","F","F","F","F","F","F","F","F","F","F","F","F","F","F","F","F","F","F","F","F","F","F","F","F","F","F","F","F","F","F","F","F","F","F","F","F","F","F","F","F","F","F","F","F","F","F","F","F","F","F","F","F","F","F","F","F","F","F","F","F","F","F","F","F","F","F","F","F","F","F","F","F","F","F","F","F","F","F","F","F","F","F","F","F","F","F","F","F","F","F","F","F","F","F","F","F","F","F","F","F","F","F","F","F","F","F","F","F",9,10,5,9,"F","F","F","F","F","F","F","F","F","F","F","F","F","F","F","F","F","F",null,null,null,null,null,null,null,null,4,0,0,0,0,"<img src=\"http://www.clubedobotao.com/wp-content/uploads/2012/12/FERNANDO-BARBIN-2012.jpg\" alt=\"\" title=\"Fernando Barbin\" width=\"25\" height=\"25\" class=\"aligncenter size-full wp-image-6198\" />",null,4,0,0,0]
["Fernando Dézio","F","F","F","F","F","F","F","F","F","F","F","F","F","F","F","F","F","F","F","F","F","F","F","F","F","F","F","F","F","F","F","F","F","F","F","F","F","F","F","F","F","F","F","F","F","F","F","F","F","F","F","F","F","F","F","F","F","F","F","F","F","F","F","F","F","F","F","F","F","F","F","F","F","F","F","F","F","F","F","F","F","F","F","F","F","F","F","F","F","F","F","F","F","F","F","F","F","F","F","F","F","F","F","F","F","F","F","F","F","F","F","F","F","F","F","F","F","F","F","F","F","F","F","F","F","F","F","F","F","F","F","F","F","F","F","F","F","F","F","F","F","F","F","F","F","F","F","F","F","F","F","F","F","F","F","F","F","F","F","F","F","F","F","F","F","F","F","F","F",12,9,6,6,5,12,12,12,13,12,11,6,10,6,12,6,10,10,"F",10,5,11,8,4,6,200,4,4,8,5,5,4,2,5,9,"F",200,"F",9,10,6,4,4,5,"F",4,"F",6,5,3,"F",4,"F","F","F",null,null,null,null,null,null,null,null,46,0,2,0,0,"<img src=\"http://www.clubedobotao.com/wp-content/uploads/2012/12/FERNANDO-DEZIO-2012.jpg\" alt=\"\" title=\"Fernando Dezio\" width=\"25\" height=\"25\" class=\"aligncenter size-full wp-image-4383\" />",null,46,0,1,1]
["Gabriel Nardy","F","F","F","F","F","F","F","F","F","F","F","F","F","F","F","F","F","F","F","F","F","F","F","F","F","F","F","F","F","F","F","F","F","F","F","F","F","F","F","F","F","F","F","F","F","F","F","F","F","F","F","F","F","F","F",16,16,17,16,16,24,16,16,15,13,16,15,18,14,12,18,16,12,11,11,10,18,7,10,"F","F","F",12,12,10,11,17,10,10,16,17,19,15,11,14,"F",13,12,14,12,15,12,10,5,"F",8,11,"F",16,16,14,15,"F","F",300,10,12,"F","F","F",12,"F",14,"F","F","F","F",10,"F","F","F","F","F","F","F","F","F","F","F","F","F","F","F","F","F","F","F","F","F","F","F","F","F","F","F","F","F","F","F","F","F","F","F","F","F","F","F","F","F","F","F","F","F","F","F","F","F","F","F","F","F","F","F","F","F","F","F","F","F","F","F","F","F","F","F","F","F","F","F","F","F","F","F","F","F","F","F","F","F","F","F","F","F","F","F","F","F","F","F","F","F","F","F","F",null,null,null,null,null,null,null,null,57,0,0,1,0,"<img src=\"http://www.clubedobotao.com/wp-content/uploads/2012/12/SOMBRA-2012.jpg\" alt=\"\" title=\"SOMBRA\" width=\"25\" height=\"25\" class=\"aligncenter size-full wp-image-6198\" />",null,57,0,0,0]
["Guilherme Simeira","F","F","F","F","F","F","F","F","F","F","F","F","F","F","F","F","F","F","F","F","F","F","F","F","F","F","F","F","F","F","F","F","F","F","F","F","F","F","F","F","F","F","F","F","F","F","F","F","F","F","F","F","F","F","F","F","F","F","F","F","F","F","F","F","F","F","F","F","F","F","F","F","F","F","F","F","F","F","F","F","F","F","F","F","F","F","F","F","F","F","F",16,"F","F","F","F","F","F","F","F","F","F","F","F","F","F","F","F","F","F","F","F","F","F","F","F","F","F","F","F","F","F","F","F","F","F","F","F","F","F","F","F","F","F","F","F","F","F","F","F","F","F","F","F","F","F","F","F","F","F","F","F","F","F","F","F","F","F","F","F","F","F","F","F","F","F","F","F","F","F","F","F","F","F","F","F","F","F","F","F","F","F","F","F","F","F","F","F","F","F","F","F","F","F","F","F","F","F","F","F","F","F","F","F","F","F","F","F","F","F","F","F","F","F","F","F","F","F","F","F","F","F","F","F",null,null,null,null,null,null,null,null,1,0,0,0,0,"<img src=\"http://www.clubedobotao.com/wp-content/uploads/2012/12/SOMBRA-2012.jpg\" alt=\"\" title=\"SOMBRA\" width=\"25\" height=\"25\" class=\"aligncenter size-full wp-image-6198\" />",null,1,0,0,0]
["Gustavo Arcolini","F",2,9,5,2,6,5,4,6,3,9,3,"F","F",4,"F","F","F",14,15,14,300,300,300,300,9,9,200,8,8,200,5,5,2,5,4,5,5,"F",3,5,200,"F",200,4,5,5,9,5,"F",8,200,200,200,5,2,"F","F",300,10,3,200,200,200,9,6,200,4,7,9,200,3,3,4,4,"F",200,9,"F",2,3,2,4,3,100,"F",6,100,4,15,300,9,"F","F",300,"F","F","F",9,8,3,"F","F",9,2,14,4,3,"F","F",200,6,8,4,100,4,6,200,3,100,4,4,4,"F","F","F",200,2,3,"F","F",200,"F",200,"F","F",8,3,2,9,"F","F",2,200,"F",7,2,2,"F","F","F","F",100,5,4,5,"F",5,"F","F",2,2,3,"F",5,"F",200,"F","F","F","F","F","F","F","F","F","F","F","F","F","F",300,9,3,3,"F","F","F","F","F","F","F","F","F","F","F","F","F","F","F","F","F","F","F","F","F","F","F","F","F","F","F","F","F","F","F","F","F","F","F","F","F","F","F",null,null,null,null,null,null,null,null,128,5,20,8,0,"<img src=\"http://www.clubedobotao.com/wp-content/uploads/2012/12/SOMBRA-2012.jpg\" alt=\"\" title=\"SOMBRA\" width=\"25\" height=\"25\" class=\"aligncenter size-full wp-image-6198\" />",null,128,5,14,16]
["Henrique Laitano","F","F","F","F","F","F","F","F","F","F","F","F","F","F","F","F","F","F","F","F","F","F","F","F","F","F","F","F","F","F","F","F","F","F","F","F","F","F","F","F","F","F","F","F","F","F","F","F","F","F","F","F","F","F","F","F","F","F","F","F","F","F","F","F","F","F","F","F","F","F","F","F","F","F","F","F","F","F","F","F","F","F","F","F","F","F","F","F","F","F","F","F","F","F","F","F","F","F","F","F","F","F","F","F","F","F","F","F","F","F","F","F","F","F","F","F","F","F","F","F","F","F","F","F","F","F","F","F","F","F","F","F","F","F","F","F","F","F","F","F","F","F","F","F","F","F","F","F","F","F","F","F","F","F","F","F","F","F","F","F","F",8,9,6,4,6,11,"F","F","F","F","F","F","F","F","F","F",9,"F","F",10,"F","F","F","F","F","F","F","F","F","F","F","F","F","F","F","F","F","F","F","F","F","F","F","F","F","F","F","F","F","F","F","F","F","F","F","F","F","F","F","F","F","F","F",null,null,null,null,null,null,null,null,8,0,0,0,0,"<img src=\"http://www.clubedobotao.com/wp-content/uploads/2012/12/SOMBRA-2012.jpg\" alt=\"\" title=\"SOMBRA\" width=\"25\" height=\"25\" class=\"aligncenter size-full wp-image-6198\" />",null,8,0,0,0]
["Ismael Junior","F","F","F","F","F","F",100,2,5,4,2,100,100,100,2,5,"F",2,100,2,4,"F",100,100,200,6,200,3,2,4,5,100,3,4,6,3,2,2,4,5,100,2,2,2,2,3,100,2,100,100,"F",100,4,5,2,100,100,3,4,100,100,100,"F",2,4,5,2,100,3,4,3,100,6,3,3,"F","F","F",200,8,"F","F",200,"F",200,"F",4,200,200,"F","F",8,2,300,200,4,4,4,2,100,5,200,100,200,100,2,7,200,3,3,3,2,100,3,2,3,100,3,100,"F","F","F",3,"F","F","F","F","F","F","F","F","F","F","F","F","F","F","F","F","F","F","F","F","F","F","F","F","F","F","F","F","F","F","F","F","F","F",2,"F","F","F","F","F","F",3,2,4,2,3,"F","F","F","F","F","F","F","F","F","F","F","F","F","F","F",200,3,"F",8,"F","F","F","F","F","F","F","F","F","F","F","F","F","F","F","F","F","F","F","F","F","F","F","F","F","F","F","F","F","F","F","F","F","F","F","F",null,null,null,null,null,null,null,null,110,26,12,1,0,"<img src=\"http://www.clubedobotao.com/wp-content/uploads/2012/12/SOMBRA-2012.jpg\" alt=\"\" title=\"SOMBRA\" width=\"25\" height=\"25\" class=\"aligncenter size-full wp-image-6198\" />",null,110,26,24,19]
["João Castilho","F","F","F","F","F","F","F","F","F","F","F","F","F","F","F","F","F","F","F","F","F","F","F","F","F","F","F","F","F","F","F","F","F","F","F",17,18,16,16,18,17,16,15,16,14,10,9,12,9,8,10,10,11,12,8,"F","F","F","F",20,15,22,400,20,10,14,14,15,12,10,11,8,15,16,15,12,12,8,17,10,12,11,"F","F","F",12,10,18,15,12,12,15,10,8,6,9,12,10,12,15,9,5,9,6,"F",9,"F","F","F",17,9,10,11,12,"F","F","F","F","F","F","F","F","F","F","F","F","F","F","F",11,5,"F",10,10,"F",9,12,11,11,"F",10,6,"F",9,"F","F","F","F","F","F","F","F","F","F","F","F","F","F","F","F","F","F","F","F","F","F","F","F","F","F","F","F","F",12,9,8,5,"F",15,10,"F",12,13,10,"F",200,4,"F","F","F","F","F","F","F","F","F","F","F","F","F","F","F","F","F","F","F","F","F","F","F","F","F","F","F","F","F","F","F","F","F","F","F","F","F",null,null,null,null,null,null,null,null,90,0,1,0,1,"<img src=\"http://www.clubedobotao.com/wp-content/uploads/2012/12/SOMBRA-2012.jpg\" alt=\"\" title=\"SOMBRA\" width=\"25\" height=\"25\" class=\"aligncenter size-full wp-image-6198\" />",null,90,0,0,0]
["João Pedro","F","F","F","F","F","F","F","F","F","F","F","F","F","F","F","F","F","F","F","F","F","F","F","F","F","F","F","F","F","F","F","F","F","F","F","F","F","F","F","F","F","F","F","F","F","F","F","F","F","F","F","F","F","F","F","F","F","F","F","F","F","F","F","F","F","F","F","F","F","F","F","F","F","F","F","F","F","F","F","F","F","F","F","F","F","F","F","F","F","F","F","F","F","F","F","F","F","F","F","F","F","F","F","F","F","F","F","F","F","F","F","F","F","F","F","F","F","F","F","F","F","F","F","F","F","F","F","F","F","F","F","F","F","F","F","F","F","F","F","F","F","F","F","F","F","F","F","F","F","F","F","F","F","F","F","F","F","F","F","F","F","F","F","F","F","F","F","F","F","F","F","F","F","F","F","F","F","F","F","F","F","F","F","F","F","F","F","F","F","F","F","F","F","F","F","F","F","F","F","F","F","F","F","F",8,"F",8,"F","F","F","F","F","F","F","F","F","F","F","F","F","F","F","F","F",null,null,null,null,null,null,null,null,2,0,0,0,0,"<img src=\"http://www.clubedobotao.com/wp-content/uploads/2012/12/JOÃO-PEDRO-2012.jpg\" alt=\"\" title=\"João Pedro\" width=\"25\" height=\"25\" class=\"aligncenter size-full wp-image-6198\" />",null,2,0,0,0]
["João Pedro Gall","F","F","F","F","F","F","F","F","F","F","F","F","F","F","F","F","F","F","F","F","F","F","F","F","F","F","F","F","F","F","F","F","F","F","F","F","F","F","F","F","F","F","F","F","F","F","F","F","F","F","F","F","F","F","F","F","F","F","F","F","F","F","F","F","F","F","F","F","F","F","F","F","F","F","F","F","F","F","F","F","F","F","F","F","F","F","F","F","F","F","F","F","F","F","F","F","F","F","F","F","F","F","F","F","F","F","F","F","F","F","F","F","F","F","F","F","F","F","F","F","F","F","F","F","F","F","F","F","F","F","F","F","F","F","F","F","F","F","F","F","F","F","F","F","F","F","F","F","F","F","F","F","F","F","F","F","F","F","F","F","F","F","F","F","F","F","F","F","F","F","F","F","F","F","F","F","F","F","F","F","F","F","F","F","F","F","F","F","F","F","F","F","F","F","F","F","F","F","F","F","F","F","F","F","F","F","F",200,200,"F","F","F","F","F","F","F","F","F","F","F","F","F","F","F",null,null,null,null,null,null,null,null,2,0,2,0,0,"<img src=\"http://www.clubedobotao.com/wp-content/uploads/2012/12/JOÃO-PEDRO-GALL-2012.jpg\" alt=\"\" title=\"João Pedro Gall\" width=\"25\" height=\"25\" class=\"aligncenter size-full wp-image-3447\" />",null,2,0,0,0]
["Jorge Prado","F","F","F","F","F","F","F","F","F","F","F","F","F","F","F","F","F","F","F","F","F","F","F","F","F","F","F","F","F","F","F","F","F","F","F","F","F","F","F","F","F","F","F","F","F","F","F","F","F","F","F","F","F","F","F","F","F","F","F","F","F","F","F","F","F","F","F","F","F","F","F","F","F","F","F","F","F","F","F","F","F","F","F","F","F","F","F","F","F","F","F","F","F","F","F","F","F","F","F","F","F","F","F","F","F","F","F","F","F","F","F","F","F","F","F","F","F","F","F","F","F","F","F","F","F","F","F","F","F","F","F","F","F","F","F","F","F","F","F","F","F","F","F","F","F","F","F","F","F","F",7,"F","F","F","F","F","F","F","F","F","F","F","F","F","F","F","F","F","F","F","F","F","F","F","F","F","F","F","F","F","F","F","F","F","F","F","F","F","F","F","F","F","F","F","F","F","F","F","F","F","F","F","F","F","F","F","F","F","F","F","F","F","F","F","F","F","F","F","F","F","F","F","F","F",null,null,null,null,null,null,null,null,1,0,0,0,0,"<img src=\"http://www.clubedobotao.com/wp-content/uploads/2012/12/SOMBRA-2012.jpg\" alt=\"\" title=\"SOMBRA\" width=\"25\" height=\"25\" class=\"aligncenter size-full wp-image-6198\" />",null,1,0,0,0]
["Jose Gallasch","F","F","F","F","F","F","F","F","F","F","F","F","F","F","F","F","F","F","F","F","F","F","F","F","F","F","F","F","F","F","F","F","F","F","F","F","F","F","F","F","F","F","F","F","F","F","F","F","F","F","F","F","F","F","F","F","F","F","F","F","F","F","F","F","F","F","F","F","F","F","F","F","F","F","F","F","F","F","F","F","F","F",15,14,300,10,"F","F","F","F","F","F","F","F","F","F","F","F","F","F","F","F","F","F","F","F","F","F","F","F","F","F","F","F","F","F","F","F","F","F","F","F","F","F","F","F","F","F","F","F","F","F","F","F","F","F","F","F","F","F","F","F","F","F","F","F","F","F","F","F","F","F","F","F","F","F","F","F","F","F","F","F","F","F","F","F","F","F","F","F","F","F","F","F","F","F","F","F","F","F","F","F","F","F","F","F","F","F","F","F","F","F","F","F","F","F","F","F","F","F","F","F","F","F","F","F","F","F","F","F","F","F","F","F","F","F","F","F","F","F","F","F","F","F",null,null,null,null,null,null,null,null,4,0,0,1,0,"<img src=\"http://www.clubedobotao.com/wp-content/uploads/2012/12/SOMBRA-2012.jpg\" alt=\"\" title=\"SOMBRA\" width=\"25\" height=\"25\" class=\"aligncenter size-full wp-image-6198\" />",null,4,0,0,0]
["Jose Henrique","F","F","F","F","F","F","F","F","F","F","F","F","F","F","F","F","F","F","F","F","F","F","F","F","F","F","F","F","F","F","F","F","F","F","F","F","F","F","F","F","F","F","F","F","F","F","F","F","F","F","F","F","F","F","F","F","F","F","F","F","F","F","F","F","F","F","F","F","F","F","F","F","F","F","F","F","F","F","F","F","F","F","F","F","F","F","F","F","F","F","F","F","F","F","F","F","F","F","F","F","F","F","F","F","F","F","F","F","F","F","F","F","F","F","F","F","F","F","F","F","F","F","F","F","F","F","F","F","F","F","F","F","F","F","F","F","F","F","F","F","F","F","F","F","F","F","F","F","F","F","F","F","F","F","F","F","F","F","F","F","F","F","F","F","F",14,12,6,"F","F","F","F","F","F","F","F","F","F","F","F","F",14,"F","F","F",15,14,"F","F","F","F","F","F","F","F","F","F","F","F","F","F","F","F","F","F","F","F","F","F","F","F","F","F","F","F","F","F","F","F","F","F","F","F","F",null,null,null,null,null,null,null,null,6,0,0,0,0,"<img src=\"http://www.clubedobotao.com/wp-content/uploads/2012/12/SOMBRA-2012.jpg\" alt=\"\" title=\"SOMBRA\" width=\"25\" height=\"25\" class=\"aligncenter size-full wp-image-6198\" />",null,6,0,0,0]
["Juliano Borges","F","F","F","F","F","F","F","F","F","F","F","F","F","F","F","F","F","F","F","F","F","F","F","F","F","F","F","F","F","F","F","F","F","F","F","F","F","F","F","F","F","F","F","F","F","F","F","F","F","F","F","F","F","F","F","F","F","F","F","F","F","F","F","F","F","F","F","F","F","F","F","F","F","F","F","F","F","F","F","F","F","F","F","F","F","F","F","F","F","F","F","F","F","F","F","F","F","F","F","F","F","F","F","F","F","F","F","F","F","F","F","F","F","F","F","F","F","F","F","F","F","F","F","F","F","F",10,"F","F","F","F","F","F","F","F","F","F","F","F","F","F","F","F","F","F","F","F","F","F","F","F","F","F","F","F","F","F","F","F","F","F","F","F","F","F","F","F","F","F","F","F","F","F","F","F","F","F","F","F","F","F","F","F","F","F","F","F","F","F","F","F","F","F","F","F","F","F","F","F","F","F","F","F","F","F","F","F","F","F","F","F","F","F","F","F","F","F","F","F","F","F","F","F","F",null,null,null,null,null,null,null,null,1,0,0,0,0,"<img src=\"http://www.clubedobotao.com/wp-content/uploads/2012/12/SOMBRA-2012.jpg\" alt=\"\" title=\"SOMBRA\" width=\"25\" height=\"25\" class=\"aligncenter size-full wp-image-6198\" />",null,1,0,0,0]
["Leonardo Vicente","F","F","F","F","F","F","F","F","F","F","F","F","F","F","F","F","F","F","F","F","F","F","F","F","F","F","F","F","F","F","F","F","F","F","F","F","F","F","F","F","F","F","F","F","F","F","F","F","F","F",15,15,15,300,300,15,15,14,14,14,4,11,"F","F","F",300,10,11,"F",11,8,9,11,10,12,17,"F","F","F",9,"F","F",18,"F","F","F","F","F","F","F","F","F","F","F","F","F","F","F","F","F","F","F","F","F","F","F","F","F","F","F","F","F","F","F","F","F","F","F","F","F","F","F","F","F","F","F","F","F","F","F","F","F","F","F","F","F","F","F","F","F","F","F","F","F","F","F","F","F","F","F","F","F","F","F","F","F","F","F","F","F","F","F","F","F","F","F","F","F","F","F","F","F","F","F","F","F","F","F","F","F","F","F","F","F","F","F","F","F","F","F","F","F","F","F","F","F","F","F","F","F","F","F","F","F","F","F","F","F","F","F","F","F","F","F","F","F","F","F","F","F","F","F","F","F",null,null,null,null,null,null,null,null,24,0,0,3,0,"<img src=\"http://www.clubedobotao.com/wp-content/uploads/2012/12/SOMBRA-2012.jpg\" alt=\"\" title=\"SOMBRA\" width=\"25\" height=\"25\" class=\"aligncenter size-full wp-image-6198\" />",null,24,0,0,0]
["Ligia Waki","F","F","F",12,12,"F","F",11,13,"F",13,15,17,15,"F",16,17,16,"F",17,17,"F",15,17,16,"F","F",17,14,"F","F","F","F",15,16,"F",17,"F","F",15,15,12,"F",15,"F","F","F","F","F",300,"F",16,16,"F",14,"F",400,16,"F","F","F",400,15,14,"F","F","F","F","F","F","F","F","F","F","F","F","F","F","F","F","F","F","F","F","F","F","F","F","F","F","F","F","F","F","F","F","F","F","F","F","F","F","F","F","F","F","F","F","F","F","F","F","F","F","F","F","F","F","F","F","F","F","F","F","F","F","F","F","F","F","F","F","F","F","F","F","F","F","F","F","F","F","F","F","F","F","F","F","F","F","F","F","F","F","F","F","F","F","F","F","F","F","F","F","F","F","F","F","F","F","F","F","F","F","F","F","F","F","F","F","F","F","F","F","F","F","F","F","F","F","F","F","F","F","F","F","F","F","F","F","F","F","F","F","F","F","F","F","F","F","F","F","F","F","F","F","F","F","F","F","F","F","F","F",null,null,null,null,null,null,null,null,{"$f":"COUNT(B36:HX36)","v":34},{"$f":"COUNTIF(B36:HX36,\"100\")","v":0},{"$f":"COUNTIF(B36:HX36,\"200\")","v":0},{"$f":"COUNTIF(B36:HX36,\"300\")","v":1},{"$f":"COUNTIF(B36:HX36,\"400\")","v":2},"<img src=\"http://www.clubedobotao.com/wp-content/uploads/2012/12/SOMBRA-2012.jpg\" alt=\"\" title=\"SOMBRA\" width=\"25\" height=\"25\" class=\"aligncenter size-full wp-image-6198\" />",null,{"$f":"COUNT(B36:HX36)","v":34},{"$f":"COUNTIF($B36:$HX36,\"100\")","v":0},{"$f":"COUNTIF($B36:$HX36,\"2\")","v":0},{"$f":"COUNTIF($B36:$HX36,\"3\")","v":0}]
["Lucas Henrique","F","F","F","F","F","F","F","F","F","F","F","F","F","F","F","F","F","F","F","F","F","F","F","F","F",15,15,"F",15,14,15,"F","F",16,17,16,16,17,14,16,18,17,16,14,300,15,14,14,300,9,11,9,10,10,11,"F",20,"F",400,17,"F","F","F","F","F",20,22,"F","F",300,"F",20,8,9,10,6,"F","F","F",17,"F","F",11,"F",12,"F",16,17,17,"F",14,12,"F","F",16,12,"F","F",10,"F",16,"F","F","F",11,15,"F","F",17,"F","F","F",15,"F","F",9,"F",9,"F","F","F","F","F","F","F","F","F","F","F","F","F","F","F","F","F","F","F","F","F","F","F","F","F","F","F","F","F","F","F","F","F","F","F","F","F","F","F","F","F","F","F","F","F","F","F",12,13,11,9,"F","F","F","F","F","F","F","F","F","F","F","F","F","F","F","F","F","F","F","F","F","F","F","F","F","F","F","F","F","F","F","F","F","F","F","F","F","F","F","F","F","F","F","F","F","F","F","F","F","F","F","F","F","F","F",null,null,null,null,null,null,null,null,60,0,0,3,1,"<img src=\"http://www.clubedobotao.com/wp-content/uploads/2012/12/SOMBRA-2012.jpg\" alt=\"\" title=\"SOMBRA\" width=\"25\" height=\"25\" class=\"aligncenter size-full wp-image-6198\" />",null,60,0,0,0]
["Luiz Antonio","F","F","F","F","F","F","F","F","F","F","F","F","F","F","F","F","F","F","F","F","F","F","F","F","F","F","F","F","F","F","F","F","F","F","F","F","F","F","F","F","F","F","F","F","F","F","F","F","F","F","F","F","F","F","F","F","F","F","F","F","F","F","F","F","F","F","F","F",13,14,300,400,14,14,"F",18,"F","F","F","F",11,7,8,10,"F",200,11,8,12,11,200,4,"F",15,"F",10,"F",300,8,6,200,3,5,"F",4,"F","F",14,10,200,4,3,"F","F","F","F","F","F","F","F","F","F","F","F","F","F","F","F","F","F","F","F","F","F","F","F","F","F","F","F","F","F","F","F","F","F","F","F","F","F","F","F","F","F","F","F","F","F","F","F","F","F","F","F","F","F","F","F","F","F","F","F","F","F","F","F","F","F","F","F","F","F","F","F","F","F","F","F","F","F","F","F","F","F","F","F","F","F","F","F","F","F","F","F","F","F","F","F","F","F","F","F","F","F","F","F","F","F","F","F","F","F","F","F",null,null,null,null,null,null,null,null,32,0,4,2,1,"<img src=\"http://www.clubedobotao.com/wp-content/uploads/2012/12/SOMBRA-2012.jpg\" alt=\"\" title=\"SOMBRA\" width=\"25\" height=\"25\" class=\"aligncenter size-full wp-image-6198\" />",null,32,0,0,2]
["Luiz Felipe","F","F","F","F","F","F","F","F","F","F","F","F","F","F","F","F","F","F","F","F","F","F","F","F","F","F","F","F","F","F","F","F","F","F","F","F","F","F","F","F","F","F","F","F","F","F","F","F","F","F","F","F","F","F","F","F","F","F","F","F","F","F","F","F","F","F","F","F","F","F","F","F","F","F","F","F","F","F","F","F","F","F","F","F","F","F","F","F","F","F","F","F","F","F","F","F","F","F","F","F","F","F","F","F","F","F","F","F",15,15,"F","F","F","F","F","F","F","F","F","F","F","F","F","F","F","F","F","F","F","F","F","F","F","F","F","F","F","F","F","F","F","F","F","F","F","F","F","F","F","F","F","F","F","F","F","F","F","F","F","F","F","F","F","F","F","F","F","F","F","F","F","F","F","F","F","F","F","F","F","F","F","F","F","F","F","F","F","F","F","F","F","F","F","F","F","F","F","F","F","F","F","F","F","F","F","F","F","F","F","F","F","F","F","F","F","F","F","F","F","F","F","F","F","F",null,null,null,null,null,null,null,null,2,0,0,0,0,"<img src=\"http://www.clubedobotao.com/wp-content/uploads/2012/12/SOMBRA-2012.jpg\" alt=\"\" title=\"SOMBRA\" width=\"25\" height=\"25\" class=\"aligncenter size-full wp-image-6198\" />",null,2,0,0,0]
["Luiz Guilherme","F","F","F",8,"F",9,10,"F",5,"F",4,7,300,9,8,200,9,5,3,4,3,4,4,5,"F","F",300,16,"F","F","F",14,"F",300,14,300,300,300,300,8,10,11,8,11,12,9,200,6,"F","F","F","F","F","F","F","F","F","F","F","F","F","F","F","F","F","F","F","F","F","F","F","F","F","F","F","F","F","F","F","F","F","F","F","F","F","F","F","F","F","F","F","F","F","F","F","F","F","F","F","F","F","F","F","F","F","F","F",15,11,300,"F","F","F","F","F","F","F","F","F","F","F","F","F","F","F","F","F","F","F","F","F","F","F","F","F","F","F","F","F","F","F","F","F","F","F","F","F","F","F","F","F","F","F","F","F","F","F","F","F","F","F","F","F","F","F","F","F","F","F","F","F","F","F","F","F","F","F","F","F","F","F","F","F","F","F","F","F","F","F","F","F","F","F","F","F","F","F","F","F","F","F","F","F","F","F","F","F","F","F","F","F","F","F","F","F","F","F","F","F","F","F","F","F","F",null,null,null,null,null,null,null,null,39,0,2,8,0,"<img src=\"http://www.clubedobotao.com/wp-content/uploads/2012/12/LUIZ-GUILHERME-2012.jpg\" alt=\"\" title=\"Luiz Guilherme\" width=\"25\" height=\"25\" class=\"aligncenter size-full wp-image-6198\" />",null,39,0,0,2]
["Márcio Costa","F",5,8,100,"F",3,2,100,9,2,5,2,3,3,3,100,3,100,2,3,2,"F",3,3,100,5,"F",4,3,3,3,2,100,3,3,100,4,4,5,4,3,100,"F","F",200,"F","F",200,200,200,200,3,6,100,3,6,3,2,100,2,5,2,3,4,2,2,4,2,2,3,100,5,2,2,100,"F",2,"F",4,3,100,5,100,100,3,4,2,2,3,2,5,200,3,2,4,2,3,2,300,200,2,"F","F","F","F","F",5,100,2,100,"F",300,9,9,3,"F",8,100,"F",200,2,100,100,2,100,4,100,"F",200,"F",9,100,3,3,2,2,4,"F","F","F","F",100,"F",8,100,100,3,"F","F","F","F","F","F","F","F",100,2,"F",100,"F",100,100,2,2,3,100,100,"F","F",2,"F","F",100,100,"F",200,4,"F",300,200,"F","F","F","F","F","F","F","F","F","F",9,2,"F",8,100,2,100,3,"F",200,"F","F","F",200,"F",8,"F",8,2,4,3,2,2,"F",100,"F","F","F",5,"F",100,100,"F","F",null,null,null,null,null,null,null,null,159,39,13,3,0,"<img src=\"http://www.clubedobotao.com/wp-content/uploads/2012/12/MÁRCIO-COSTA-2012.jpg\" alt=\"\" title=\"Márcio Costa\" width=\"25\" height=\"25\" class=\"aligncenter size-full wp-image-6202\" />",null,159,39,37,31]
["Marcio Guedes","F","F","F","F","F","F","F","F","F","F","F","F","F","F","F","F","F","F","F","F","F","F","F","F","F","F","F","F","F","F","F","F","F","F","F","F","F","F","F","F","F","F","F","F","F","F","F","F","F","F","F","F","F","F","F","F","F","F","F","F","F","F","F","F","F","F","F","F","F","F","F","F","F","F","F","F","F","F","F","F","F","F","F","F","F","F","F","F","F","F","F","F","F","F","F","F","F",15,16,11,14,13,200,"F","F",400,14,12,"F","F","F","F","F","F","F","F","F","F","F","F","F","F","F","F","F","F","F","F","F","F","F","F","F","F","F","F","F","F","F","F","F","F","F","F","F","F","F","F","F","F","F","F","F","F","F","F","F","F","F","F","F","F","F","F","F","F","F","F","F","F","F","F","F","F","F","F","F","F","F","F","F","F","F","F","F","F","F","F","F","F","F","F","F","F","F","F","F","F","F","F","F","F","F","F","F","F","F","F","F","F","F","F","F","F","F","F","F","F","F","F","F","F","F","F",null,null,null,null,null,null,null,null,9,0,1,0,1,"<img src=\"http://www.clubedobotao.com/wp-content/uploads/2012/12/SOMBRA-2012.jpg\" alt=\"\" title=\"SOMBRA\" width=\"25\" height=\"25\" class=\"aligncenter size-full wp-image-6198\" />",null,9,0,0,0]
["Marco Botelho","F","F","F","F","F","F","F","F","F","F","F","F","F","F","F","F","F","F","F","F","F","F","F","F","F","F","F","F","F","F","F","F","F","F","F","F","F","F","F","F","F","F","F","F","F","F","F","F","F","F","F","F","F","F","F","F","F","F","F","F","F","F","F","F","F","F","F","F","F","F","F","F","F","F","F","F","F","F","F","F","F","F","F","F","F","F","F","F","F","F","F","F","F","F","F","F","F","F","F","F","F","F","F","F","F","F","F","F","F","F","F","F","F","F","F","F","F","F","F","F","F","F","F","F","F","F","F","F","F","F","F","F","F","F","F","F","F","F","F","F","F","F","F","F","F","F","F","F","F","F","F","F","F","F","F","F","F","F","F","F","F","F","F","F","F","F","F","F","F",9,5,"F","F","F",10,"F","F","F","F","F",9,"F","F","F",8,5,11,"F",9,"F","F","F","F","F","F","F","F","F","F","F","F","F","F","F","F","F","F","F","F","F","F","F","F","F","F","F","F","F","F","F","F","F","F","F",null,null,null,null,null,null,null,null,8,0,0,0,0,"<img src=\"http://www.clubedobotao.com/wp-content/uploads/2012/12/SOMBRA-2012.jpg\" alt=\"\" title=\"SOMBRA\" width=\"25\" height=\"25\" class=\"aligncenter size-full wp-image-6198\" />",null,8,0,0,0]
["Marcos Juliatto","F","F","F","F","F","F","F","F","F","F","F","F","F","F","F","F","F","F","F","F","F","F","F","F","F","F","F","F","F","F","F","F","F","F","F","F","F","F","F","F","F","F","F","F","F","F","F","F","F","F","F","F","F","F","F","F","F","F","F","F","F","F","F","F","F","F","F","F","F","F","F","F","F","F","F","F","F","F","F","F","F","F","F","F","F",16,"F","F","F","F","F","F","F","F","F","F","F","F","F","F","F","F","F","F","F","F","F","F","F","F","F","F","F","F","F","F","F","F","F",11,"F","F","F","F","F","F","F","F","F","F","F","F","F","F","F","F","F","F","F","F","F","F","F","F","F","F","F","F","F","F","F","F","F","F","F","F","F","F","F","F","F","F","F","F","F","F","F","F","F","F","F","F","F","F","F","F","F","F","F","F","F","F","F","F","F","F","F","F","F","F","F","F","F","F","F","F","F","F","F","F","F","F","F","F","F","F","F","F","F","F","F","F","F","F","F","F","F","F","F","F","F","F","F","F",null,null,null,null,null,null,null,null,2,0,0,0,0,"<img src=\"http://www.clubedobotao.com/wp-content/uploads/2012/12/SOMBRA-2012.jpg\" alt=\"\" title=\"SOMBRA\" width=\"25\" height=\"25\" class=\"aligncenter size-full wp-image-6198\" />",null,2,0,0,0]
["Marcos Neves","F","F","F","F","F","F","F","F","F","F","F","F","F","F","F","F","F","F","F","F","F","F","F","F","F","F","F","F","F","F","F","F","F","F","F","F","F","F","F","F","F","F","F","F","F","F","F","F","F","F","F","F","F","F","F","F","F","F","F","F","F","F","F","F","F","F","F","F","F","F","F","F","F","F","F","F","F","F","F","F","F","F","F","F","F","F","F","F","F","F","F","F","F","F","F","F","F","F","F","F","F","F","F","F","F","F","F","F","F","F","F","F","F","F","F","F","F","F","F","F","F","F","F","F","F","F","F","F","F","F","F","F","F","F","F","F","F","F","F","F","F","F","F","F","F","F","F","F","F","F","F","F","F","F","F","F","F","F","F","F","F",11,"F","F","F","F","F","F","F","F","F","F","F","F","F","F","F","F","F","F","F","F","F","F","F","F","F","F","F","F","F","F","F","F","F","F","F","F","F","F","F","F","F","F","F","F","F","F","F","F","F","F","F","F","F","F","F","F","F","F","F","F","F","F",null,null,null,null,null,null,null,null,1,0,0,0,0,"<img src=\"http://www.clubedobotao.com/wp-content/uploads/2012/12/SOMBRA-2012.jpg\" alt=\"\" title=\"SOMBRA\" width=\"25\" height=\"25\" class=\"aligncenter size-full wp-image-6198\" />",null,1,0,0,0]
["Mauricio Penteado","F","F","F","F","F","F","F","F","F","F","F","F","F","F","F","F","F","F","F","F","F",16,"F",18,"F","F","F","F","F","F","F","F","F","F","F","F","F","F","F","F","F","F","F","F","F","F","F","F","F","F","F","F","F","F","F","F","F","F","F","F","F","F","F","F","F","F",23,"F","F",16,"F","F","F","F","F","F","F","F","F","F","F","F","F","F","F","F","F","F","F","F","F","F","F","F","F","F","F","F","F","F","F","F","F","F","F","F","F","F","F","F","F","F","F","F","F","F","F","F","F","F","F","F","F","F","F","F","F","F","F","F","F","F","F","F","F","F","F","F","F","F","F","F","F","F","F","F","F","F","F","F","F","F","F","F","F","F","F","F","F","F","F","F","F","F","F","F","F","F","F","F","F","F","F","F","F","F","F","F","F","F","F","F","F","F","F","F","F","F","F","F","F","F","F","F","F","F","F","F","F","F","F","F","F","F","F","F","F","F","F","F","F","F","F","F","F","F","F","F","F","F","F","F","F","F",null,null,null,null,null,null,null,null,4,0,0,0,0,"<img src=\"http://www.clubedobotao.com/wp-content/uploads/2012/12/SOMBRA-2012.jpg\" alt=\"\" title=\"SOMBRA\" width=\"25\" height=\"25\" class=\"aligncenter size-full wp-image-6198\" />",null,4,0,0,0]
["Mauro Figueiredo","F","F","F","F","F","F","F","F","F","F","F","F","F","F","F","F","F","F","F","F","F","F","F","F","F","F","F","F","F","F","F","F","F","F","F","F","F","F","F","F","F","F","F","F","F","F","F","F","F","F","F","F","F","F","F","F","F","F","F","F","F","F","F","F","F","F","F","F","F","F","F","F","F","F","F","F","F","F","F","F","F","F","F","F","F","F","F","F","F","F","F","F","F","F","F","F","F","F","F","F","F","F","F","F","F","F","F","F","F","F","F","F","F","F","F","F","F","F","F","F","F","F","F","F","F","F","F","F","F","F","F","F","F","F","F","F","F","F","F","F","F","F","F","F","F","F","F","F","F","F","F","F",4,7,6,"F","F","F",8,7,"F",3,"F",4,2,9,5,"F","F","F","F","F","F","F","F","F","F","F","F","F","F","F","F","F","F","F","F","F","F","F","F","F","F","F","F","F","F","F","F","F","F","F","F","F","F","F","F","F","F","F","F","F","F","F","F","F","F","F","F","F","F","F","F","F",null,null,null,null,null,null,null,null,10,0,0,0,0,"<img src=\"http://www.clubedobotao.com/wp-content/uploads/2012/12/SOMBRA-2012.jpg\" alt=\"\" title=\"SOMBRA\" width=\"25\" height=\"25\" class=\"aligncenter size-full wp-image-6198\" />",null,10,0,1,1]
["Michel Benevides","F","F","F",14,"F",12,"F",10,12,"F",12,14,15,17,15,18,18,17,17,16,18,14,17,19,12,14,14,8,10,10,"F","F",12,12,12,14,23,15,15,14,16,15,14,12,11,300,"F",300,"F",14,9,"F",14,11,16,14,14,300,11,11,21,300,14,9,14,8,8,10,8,8,10,11,7,200,6,5,6,10,6,"F",17,10,9,11,"F",9,14,9,11,10,11,18,300,10,12,11,8,6,11,"F",10,6,"F",4,6,10,"F",16,300,11,12,12,14,13,12,"F",11,"F",6,2,6,9,9,6,5,11,9,6,11,6,8,"F",9,9,9,6,11,8,6,5,7,"F",4,5,"F","F","F","F","F","F","F","F","F","F","F","F","F","F","F","F","F","F","F","F","F","F","F","F","F","F","F","F","F","F","F","F","F","F","F","F","F","F","F","F","F","F","F","F","F","F","F","F","F","F","F","F","F","F","F","F","F","F","F","F","F","F","F","F","F","F","F","F","F","F","F","F","F","F","F","F","F","F","F","F",null,null,null,null,null,null,null,null,124,0,1,6,0,"<img src=\"http://www.clubedobotao.com/wp-content/uploads/2012/12/SOMBRA-2012.jpg\" alt=\"\" title=\"SOMBRA\" width=\"25\" height=\"25\" class=\"aligncenter size-full wp-image-6198\" />",null,124,0,1,0]
["Nardy",2,6,10,7,4,13,7,9,14,11,10,8,8,8,9,9,200,8,11,200,200,2,2,6,2,4,100,5,6,"F",4,4,4,5,4,5,3,3,3,6,4,8,3,3,"F",200,2,3,2,3,2,5,2,6,4,4,4,6,200,4,9,4,5,3,5,3,5,5,5,100,4,4,5,6,8,3,3,3,3,"F","F",100,3,4,2,3,7,6,5,4,4,3,4,100,5,8,2,3,4,3,100,4,3,3,5,3,3,4,5,9,100,100,3,5,200,100,2,5,"F",5,8,2,2,3,"F",200,6,200,2,4,2,2,2,2,3,4,100,100,3,100,5,4,"F",2,3,2,100,100,100,100,4,4,3,"F",3,3,3,4,2,4,6,7,4,"F",2,3,"F",9,5,200,4,3,"F",8,3,6,10,4,5,"F","F",200,"F",200,"F","F","F","F","F","F",10,"F","F","F","F","F","F","F","F",9,"F","F","F","F","F",10,"F","F","F","F","F","F","F","F","F","F","F","F","F","F","F","F","F","F",null,null,null,null,null,null,null,null,173,15,11,0,0,"<img src=\"http://www.clubedobotao.com/wp-content/uploads/2012/12/RICARDO-NARDY-2012.jpg\" alt=\"\" title=\"Nardy\" width=\"25\" height=\"25\" class=\"aligncenter size-full wp-image-6198\" />",null,173,15,22,34]
["Paulo César","F","F","F","F","F","F","F","F","F","F","F","F","F","F","F","F","F","F","F","F","F","F","F","F","F","F","F","F","F","F","F","F","F","F","F","F","F","F","F","F","F","F","F","F","F","F","F","F","F","F","F","F","F","F","F","F","F","F","F","F","F","F","F","F","F","F","F","F","F","F","F","F","F","F","F","F","F","F","F","F","F","F","F","F","F","F","F","F","F","F","F","F","F","F","F","F","F","F","F","F","F","F","F","F","F","F","F","F","F","F","F","F","F","F","F","F","F","F","F","F","F","F","F","F","F","F","F","F","F","F","F","F","F","F","F","F","F","F","F","F","F","F","F","F","F",8,6,6,6,6,6,6,9,3,8,7,7,7,7,8,10,10,"F","F",5,10,"F","F","F","F","F","F","F",13,"F","F","F","F","F","F","F","F","F","F","F","F","F","F","F","F","F","F","F","F","F","F","F","F","F","F","F","F","F","F","F","F","F","F","F","F","F","F","F","F","F","F","F","F","F","F","F","F","F","F",null,null,null,null,null,null,null,null,20,0,0,0,0,"<img src=\"http://www.clubedobotao.com/wp-content/uploads/2012/12/SOMBRA-2012.jpg\" alt=\"\" title=\"SOMBRA\" width=\"25\" height=\"25\" class=\"aligncenter size-full wp-image-6198\" />",null,20,0,0,1]
["Pedro Neto","F","F","F","F","F","F","F","F","F","F","F","F","F","F","F","F","F","F","F","F","F","F","F","F","F","F","F","F","F","F","F","F","F","F","F","F","F","F","F","F","F","F","F","F","F","F","F","F","F","F","F","F","F","F","F","F","F","F","F","F","F","F","F","F","F","F","F","F","F","F","F","F","F","F","F","F","F","F","F","F","F","F","F","F","F","F","F","F","F","F","F","F","F","F","F","F","F","F","F","F","F","F","F","F","F","F","F","F","F","F","F","F","F","F","F","F","F","F","F","F","F","F","F","F","F","F","F","F","F","F","F","F","F","F","F","F","F","F","F","F","F","F","F","F","F","F","F","F","F","F","F","F","F","F","F","F","F","F","F","F","F","F","F","F","F","F","F","F","F",11,10,5,8,14,11,10,13,12,9,13,4,6,11,13,10,11,12,12,8,4,4,6,9,9,6,9,200,4,6,2,7,8,8,2,"F",5,"F",6,12,5,2,7,6,"F",6,"F",5,4,4,"F",2,"F","F","F",null,null,null,null,null,null,null,null,47,0,1,0,0,"<img src=\"http://www.clubedobotao.com/wp-content/uploads/2012/12/PEDRO-NETO-2012.jpg\" alt=\"\" title=\"Pedro Neto\" width=\"25\" height=\"25\" class=\"aligncenter size-full wp-image-4384\" />",null,47,0,4,0]
["Rafa Santos","F","F","F","F","F","F","F","F","F","F","F","F","F","F","F","F","F","F","F","F","F","F","F","F","F","F","F","F","F","F","F","F","F","F","F","F","F","F","F","F","F","F","F","F","F","F","F","F","F","F","F","F","F","F","F","F","F","F","F","F","F","F","F","F","F","F","F","F","F","F","F","F","F","F","F","F","F","F","F","F","F","F","F","F","F","F","F","F","F","F","F","F","F","F","F","F","F","F","F","F","F","F","F","F","F","F","F","F","F","F","F","F","F","F","F","F","F","F","F","F","F","F","F","F","F","F","F","F","F","F","F","F","F","F","F","F","F","F","F","F","F","F","F","F","F","F","F","F","F","F","F","F","F","F","F","F","F","F","F","F","F","F","F","F","F","F","F","F","F","F","F","F","F","F","F","F","F",200,"F","F","F","F","F","F","F","F","F","F","F","F","F","F","F","F","F","F","F","F","F","F","F","F","F","F","F","F","F","F","F","F","F","F","F","F","F","F","F","F","F","F","F","F","F","F",null,null,null,null,null,null,null,null,1,0,1,0,0,"<img src=\"http://www.clubedobotao.com/wp-content/uploads/2012/12/RAFA-SANTOS-2012.jpg\" alt=\"\" title=\"Rafa Santos\" width=\"25\" height=\"25\" class=\"aligncenter size-full wp-image-6198\" />",null,1,0,0,0]
["Rafael Mello","F","F","F","F","F","F","F","F","F","F","F","F","F","F","F","F","F","F","F","F","F","F","F","F","F","F","F","F","F","F","F","F","F","F","F","F","F","F","F","F","F","F","F","F","F","F","F","F","F","F","F","F","F","F","F","F","F","F","F","F","F","F","F","F","F","F","F","F","F","F","F","F","F","F","F","F","F","F","F","F","F","F","F","F","F","F","F","F","F","F","F","F","F","F","F","F","F","F","F","F","F","F","F","F","F","F","F","F","F","F","F","F","F","F","F","F","F","F","F","F","F","F","F","F","F","F","F","F","F","F","F","F","F","F","F","F","F","F","F","F","F","F","F","F","F","F","F","F","F","F","F","F","F","F","F","F","F","F","F","F","F","F","F","F","F","F","F","F","F","F","F","F","F","F","F","F","F","F","F","F","F","F","F","F","F","F","F","F","F","F","F","F","F","F","F","F","F","F","F","F","F","F","F","F","F","F","F","F","F","F","F","F","F","F","F","F","F","F","F","F","F","F","F","F",null,null,null,null,null,null,null,null,0,0,0,0,0,"<img src=\"http://www.clubedobotao.com/wp-content/uploads/2012/12/RAFAEL-MELLO-2012.jpg\" alt=\"\" title=\"Rafael Mello\" width=\"25\" height=\"25\" class=\"aligncenter size-full wp-image-6198\" />",null,0,0,0,0]
["Raul Grizi","F","F","F","F","F","F","F","F","F","F","F","F","F","F","F","F","F","F","F","F","F","F","F","F","F","F","F","F","F","F","F","F","F","F","F","F","F","F","F","F","F","F","F","F","F","F","F","F","F","F","F","F","F","F","F","F","F","F","F","F",14,21,20,400,15,"F",400,14,9,"F",14,14,16,18,300,8,11,6,11,6,200,9,"F",8,8,5,5,"F",9,9,"F",14,9,6,10,13,200,5,200,4,6,9,6,11,10,5,9,8,4,6,"F",14,10,8,5,"F",10,8,2,6,200,3,8,7,4,5,13,9,"F",10,"F",8,"F","F","F","F","F","F","F","F",4,"F","F","F","F","F","F","F","F","F","F","F","F","F","F","F","F","F","F","F","F","F","F","F","F","F","F","F","F","F","F","F","F","F","F","F","F","F","F","F","F","F","F","F","F","F","F","F","F","F","F","F","F","F","F","F","F","F","F","F","F","F","F","F","F","F","F","F","F","F","F","F","F","F","F","F","F","F","F","F","F","F","F","F",null,null,null,null,null,null,null,null,64,0,4,1,2,"<img src=\"http://www.clubedobotao.com/wp-content/uploads/2012/12/SOMBRA-2012.jpg\" alt=\"\" title=\"SOMBRA\" width=\"25\" height=\"25\" class=\"aligncenter size-full wp-image-6198\" />",null,64,0,1,1]
["Ricardo Benites","F","F","F","F","F","F","F","F","F","F","F","F","F","F","F","F","F","F","F","F","F","F","F","F","F","F","F","F","F","F","F","F","F","F","F","F","F","F","F","F","F","F","F","F","F","F","F","F","F","F","F","F","F","F","F","F","F","F","F","F","F","F","F","F","F","F","F","F","F","F","F","F","F","F","F","F","F","F","F","F","F","F","F","F","F","F","F","F","F","F","F","F","F","F","F","F","F","F","F","F","F","F","F","F","F","F","F","F","F","F","F","F","F","F","F","F","F","F","F",12,13,10,"F",8,10,13,12,11,6,12,11,"F",11,12,"F","F","F",12,12,10,8,"F",7,"F","F","F","F","F","F","F","F","F","F","F","F","F","F","F","F","F","F","F","F","F","F","F","F","F","F","F","F","F","F","F","F","F","F","F","F","F","F","F","F","F","F","F","F","F","F","F","F","F","F","F","F","F","F","F","F","F","F","F","F","F","F","F","F","F","F","F","F","F","F","F","F","F","F","F","F","F","F","F","F","F",null,null,null,null,null,null,null,null,18,0,0,0,0,"<img src=\"http://www.clubedobotao.com/wp-content/uploads/2012/12/SOMBRA-2012.jpg\" alt=\"\" title=\"SOMBRA\" width=\"25\" height=\"25\" class=\"aligncenter size-full wp-image-6198\" />",null,18,0,0,0]
["Robson Mota","F","F","F","F","F","F","F","F","F","F","F","F","F","F","F","F","F","F","F","F","F","F","F","F","F","F","F","F","F","F","F","F","F","F","F","F","F","F","F","F","F","F","F","F","F","F","F","F","F","F","F","F","F","F","F","F","F","F","F","F","F","F","F","F","F","F","F","F","F","F","F","F","F","F","F","F","F","F","F","F","F","F","F","F","F","F","F","F","F","F","F","F","F","F","F","F","F","F","F","F","F","F","F","F","F","F","F","F","F","F","F","F","F","F","F","F","F","F","F","F","F","F","F","F","F","F","F","F","F","F","F","F","F","F","F","F","F","F","F","F","F","F","F","F","F","F","F","F","F","F","F","F","F","F","F","F","F","F","F","F","F","F","F","F","F","F","F","F","F","F","F","F","F","F","F","F","F","F","F","F","F","F","F","F","F","F","F","F","F","F","F","F","F","F","F","F","F","F","F","F","F","F","F","F",9,"F",200,"F","F","F","F","F","F","F","F","F","F","F","F","F","F","F","F","F",null,null,null,null,null,null,null,null,2,0,1,0,0,"<img src=\"http://www.clubedobotao.com/wp-content/uploads/2012/12/ROBSON-MOTA.jpg\" alt=\"\" title=\"Robson Mota\" width=\"25\" height=\"25\" class=\"aligncenter size-full wp-image-6198\" />",null,2,0,0,0]
["Rodrigo Cisoto","F","F","F","F","F","F","F","F","F","F","F","F","F","F","F","F","F","F","F","F","F","F","F","F","F","F","F","F","F","F","F","F","F","F","F","F","F","F","F","F","F","F","F","F","F","F","F","F","F","F","F","F","F","F","F","F","F","F","F","F","F","F","F","F","F","F","F","F","F","F","F","F","F","F","F","F","F","F","F","F","F","F","F","F","F","F","F","F","F","F","F","F","F","F","F","F","F","F","F","F","F","F","F","F","F","F","F","F","F","F","F","F","F","F","F","F","F","F","F","F","F","F","F","F","F","F","F","F","F","F","F","F","F","F","F","F","F","F","F","F","F","F","F","F","F","F","F","F","F","F","F","F","F","F","F","F","F",3,4,5,"F",6,100,"F",6,"F","F",8,"F",8,3,"F","F","F","F","F","F","F","F","F","F",9,"F","F","F",300,200,10,"F","F","F","F","F","F","F","F","F","F","F","F","F","F","F","F","F","F","F","F","F","F","F","F","F","F","F","F","F","F","F","F","F","F","F","F",null,null,null,null,null,null,null,null,13,1,1,1,0,"<img src=\"http://www.clubedobotao.com/wp-content/uploads/2012/12/SOMBRA-2012.jpg\" alt=\"\" title=\"SOMBRA\" width=\"25\" height=\"25\" class=\"aligncenter size-full wp-image-6198\" />",null,13,1,0,2]
["Ronaldo Massa","F","F","F","F","F","F","F","F","F","F","F","F","F","F","F","F","F","F","F","F","F","F","F","F","F","F","F","F","F","F","F","F","F","F","F","F","F","F","F","F","F","F","F","F","F","F","F","F","F","F","F","F","F","F","F",12,10,10,10,9,12,12,9,"F",11,10,"F",8,"F","F",12,"F","F",17,17,9,9,11,"F",12,"F","F",17,"F",14,"F","F","F",300,5,6,"F","F","F","F","F","F","F","F","F","F","F","F","F","F","F","F","F","F","F","F","F","F","F","F","F","F","F","F","F","F","F","F","F","F","F","F","F","F","F","F","F","F","F","F","F","F","F","F","F","F","F","F","F","F","F","F","F","F","F","F","F","F","F","F","F","F","F","F","F","F","F","F","F","F","F","F","F","F","F","F","F","F","F","F","F","F","F","F","F","F","F","F","F","F","F","F","F","F","F","F","F","F","F","F","F","F","F","F","F","F","F","F","F","F","F","F","F","F","F","F","F","F","F","F","F","F","F","F","F","F","F","F","F",null,null,null,null,null,null,null,null,23,0,0,1,0,"<img src=\"http://www.clubedobotao.com/wp-content/uploads/2012/12/SOMBRA-2012.jpg\" alt=\"\" title=\"SOMBRA\" width=\"25\" height=\"25\" class=\"aligncenter size-full wp-image-6198\" />",null,23,0,0,0]
["Sandro Pirikito","F","F","F","F","F","F","F","F","F","F","F","F","F","F","F","F","F","F","F","F","F","F","F","F","F","F","F","F","F","F","F","F","F","F","F","F","F","F","F","F","F","F","F","F","F","F","F","F","F","F","F","F","F","F","F","F","F","F","F","F","F","F","F","F","F","F","F","F","F","F","F","F","F","F","F","F","F","F","F","F","F","F","F","F","F","F","F","F","F","F","F","F","F","F","F","F","F","F","F","F","F","F","F","F","F","F","F","F","F","F","F","F","F","F","F","F","F","F","F","F","F","F","F","F","F","F","F","F","F","F","F","F","F","F","F","F","F","F","F","F","F","F","F","F","F","F","F","F","F","F","F","F","F","F","F","F","F","F","F","F","F","F","F","F","F","F","F","F","F","F","F","F","F","F","F","F","F","F","F","F","F","F","F","F","F","F","F","F","F","F","F","F","F","F","F","F","F","F","F","F","F","F","F","F","F","F","F","F","F","F","F","F","F","F","F","F","F","F","F","F","F","F","F","F",null,null,null,null,null,null,null,null,0,0,0,0,0,"<img src=\"http://www.clubedobotao.com/wp-content/uploads/2012/12/SOMBRA-2012.jpg\" alt=\"\" title=\"SOMBRA\" width=\"25\" height=\"25\" class=\"aligncenter size-full wp-image-6198\" />",null,0,0,0,0]
["Schon","F","F","F","F","F","F","F","F","F","F","F","F","F","F","F","F","F","F","F","F","F","F","F","F","F","F","F","F","F","F","F","F","F","F","F","F","F","F","F","F","F","F","F","F","F","F","F","F","F","F","F","F","F","F","F","F","F","F","F","F","F","F","F","F","F","F","F","F","F","F","F","F","F","F","F","F","F","F","F","F","F","F","F","F","F","F","F","F","F","F","F","F","F","F","F","F","F","F","F","F","F","F","F","F","F","F","F","F","F","F","F","F","F","F","F","F","F","F","F","F","F","F","F","F","F","F","F","F","F","F","F","F","F","F","F","F","F","F","F","F","F","F","F","F","F","F","F","F","F","F","F","F","F","F","F","F","F","F","F","F","F","F","F","F","F","F","F",10,200,3,"F",200,5,6,8,2,2,"F",200,3,"F","F",14,8,"F",8,5,9,200,100,2,3,3,5,8,3,5,2,"F",8,6,4,3,5,2,100,4,3,"F","F","F","F","F","F","F","F","F","F","F","F","F","F","F","F",null,null,null,null,null,null,null,null,35,2,4,0,0,"<img src=\"http://www.clubedobotao.com/wp-content/uploads/2012/12/ALEXANDRE-SCHON-2012.jpg\" alt=\"\" title=\"Schon\" width=\"25\" height=\"25\" class=\"aligncenter size-full wp-image-5986\" />",null,35,2,5,7]
["Sérgio Filho","F","F","F","F","F","F","F","F","F","F","F","F","F","F",300,14,300,14,300,300,8,200,9,4,3,2,"F",2,4,2,2,6,2,100,2,2,100,100,2,100,2,3,4,100,100,100,3,100,3,2,100,2,100,2,100,5,2,100,2,3,2,3,100,100,100,100,100,3,100,2,2,2,100,100,2,100,100,100,100,100,2,3,2,2,4,100,3,4,2,100,100,2,100,3,2,3,100,100,100,2,4,100,2,"F",8,6,100,2,100,4,2,5,200,2,"F","F","F","F","F","F","F","F","F","F","F","F","F","F",8,100,3,4,100,100,100,5,200,5,200,8,100,2,100,100,"F","F","F","F","F","F","F","F","F","F","F","F","F","F","F","F","F","F","F","F","F","F","F","F","F","F","F","F","F",9,100,100,100,2,100,100,2,100,100,100,100,2,100,100,2,2,100,100,2,100,2,100,2,100,100,100,100,100,100,100,100,3,100,100,100,3,100,100,3,100,3,100,100,100,2,"F","F","F","F","F",null,null,null,null,null,null,null,null,160,74,4,4,0,"<img src=\"http://www.clubedobotao.com/wp-content/uploads/2012/12/SÉRGIO-FILHO-2012.jpg\" alt=\"\" title=\"Sérgio Filho\" width=\"25\" height=\"25\" class=\"aligncenter size-thumbnail wp-image-6596\" /> ",null,160,74,40,16]
["Wilson Benevides","F","F","F",9,"F",10,"F",13,11,"F",15,12,16,300,17,15,15,11,8,12,11,11,11,10,11,8,8,9,9,200,11,9,10,11,9,11,200,8,8,9,11,14,200,9,5,11,"F",10,"F",15,300,"F",8,9,10,13,300,8,8,8,10,10,8,8,6,200,6,200,11,6,9,200,4,5,5,2,4,4,2,4,5,4,6,5,5,6,9,5,6,13,10,10,6,9,8,6,11,9,5,10,11,11,8,100,3,4,8,10,12,14,13,11,12,10,10,200,3,4,5,4,5,8,5,100,6,8,4,100,5,200,4,6,200,4,5,8,6,9,10,6,9,5,6,4,"F",5,"F",3,2,2,100,100,7,4,2,4,4,6,3,6,7,4,8,3,7,5,9,4,4,4,6,8,7,11,200,4,3,3,6,9,3,4,3,6,9,6,8,200,5,8,5,9,6,200,3,5,9,5,4,3,8,5,4,6,10,2,5,2,11,"F","F","F","F","F","F","F","F","F","F","F","F","F","F","F",null,null,null,null,null,null,null,null,198,5,12,3,0,"<img src=\"http://www.clubedobotao.com/wp-content/uploads/2012/12/WILSON-BENEVIDES-2012.jpg\" alt=\"\" title=\"Wilson Benevides\" width=\"25\" height=\"25\" class=\"aligncenter size-full wp-image-4544\" />",null,198,5,7,11]
["ww12","F","F","F","F","F","F","F","F","F","F","F","F","F","F","F","F","F","F","F","F","F","F","F","F","F","F","F","F","F","F","F","F","F","F","F","F","F","F","F","F","F","F","F","F","F","F","F","F","F","F","F","F","F","F","F","F","F","F","F","F","F","F","F","F","F","F","F","F","F","F","F","F","F","F","F","F","F","F","F","F","F","F","F","F","F","F","F","F","F","F","F","F","F","F","F","F","F","F","F","F","F","F","F","F","F","F","F","F","F","F","F","F","F","F","F","F","F","F","F","F","F","F","F","F","F","F","F","F","F","F","F","F","F","F","F","F","F","F","F","F","F","F","F","F","F","F","F","F","F","F","F","F","F","F","F","F","F","F","F","F","F","F","F","F","F","F","F","F","F","F","F","F","F","F","F","F","F","F","F","F","F","F","F","F","F","F","F","F","F","F","F","F","F","F","F","F","F","F","F","F","F","F","F","F","F","F","F","F","F","F","F","F","F","F","F","F","F","F","F","F","F","F","F","F",null,null,null,null,null,null,null,null,0,0,0,0,0,"<img src=\"http://www.clubedobotao.com/wp-content/uploads/2012/12/SOMBRA-2012.jpg\" alt=\"\" title=\"SOMBRA\" width=\"25\" height=\"25\" class=\"aligncenter size-full wp-image-6198\" />",null,0,0,0,0]

{"sheet":"(dados) TAÇAS","index":8,"n_rows":47,"n_cols":18,"rows_kept":47,"cut":false,"hidden":true,"merged":[[0,1,1,1]]}
[null,"TODAS TAÇAS",null,null,null,null,null,"1ª taça","2ª taça","3ª taça","4ª taça","5ª taça","6ª taça","7ª taça","8ª taça","9ª taça","10ª taça","11ª taça"]
[null,null,null,null,null,null,null,"13º","25º","40º","55º","72º","89º","106º","123º","140º","144º","165º"]
[null,"BOTONISTA","TOD","O","P","B","E","2007-02-21","2007-05-23","2007-09-05","2007-12-19","2007-04-23","2008-08-20","2008-12-17","2009-04-29","2009-08-26","2009-12-09","2010-12-08"]
[1,"Agnaldo Camelo",{"$f":"COUNT(H4:IV4)","v":2},{"$f":"COUNTIF(H4:IV4,\"100\")","v":0},{"$f":"COUNTIF(H4:IV4,\"200\")","v":0},{"$f":"COUNTIF(H4:IV4,\"300\")","v":0},{"$f":"COUNTIF(H4:IV4,\"400\")","v":0},"F",17,17,"F","F","F","F","F","F","F","F"]
[2,"André Stancatti",4,0,0,0,0,4,10,11,9,"F","F","F","F","F","F","F"]
[3,"Antonio Ribeiro",10,0,2,0,0,10,5,10,200,10,8,200,10,4,"F",4]
[4,"Augusto Cesar",0,0,0,0,0,"F","F","F","F","F","F","F","F","F","F","F"]
[5,"Bryan Brinque",1,0,0,0,0,"F","F","F","F","F","F",17,"F","F","F","F"]
[6,"Carlos Febo",6,0,0,1,0,9,15,300,15,"F",14,16,"F","F","F","F"]
[7,"Carlos Henrique",2,0,0,1,1,"F","F","F","F",300,400,"F","F","F","F","F"]
[8,"Celso de Assis",10,3,1,0,0,5,9,200,6,6,100,100,"F",2,3,100]
[9,"César Rebecca",3,0,0,1,0,"F","F","F","F","F","F","F",300,3,"F",6]
[10,"Cristiano Paffrath",3,0,1,0,0,200,8,2,"F","F","F","F","F","F","F","F"]
[11,"Edson Fortuna ",8,0,2,0,0,14,14,12,12,15,16,"F",200,"F","F",200]
[12,"Fábio Chelio",1,0,0,0,0,"F","F","F","F","F","F","F","F","F","F",7]
[13,"Gabriel Nardy",4,0,0,0,0,"F","F","F","F",16,10,8,14,"F","F","F"]
[14,"Guilherme Simeira",0,0,0,0,0,"F","F","F","F","F","F","F","F","F","F","F"]
[15,"Gustavo Arcolini",10,0,1,1,0,"F",300,3,5,3,4,14,4,9,200,5]
[16,"Henrique Laitano",1,0,0,0,0,"F","F","F","F","F","F","F","F","F","F",4]
[17,"Ismael Júnior",9,2,2,0,0,100,200,5,2,100,200,2,3,"F","F",3]
[18,"João Felipe",6,0,0,0,0,"F","F",18,8,8,15,9,"F","F",9,"F"]
[19,"Jorge Prado",0,0,0,0,0,"F","F","F","F","F","F","F","F","F","F","F"]
[20,"José Gallasch",0,0,0,0,0,"F","F","F","F","F","F","F","F","F","F","F"]
[21,"José Henrique",0,0,0,0,0,"F","F","F","F","F","F","F","F","F","F","F"]
[22,"Juliano Borges",0,0,0,0,0,"F","F","F","F","F","F","F","F","F","F","F"]
[23,"Leonardo Vicente",2,0,0,1,0,"F","F","F",300,9,"F","F","F","F","F","F"]
[24,"Lígia Waki",4,0,0,0,0,17,16,15,14,"F","F","F","F","F","F","F"]
[25,"Lucas Henrique",5,0,0,0,0,"F","F",16,11,20,17,15,"F","F","F","F"]
[26,"Luiz Antonio",2,0,0,0,1,"F","F","F","F",400,12,"F","F","F","F","F"]
[27,"Luiz Felipe",0,0,0,0,0,"F","F","F","F","F","F","F","F","F","F","F"]
[28,"Luiz Guilherme",2,0,0,1,0,300,"F",8,"F","F","F","F","F","F","F","F"]
[29,"Luiz Humberto",2,0,1,1,0,"F","F","F","F","F","F",300,"F",200,"F","F"]
[30,"Márcio Costa",9,2,0,0,0,3,100,4,3,5,3,"F",100,"F",8,3]
[31,"Márcio Guedes",1,0,0,0,1,"F","F","F","F","F","F",400,"F","F","F","F"]
[32,"Marcos Juliatto",0,0,0,0,0,"F","F","F","F","F","F","F","F","F","F","F"]
[33,"Marcos Neves",0,0,0,0,0,"F","F","F","F","F","F","F","F","F","F","F"]
[34,"Maurício Penteado",0,0,0,0,0,"F","F","F","F","F","F","F","F","F","F","F"]
[35,"Mauro Figueiredo",1,0,0,0,0,"F","F","F","F","F","F","F","F","F","F",2]
[36,"Michel Benevides",10,0,0,0,0,15,12,14,16,11,11,10,9,5,5,"F"]
[37,"Paulo César",1,0,0,0,0,"F","F","F","F","F","F","F","F","F","F",5]
[38,"Raul Grizi",4,0,0,0,0,"F","F","F","F",14,9,5,8,"F","F","F"]
[39,"Ricardo Benites",1,0,0,0,0,"F","F","F","F","F","F","F","F",10,"F","F"]
[40,"Ricardo Nardy",11,1,0,0,0,8,2,6,4,4,5,3,2,100,2,2]
[41,"Rodrigo Cisoto",1,0,0,0,0,"F","F","F","F","F","F","F","F","F","F",6]
[42,"Ronaldo Massa",1,0,0,1,0,"F","F","F","F","F",300,"F","F","F","F","F"]
[43,"Serginho Castilho",8,3,0,0,0,"F",3,100,100,2,2,6,"F",8,100,"F"]
[44,"Wilson Benevides",11,0,1,0,0,16,11,9,10,200,6,4,5,6,4,7]

{"sheet":"dados campeões","index":9,"n_rows":39,"n_cols":23,"rows_kept":39,"cut":false,"hidden":true,"merged":[[0,0,1,0],[39,30,39,31],[39,50,39,51],[42,24,42,25],[42,44,42,45],[40,24,40,25],[40,44,40,45],[41,24,41,25],[41,44,41,45]]}
["todos os torneios",null,null,null,null,null,"AGO","SET","OUT","NOV","DEZ","JAN","FEV","MAR","ABR","MAI","JUN","JUL","AGO","SET","OUT","NOV","DEZ"]
[null,null,null,null,null,null,141,142,143,144,145]
["BOTONISTA","TOD","O","P","B","E","2009-09-02","2009-09-30","2009-10-28","2009-11-25","2009-12-09"]
["Márcio Costa",{"$f":"COUNT(G4:IV4)","v":0},{"$f":"COUNTIF(G4:IV4,\"1\")","v":0},{"$f":"COUNTIF(Y4:IV4,\"2\")","v":0},{"$f":"COUNTIF(Y4:IV4,\"3\")","v":0},{"$f":"COUNTIF(Y4:IV4,\"4\")","v":0},"F"]
["Marcos Juliatto",0,0,0,0,0,"F"]
["André Stancatti",0,0,0,0,0,"F"]
["Celso de Assis",1,0,0,0,0,2]
["Ricardo Nardy",1,0,0,0,0,5]
["Antonio Ribeiro",0,0,0,0,0,"F"]
["Ismael Júnior",0,0,0,0,0,"F"]
["Cristiano Paffrath",0,0,0,0,0,"F"]
["Gustavo Arcolini",0,0,0,0,0,"F"]
["Lucas Henrique",0,0,0,0,0,"F"]
["Maurício Penteado",0,0,0,0,0,"F"]
["Carlos Febo",0,0,0,0,0,"F"]
["Edson Fortuna ",1,0,0,0,0,6]
["Wilson Benevides",1,0,0,0,0,9]
["Michel Benevides",1,0,0,0,0,7]
["Lígia Waki",0,0,0,0,0,"F"]
["Serginho Castilho",1,1,0,0,0,1]
["Luiz Antonio",0,0,0,0,0,"F"]
["Leonardo Vicente",0,0,0,0,0,"F"]
["José Gallasch",0,0,0,0,0,"F"]
["Augusto Cesar",0,0,0,0,0,"F"]
["Luiz Humberto",1,0,0,0,0,3]
["Agnaldo Camelo",0,0,0,0,0,"F"]
["João Felipe",1,0,0,0,0,10]
["Ronaldo Massa",0,0,0,0,0,"F"]
["Gabriel Nardy",0,0,0,0,0,"F"]
["Raul Grizi",1,0,0,0,0,4]
["Carlos Henrique",0,0,0,0,0,"F"]
["Bryan Brinque",0,0,0,0,0,"F"]
["Guilherme Simeira",0,0,0,0,0,"F"]
["Márcio Guedes",0,0,0,0,0,"F"]
["Luiz Guilherme",0,0,0,0,0,"F"]
["Luiz Felipe",0,0,0,0,0,"F"]
["César Rebecca",0,0,0,0,0,"F"]
["Ricardo Benites",1,0,0,0,0,8]
["Juliano Borges",0,0,0,0,0,"F"]

{"sheet":"dados taças","index":10,"n_rows":39,"n_cols":17,"rows_kept":39,"cut":false,"hidden":true,"merged":[[0,0,1,0]]}
["somente taças",null,null,null,null,null,"1ª taça","2ª taça","3ª taça","4ª taça","5ª taça","6ª taça","7ª taça","8ª taça","9ª taça","10ª taça","11ª taça"]
[null,null,null,null,null,null,"13º","25º","40º","55º","72º","89º","106º","123º","140º","145º","157º"]
["BOTONISTA","TOD","O","P","B","E","2007-02-21","2007-05-23","2007-09-05","2007-12-19","2008-04-23","2008-08-20","2008-12-17","2009-04-29","2009-08-26","2009-12-09"]
["Márcio Costa",{"$f":"COUNT(G4:IV4)","v":7},{"$f":"COUNTIF(G4:IV4,\"100\")","v":2},{"$f":"COUNTIF(G4:IV4,\"200\")","v":0},{"$f":"COUNTIF(G4:IV4,\"300\")","v":0},{"$f":"COUNTIF(G4:IV4,\"400\")","v":0},3,100,4,3,5,3,"F",100,"F"]
["Marcos Juliatto",0,0,0,0,0,"F","F","F","F","F","F","F","F","F"]
["André Stancatti",4,0,0,0,0,4,10,11,9,"F","F","F","F","F"]
["Celso de Assis",8,2,1,0,0,5,9,200,6,6,100,100,"F",2]
["Ricardo Nardy",9,1,0,0,0,8,2,6,4,4,5,3,2,100]
["Antonio Ribeiro",9,0,2,0,0,10,5,10,200,10,8,200,10,4]
["Ismael Júnior",8,2,2,0,0,100,200,5,2,100,200,2,3,"F"]
["Cristiano Paffrath",3,0,1,0,0,200,8,2,"F","F","F","F","F","F"]
["Gustavo Arcolini",8,0,0,1,0,"F",300,3,5,3,4,14,4,9]
["Lucas Henrique",5,0,0,0,0,"F","F",16,11,20,17,15,"F","F"]
["Maurício Penteado",0,0,0,0,0,"F","F","F","F","F","F","F","F","F"]
["Carlos Febo",6,0,0,1,0,9,15,300,15,"F",14,16,"F","F"]
["Edson Fortuna ",7,0,1,0,0,14,14,12,12,15,16,"F",200,"F"]
["Wilson Benevides",9,0,1,0,0,16,11,9,10,200,6,4,5,6]
["Michel Benevides",9,0,0,0,0,15,12,14,16,11,11,10,9,5]
["Lígia Waki",4,0,0,0,0,17,16,15,14,"F","F","F","F","F"]
["Serginho Castilho",7,2,0,0,0,"F",3,100,100,2,2,6,"F",8]
["Luiz Antonio",2,0,0,0,1,"F","F","F","F",400,12,"F","F","F"]
["Leonardo Vicente",2,0,0,1,0,"F","F","F",300,9,"F","F","F","F"]
["José Gallasch",0,0,0,0,0,"F","F","F","F","F","F","F","F","F"]
["Augusto Cesar",0,0,0,0,0,"F","F","F","F","F","F","F","F","F"]
["Luiz Humberto",2,0,1,1,0,"F","F","F","F","F","F",300,"F",200]
["Agnaldo Camelo",2,0,0,0,0,"F",17,17,"F","F","F","F","F","F"]
["João Felipe",5,0,0,0,0,"F","F",18,8,8,15,9,"F","F"]
["Ronaldo Massa",1,0,0,1,0,"F","F","F","F","F",300,"F","F","F"]
["Gabriel Nardy",4,0,0,0,0,"F","F","F","F",16,10,8,14,"F"]
["Raul Grizi",4,0,0,0,0,"F","F","F","F",14,9,5,8,"F"]
["Carlos Henrique",2,0,0,1,1,"F","F","F","F",300,400,"F","F","F"]
["Bryan Brinque",1,0,0,0,0,"F","F","F","F","F","F",17,"F","F"]
["Guilherme Simeira",0,0,0,0,0,"F","F","F","F","F","F","F","F","F"]
["Márcio Guedes",1,0,0,0,1,"F","F","F","F","F","F",400,"F","F"]
["Luiz Guilherme",2,0,0,1,0,300,"F",8,"F","F","F","F","F","F"]
["Luiz Felipe",0,0,0,0,0,"F","F","F","F","F","F","F","F","F"]
["César Rebecca",2,0,0,1,0,"F","F","F","F","F","F","F",300,3]
["Ricardo Benites",1,0,0,0,0,"F","F","F","F","F","F","F","F",10]
["Juliano Borges",0,0,0,0,0,"F","F","F","F","F","F","F","F","F"]