{"text_format":"1","workbook":"xlsx","n_sheets":13,"sheets":["seletivo","RANK","Vitórias Campineiro","taças","dados seletivo ","TACAS","(dados) 2012","(dados) 12 MESES","(dados) GERAL","(dados) FPFM","(dados) TAÇAS","dados campeões","dados taças"],"not_rendered":{"charts":0,"images":1,"macros":1,"external_links":1,"defined_names":0,"comments":0,"pivot_tables":0},"unopened":[],"bounds":{"document_bytes":16777216,"sheet_cells":100000,"rows_first":2000,"rows_last":500,"rows_between":2000,"halvings":0,"cell_chars":16384,"cell_head_chars":4096},"cells_cut":0,"cells_raw":0,"read":"whole","date_system":"1900"}

{"sheet":"seletivo","index":0,"n_rows":31,"n_cols":27,"rows_kept":31,"cut":false,"hidden":true,"merged":[[9,0,14,0],[1,0,1,4],[0,0,0,4],[3,6,8,6],[9,6,14,6],[12,2,12,4],[13,2,13,4],[14,2,14,4],[2,0,2,4],[0,6,0,14],[1,6,1,14],[3,0,8,0],[11,2,11,4],[3,2,3,4],[4,2,4,4],[7,2,7,4],[0,21,0,24],[3,17,8,17],[9,17,14,17],[2,16,2,18],[0,17,0,18],[17,2,17,4],[15,0,20,0],[21,6,30,6],[22,2,22,4],[23,2,23,4],[18,2,18,4],[19,2,19,4],[15,6,20,6],[15,2,15,4],[16,2,16,4],[21,0,30,0],[36,17,36,18],[8,2,8,4],[9,2,9,4],[10,2,10,4],[30,2,30,4],[24,2,24,4],[25,2,25,4],[26,2,26,4],[27,2,27,4],[34,17,34,18],[29,2,29,4],[15,17,20,17],[21,17,28,17],[20,2,20,4],[21,2,21,4],[28,2,28,4]]}
["ACESSO & DESCENSO",null,null,null,null,null,"SELETIVAS - 10ª TAÇA - 9 de dezembro/2009"]
[]
["* PRÓXIMO TORNEIO *",null,null,null,null,null,null,"ATU","ANT",null,"BOTONISTA","TOD","TOTAL","#","#1º",null,"PONTUAÇÃO"]
["OURO","►","serginho",null,null,null,"OURO",1,1,{"$f":"IF(H4=I4,$AA$4,IF(H4>I4,$AA$6,IF(H4<I4,$AA$5)))","v":"►"},{"$f":"'dados seletivo '!A20","v":"Serginho Castilho"},{"$f":"'dados seletivo '!BW20","v":0},{"$f":"'dados seletivo '!BV20","v":0},null,null,null,"1º","4 pontos entre cada posição",100,null,null,null,null,null,null,null,"►"]
[null,"►","celso",null,null,null,null,2,2,"►",{"$f":"'dados seletivo '!A7","v":"Celso de Assis"},{"$f":"'dados seletivo '!BW7","v":0},{"$f":"'dados seletivo '!BV7","v":0},{"$f":"(M5-M4)","v":0},{"$f":"(M5-M$4)","v":0},null,"2º",null,96,null,null,null,null,null,null,null,"▲"]
[null,"►","beto",null,null,null,null,3,3,"►",{"$f":"'dados seletivo '!A25","v":"Luiz Humberto"},{"$f":"'dados seletivo '!BW25","v":0},{"$f":"'dados seletivo '!BV25","v":0},0,0,null,"3º",null,92,null,null,null,null,null,null,null,"▼"]
[null,"►","raul",null,null,null,null,4,4,"►",{"$f":"'dados seletivo '!A30","v":"Raul Grizi"},{"$f":"'dados seletivo '!BW30","v":0},{"$f":"'dados seletivo '!BV30","v":0},0,0,null,"4º",null,88]
[null,"▲","nardy",null,null,null,null,5,5,"►",{"$f":"'dados seletivo '!A8","v":"Ricardo Nardy"},{"$f":"'dados seletivo '!BW8","v":0},{"$f":"'dados seletivo '!BV8","v":0},0,0,null,"5º",null,84]
[null,"▲","edson",null,null,null,null,6,6,"►",{"$f":"'dados seletivo '!$A$16","v":"Edson Fortuna "},{"$f":"'dados seletivo '!$BW$16","v":0},{"$f":"'dados seletivo '!$BV$16","v":0},0,0,null,"6º",null,80]
["PRATA","▼","michel",null,null,null,"PRATA",7,7,"►","Michel Benevides",{"$f":"'dados seletivo '!$BW$18","v":0},{"$f":"'dados seletivo '!$BV$18","v":0},0,0,null,"7º","3 pontos entre cada posição",77]
[null,"▼","benites",null,null,null,null,8,8,"►",{"$f":"'dados seletivo '!A38","v":"Ricardo Benites"},{"$f":"'dados seletivo '!BW38","v":0},{"$f":"'dados seletivo '!BV38","v":0},0,0,null,"8º",null,74,null,"ATU","Posição atual"]
[null,"►","wilson",null,null,null,null,9,9,"►",{"$f":"'dados seletivo '!A17","v":"Wilson Benevides"},{"$f":"'dados seletivo '!BW17","v":0},{"$f":"'dados seletivo '!BV17","v":0},0,0,null,"9º",null,71,null,"ANT","Posição anterior"]
[null,"►","joão",null,null,null,null,10,10,"►",{"$f":"'dados seletivo '!A27","v":"João Felipe"},{"$f":"'dados seletivo '!BW27","v":0},{"$f":"'dados seletivo '!BV27","v":0},0,0,null,"10º",null,68,null,"TOD","Torneios disputados"]
[null,"►",null,null,null,null,null,11,11,"►",{"$f":"'dados seletivo '!A9","v":"Antonio Ribeiro"},{"$f":"'dados seletivo '!BW9","v":0},{"$f":"'dados seletivo '!BV9","v":0},0,0,null,"11º",null,65,null,"#","Diferença colocação acima"]
[null,"►",null,null,null,null,null,12,12,"►",{"$f":"'dados seletivo '!A37","v":"César Rebecca"},{"$f":"'dados seletivo '!BW37","v":0},{"$f":"'dados seletivo '!BV37","v":0},0,0,null,"12º",null,62,null,"# 1º","Diferença p/ 1º colocado"]
["BRONZE","▼",null,null,null,null,"BRONZE",13,13,"►",{"$f":"'dados seletivo '!A4","v":"Márcio Costa"},{"$f":"'dados seletivo '!BW4","v":0},{"$f":"'dados seletivo '!BV4","v":0},0,0,null,"13º","2 pontos entre cada posição",60]
[null,"▼",null,null,null,null,null,14,14,"►",{"$f":"'dados seletivo '!A12","v":"Gustavo Arcolini"},{"$f":"'dados seletivo '!BW12","v":0},{"$f":"'dados seletivo '!BV12","v":0},0,0,null,"14º",null,58]
[null,"►",null,null,null,null,null,15,15,"►","André Stancatti",{"$f":"'dados seletivo '!BW6","v":0},{"$f":"'dados seletivo '!BV6","v":0},0,0,null,"15º",null,56]
[null,"►",null,null,null,null,null,16,16,"►",{"$f":"'dados seletivo '!A31","v":"Carlos Henrique"},{"$f":"'dados seletivo '!BW31","v":0},{"$f":"'dados seletivo '!BV31","v":0},0,0,null,"16º",null,54]
[null,"▲",null,null,null,null,null,17,17,"►",{"$f":"'dados seletivo '!A39","v":"Juliano Borges"},{"$f":"'dados seletivo '!BW39","v":0},{"$f":"'dados seletivo '!BV39","v":0},0,0,null,"17º",null,52]
[null,"▲",null,null,null,null,null,18,18,"►",{"$f":"'dados seletivo '!A29","v":"Gabriel Nardy"},{"$f":"'dados seletivo '!BW29","v":0},{"$f":"'dados seletivo '!BV29","v":0},0,0,null,"18º",null,50]
["EXTRA","▼",null,null,null,null,"EXTRA",19,19,"►",{"$f":"'dados seletivo '!$A$10","v":"Ismael Júnior"},{"$f":"'dados seletivo '!$BW$10","v":0},{"$f":"'dados seletivo '!$BV$10","v":0},0,0,null,"19º","1 ponto entre cada posição ",49]
[null,"▼",null,null,null,null,null,20,20,"►","Luiz Antonio",{"$f":"'dados seletivo '!$BW$21","v":0},{"$f":"'dados seletivo '!$BV$21","v":0},0,0,null,"20º",null,48]
[null,"►",null,null,null,null,null,21,21,"►","Lucas Henrique",{"$f":"'dados seletivo '!$BW$13","v":0},{"$f":"'dados seletivo '!$BV$13","v":0},0,0,null,"21º",null,47]
[null,"►",null,null,null,null,null,22,22,"►",{"$f":"'dados seletivo '!A34","v":"Márcio Guedes"},{"$f":"'dados seletivo '!$BW$34","v":0},{"$f":"'dados seletivo '!$BV$34","v":0},0,0,null,"22º",null,46]
[null,"►",null,null,null,null,null,23,23,"►",{"$f":"'dados seletivo '!A5","v":"Marcos Juliatto"},{"$f":"'dados seletivo '!BW5","v":0},{"$f":"'dados seletivo '!BV5","v":0},0,0,null,"23º",null,45]
[null,"►",null,null,null,null,null,24,24,"►",{"$f":"'dados seletivo '!A24","v":"Augusto Cesar"},{"$f":"'dados seletivo '!BW24","v":0},{"$f":"'dados seletivo '!BV24","v":0},0,0,null,"24º",null,44]
[null,"►",null,null,null,null,null,25,25,"►",null,null,null,0,0,null,"25º",null,43]
[null,"►",null,null,null,null,null,26,26,"►",null,null,null,0,0,null,"26º",null,42]
[null,"►",null,null,null,null,null,27,27,"►",null,null,null,0,0]
[null,"►",null,null,null,null,null,28,28,"►",null,null,null,0,0]

{"sheet":"RANK","index":1,"n_rows":27,"n_cols":43,"rows_kept":27,"cut":false,"hidden":false,"merged":[[0,16,0,17],[0,6,0,7],[0,0,0,1],[0,2,0,3],[0,4,0,5],[0,10,0,14],[0,8,0,9]]}
["RANK CDB",null,2012,null,"12 MESES",null,"FPFM",null,"4ª TREINO",null,"TÍTULOS TORNEIOS",null,null,null,null,null,"PTS"]
["POS","BOTONISTA","PTS","JG","PTS","JG","PTS","POS","PTS","JG","JG","O","P","B","E",null,"1º",30]
[1,"SERGIO FILHO",{"$f":"VLOOKUP($B3,'(dados) 2012'!$A$4:$CY$34,101,0)","v":760},{"$f":"VLOOKUP($B3,'(dados) 2012'!$A$4:$CY$34,102,0)","v":20},{"$f":"VLOOKUP($B3,'(dados) 12 MESES'!$A$4:$CY$34,101,0)","v":760},{"$f":"VLOOKUP($B3,'(dados) 12 MESES'!$A$4:$CY$34,102,0)","v":20},{"$f":"VLOOKUP($B3,'(dados) FPFM'!$C$2:$H$500,4,0)","v":452},{"$f":"VLOOKUP($B3,'(dados) FPFM'!$C$2:$H$500,6,0)","v":96},{"$f":"VLOOKUP($B3,'(dados) 2012'!$A$4:$DB$34,106,0)","v":180},{"$f":"VLOOKUP($B3,'(dados) 2012'!$A$4:$DB$34,105,0)","v":18},{"$f":"VLOOKUP($B3,'(dados) GERAL'!$A$4:$HI$63,213,0)","v":150},{"$f":"VLOOKUP($B3,'(dados) GERAL'!$A$4:$HI$63,214,0)","v":68},{"$f":"VLOOKUP($B3,'(dados) GERAL'!$A$4:$HI$63,215,0)","v":4},{"$f":"VLOOKUP($B3,'(dados) GERAL'!$A$4:$HI$63,216,0)","v":4},{"$f":"VLOOKUP($B3,'(dados) GERAL'!$A$4:$HI$63,217,0)","v":0},null,"2º",27,null,null,null,null,{"$f":"L3*(1000000000)+M3*(1000000)+N3*(1000)+O3*(100)+K3*(10)","v":68004005500},{"$f":"VLOOKUP($B3,'(dados) GERAL'!$A$4:$HJ$63,218,0)","v":"<img src=\"http://www.clubedobotao.com/wp-content/uploads/2012/12/SÉRGIO-FILHO-2012.jpg\" alt=\"\" title=\"Sérgio Filho\" width=\"25\" height=\"25\" class=\"aligncenter size-thumbnail wp-image-6596\" /> "},null,null,null,null,null,null,null,null,null,null,null,null,null,null,null,null,null,null,"►"]
[2,"SCHON",{"$f":"VLOOKUP($B4,'(dados) 2012'!$A$4:$CY$34,101,0)","v":653},{"$f":"VLOOKUP($B4,'(dados) 2012'!$A$4:$CY$34,102,0)","v":19},{"$f":"VLOOKUP($B4,'(dados) 12 MESES'!$A$4:$CY$34,101,0)","v":653},{"$f":"VLOOKUP($B4,'(dados) 12 MESES'!$A$4:$CY$34,102,0)","v":19},{"$f":"VLOOKUP($B4,'(dados) FPFM'!$C$2:$H$500,4,0)","v":894},{"$f":"VLOOKUP($B4,'(dados) FPFM'!$C$2:$H$500,6,0)","v":39},{"$f":"VLOOKUP($B4,'(dados) 2012'!$A$4:$DB$34,106,0)","v":190},{"$f":"VLOOKUP($B4,'(dados) 2012'!$A$4:$DB$34,105,0)","v":19},{"$f":"VLOOKUP($B4,'(dados) GERAL'!$A$4:$HI$63,213,0)","v":35},{"$f":"VLOOKUP($B4,'(dados) GERAL'!$A$4:$HI$63,214,0)","v":2},{"$f":"VLOOKUP($B4,'(dados) GERAL'!$A$4:$HI$63,215,0)","v":4},{"$f":"VLOOKUP($B4,'(dados) GERAL'!$A$4:$HI$63,216,0)","v":0},{"$f":"VLOOKUP($B4,'(dados) GERAL'!$A$4:$HI$63,217,0)","v":0},null,"3º",25,null,null,null,null,{"$f":"L4*(1000000000)+M4*(1000000)+N4*(1000)+O4*(100)+K4*(10)","v":2004000350},{"$f":"VLOOKUP($B4,'(dados) GERAL'!$A$4:$HJ$63,218,0)","v":"<img src=\"http://www.clubedobotao.com/wp-content/uploads/2012/12/ALEXANDRE-SCHON-2012.jpg\" alt=\"\" title=\"Schon\" width=\"25\" height=\"25\" class=\"aligncenter size-full wp-image-5986\" />"},null,null,null,null,null,null,null,null,null,null,null,null,null,null,null,null,null,null,"▲"]
[3,"WILSON BENEVIDES",{"$f":"VLOOKUP($B5,'(dados) 2012'!$A$4:$CY$34,101,0)","v":631},{"$f":"VLOOKUP($B5,'(dados) 2012'!$A$4:$CY$34,102,0)","v":20},{"$f":"VLOOKUP($B5,'(dados) 12 MESES'!$A$4:$CY$34,101,0)","v":631},{"$f":"VLOOKUP($B5,'(dados) 12 MESES'!$A$4:$CY$34,102,0)","v":20},{"$f":"VLOOKUP($B5,'(dados) FPFM'!$C$2:$H$500,4,0)","v":732},{"$f":"VLOOKUP($B5,'(dados) FPFM'!$C$2:$H$500,6,0)","v":56},{"$f":"VLOOKUP($B5,'(dados) 2012'!$A$4:$DB$34,106,0)","v":190},{"$f":"VLOOKUP($B5,'(dados) 2012'!$A$4:$DB$34,105,0)","v":19},{"$f":"VLOOKUP($B5,'(dados) GERAL'!$A$4:$HI$63,213,0)","v":198},{"$f":"VLOOKUP($B5,'(dados) GERAL'!$A$4:$HI$63,214,0)","v":5},{"$f":"VLOOKUP($B5,'(dados) GERAL'!$A$4:$HI$63,215,0)","v":12},{"$f":"VLOOKUP($B5,'(dados) GERAL'!$A$4:$HI$63,216,0)","v":3},{"$f":"VLOOKUP($B5,'(dados) GERAL'!$A$4:$HI$63,217,0)","v":0},null,"4º",23,null,null,null,null,5012004980,{"$f":"VLOOKUP($B5,'(dados) GERAL'!$A$4:$HJ$63,218,0)","v":"<img src=\"http://www.clubedobotao.com/wp-content/uploads/2012/12/WILSON-BENEVIDES-2012.jpg\" alt=\"\" title=\"Wilson Benevides\" width=\"25\" height=\"25\" class=\"aligncenter size-full wp-image-4544\" />"},null,null,null,null,null,null,null,null,null,null,null,null,null,null,null,null,null,null,"▼"]
[4,"ANTONIO RIBEIRO",{"$f":"VLOOKUP($B6,'(dados) 2012'!$A$4:$CY$34,101,0)","v":629},{"$f":"VLOOKUP($B6,'(dados) 2012'!$A$4:$CY$34,102,0)","v":20},{"$f":"VLOOKUP($B6,'(dados) 12 MESES'!$A$4:$CY$34,101,0)","v":629},{"$f":"VLOOKUP($B6,'(dados) 12 MESES'!$A$4:$CY$34,102,0)","v":20},{"$f":"VLOOKUP($B6,'(dados) FPFM'!$C$2:$H$500,4,0)","v":349},{"$f":"VLOOKUP($B6,'(dados) FPFM'!$C$2:$H$500,6,0)","v":122},{"$f":"VLOOKUP($B6,'(dados) 2012'!$A$4:$DB$34,106,0)","v":180},{"$f":"VLOOKUP($B6,'(dados) 2012'!$A$4:$DB$34,105,0)","v":18},{"$f":"VLOOKUP($B6,'(dados) GERAL'!$A$4:$HI$63,213,0)","v":198},{"$f":"VLOOKUP($B6,'(dados) GERAL'!$A$4:$HI$63,214,0)","v":1},{"$f":"VLOOKUP($B6,'(dados) GERAL'!$A$4:$HI$63,215,0)","v":12},{"$f":"VLOOKUP($B6,'(dados) GERAL'!$A$4:$HI$63,216,0)","v":0},{"$f":"VLOOKUP($B6,'(dados) GERAL'!$A$4:$HI$63,217,0)","v":0},null,"5º",22,null,null,null,null,1012001980,{"$f":"VLOOKUP($B6,'(dados) GERAL'!$A$4:$HJ$63,218,0)","v":"<img src=\"http://www.clubedobotao.com/wp-content/uploads/2012/12/ANTONIO-RIBEIRO-2012.jpg\" alt=\"\" title=\"Antonio Ribeiro\" width=\"25\" height=\"25\" class=\"aligncenter size-thumbnail wp-image-4920\" />"}]
[5,"CESAR REBECCA",{"$f":"VLOOKUP($B7,'(dados) 2012'!$A$4:$CY$34,101,0)","v":629},{"$f":"VLOOKUP($B7,'(dados) 2012'!$A$4:$CY$34,102,0)","v":19},{"$f":"VLOOKUP($B7,'(dados) 12 MESES'!$A$4:$CY$34,101,0)","v":629},{"$f":"VLOOKUP($B7,'(dados) 12 MESES'!$A$4:$CY$34,102,0)","v":19},{"$f":"VLOOKUP($B7,'(dados) FPFM'!$C$2:$H$500,4,0)","v":578},{"$f":"VLOOKUP($B7,'(dados) FPFM'!$C$2:$H$500,6,0)","v":74},{"$f":"VLOOKUP($B7,'(dados) 2012'!$A$4:$DB$34,106,0)","v":200},{"$f":"VLOOKUP($B7,'(dados) 2012'!$A$4:$DB$34,105,0)","v":20},{"$f":"VLOOKUP($B7,'(dados) GERAL'!$A$4:$HI$63,213,0)","v":65},{"$f":"VLOOKUP($B7,'(dados) GERAL'!$A$4:$HI$63,214,0)","v":0},{"$f":"VLOOKUP($B7,'(dados) GERAL'!$A$4:$HI$63,215,0)","v":5},{"$f":"VLOOKUP($B7,'(dados) GERAL'!$A$4:$HI$63,216,0)","v":1},{"$f":"VLOOKUP($B7,'(dados) GERAL'!$A$4:$HI$63,217,0)","v":0},null,"6º",21,null,null,null,null,5001650,{"$f":"VLOOKUP($B7,'(dados) GERAL'!$A$4:$HJ$63,218,0)","v":"<img src=\"http://www.clubedobotao.com/wp-content/uploads/2012/12/CÉSAR-REBECCA-2012.jpg\" alt=\"\" title=\"César Rebecca\" width=\"25\" height=\"25\" class=\"aligncenter size-thumbnail wp-image-4922\" />"}]
[6,"PEDRO NETO",{"$f":"VLOOKUP($B8,'(dados) 2012'!$A$4:$CY$34,101,0)","v":520},{"$f":"VLOOKUP($B8,'(dados) 2012'!$A$4:$CY$34,102,0)","v":18},{"$f":"VLOOKUP($B8,'(dados) 12 MESES'!$A$4:$CY$34,101,0)","v":520},{"$f":"VLOOKUP($B8,'(dados) 12 MESES'!$A$4:$CY$34,102,0)","v":18},{"$f":"VLOOKUP($B8,'(dados) FPFM'!$C$2:$H$500,4,0)","v":835},{"$f":"VLOOKUP($B8,'(dados) FPFM'!$C$2:$H$500,6,0)","v":7},{"$f":"VLOOKUP($B8,'(dados) 2012'!$A$4:$DB$34,106,0)","v":130},{"$f":"VLOOKUP($B8,'(dados) 2012'!$A$4:$DB$34,105,0)","v":13},{"$f":"VLOOKUP($B8,'(dados) GERAL'!$A$4:$HI$63,213,0)","v":38},{"$f":"VLOOKUP($B8,'(dados) GERAL'!$A$4:$HI$63,214,0)","v":0},{"$f":"VLOOKUP($B8,'(dados) GERAL'!$A$4:$HI$63,215,0)","v":1},{"$f":"VLOOKUP($B8,'(dados) GERAL'!$A$4:$HI$63,216,0)","v":0},{"$f":"VLOOKUP($B8,'(dados) GERAL'!$A$4:$HI$63,217,0)","v":0},null,"7º",22,null,null,null,null,1000380,{"$f":"VLOOKUP($B8,'(dados) GERAL'!$A$4:$HJ$63,218,0)","v":"<img src=\"http://www.clubedobotao.com/wp-content/uploads/2012/12/PEDRO-NETO-2012.jpg\" alt=\"\" title=\"Pedro Neto\" width=\"25\" height=\"25\" class=\"aligncenter size-full wp-image-4384\" />"}]
[7,"FERNANDO DEZIO",{"$f":"VLOOKUP($B9,'(dados) 2012'!$A$4:$CY$34,101,0)","v":513},{"$f":"VLOOKUP($B9,'(dados) 2012'!$A$4:$CY$34,102,0)","v":18},{"$f":"VLOOKUP($B9,'(dados) 12 MESES'!$A$4:$CY$34,101,0)","v":513},{"$f":"VLOOKUP($B9,'(dados) 12 MESES'!$A$4:$CY$34,102,0)","v":18},{"$f":"VLOOKUP($B9,'(dados) FPFM'!$C$2:$H$500,4,0)","v":573},{"$f":"VLOOKUP($B9,'(dados) FPFM'!$C$2:$H$500,6,0)","v":76},{"$f":"VLOOKUP($B9,'(dados) 2012'!$A$4:$DB$34,106,0)","v":130},{"$f":"VLOOKUP($B9,'(dados) 2012'!$A$4:$DB$34,105,0)","v":13},{"$f":"VLOOKUP($B9,'(dados) GERAL'!$A$4:$HI$63,213,0)","v":37},{"$f":"VLOOKUP($B9,'(dados) GERAL'!$A$4:$HI$63,214,0)","v":0},{"$f":"VLOOKUP($B9,'(dados) GERAL'!$A$4:$HI$63,215,0)","v":2},{"$f":"VLOOKUP($B9,'(dados) GERAL'!$A$4:$HI$63,216,0)","v":0},{"$f":"VLOOKUP($B9,'(dados) GERAL'!$A$4:$HI$63,217,0)","v":0},null,"8º",21,null,null,null,null,2000370,{"$f":"VLOOKUP($B9,'(dados) GERAL'!$A$4:$HJ$63,218,0)","v":"<img src=\"http://www.clubedobotao.com/wp-content/uploads/2012/12/FERNANDO-DEZIO-2012.jpg\" alt=\"\" title=\"Fernando Dezio\" width=\"25\" height=\"25\" class=\"aligncenter size-full wp-image-4383\" />"}]
[8,"CHELIO",{"$f":"VLOOKUP($B10,'(dados) 2012'!$A$4:$CY$34,101,0)","v":509},{"$f":"VLOOKUP($B10,'(dados) 2012'!$A$4:$CY$34,102,0)","v":17},{"$f":"VLOOKUP($B10,'(dados) 12 MESES'!$A$4:$CY$34,101,0)","v":509},{"$f":"VLOOKUP($B10,'(dados) 12 MESES'!$A$4:$CY$34,102,0)","v":17},{"$f":"VLOOKUP($B10,'(dados) FPFM'!$C$2:$H$500,4,0)","v":593},{"$f":"VLOOKUP($B10,'(dados) FPFM'!$C$2:$H$500,6,0)","v":72},{"$f":"VLOOKUP($B10,'(dados) 2012'!$A$4:$DB$34,106,0)","v":140},{"$f":"VLOOKUP($B10,'(dados) 2012'!$A$4:$DB$34,105,0)","v":14},{"$f":"VLOOKUP($B10,'(dados) GERAL'!$A$4:$HI$63,213,0)","v":58},{"$f":"VLOOKUP($B10,'(dados) GERAL'!$A$4:$HI$63,214,0)","v":1},{"$f":"VLOOKUP($B10,'(dados) GERAL'!$A$4:$HI$63,215,0)","v":2},{"$f":"VLOOKUP($B10,'(dados) GERAL'!$A$4:$HI$63,216,0)","v":0},{"$f":"VLOOKUP($B10,'(dados) GERAL'!$A$4:$HI$63,217,0)","v":0},null,"9º",18,null,null,null,null,1002000580,{"$f":"VLOOKUP($B10,'(dados) GERAL'!$A$4:$HJ$63,218,0)","v":"<img src=\"http://www.clubedobotao.com/wp-content/uploads/2012/12/FÁBIO-CHELIO-2012.jpg\" alt=\"\" title=\"Chelio\" width=\"25\" height=\"25\" class=\"aligncenter size-full wp-image-6201\" />"}]
[9,"MARCIO COSTA",{"$f":"VLOOKUP($B11,'(dados) 2012'!$A$4:$CY$34,101,0)","v":404},{"$f":"VLOOKUP($B11,'(dados) 2012'!$A$4:$CY$34,102,0)","v":11},{"$f":"VLOOKUP($B11,'(dados) 12 MESES'!$A$4:$CY$34,101,0)","v":404},{"$f":"VLOOKUP($B11,'(dados) 12 MESES'!$A$4:$CY$34,102,0)","v":11},{"$f":"VLOOKUP($B11,'(dados) FPFM'!$C$2:$H$500,4,0)","v":305},{"$f":"VLOOKUP($B11,'(dados) FPFM'!$C$2:$H$500,6,0)","v":137},{"$f":"VLOOKUP($B11,'(dados) 2012'!$A$4:$DB$34,106,0)","v":140},{"$f":"VLOOKUP($B11,'(dados) 2012'!$A$4:$DB$34,105,0)","v":14},{"$f":"VLOOKUP($B11,'(dados) GERAL'!$A$4:$HI$63,213,0)","v":151},{"$f":"VLOOKUP($B11,'(dados) GERAL'!$A$4:$HI$63,214,0)","v":36},{"$f":"VLOOKUP($B11,'(dados) GERAL'!$A$4:$HI$63,215,0)","v":13},{"$f":"VLOOKUP($B11,'(dados) GERAL'!$A$4:$HI$63,216,0)","v":3},{"$f":"VLOOKUP($B11,'(dados) GERAL'!$A$4:$HI$63,217,0)","v":0},null,"10º",17,null,null,null,null,36013004510,{"$f":"VLOOKUP($B11,'(dados) GERAL'!$A$4:$HJ$63,218,0)","v":"<img src=\"http://www.clubedobotao.com/wp-content/uploads/2012/12/MÁRCIO-COSTA-2012.jpg\" alt=\"\" title=\"Márcio Costa\" width=\"25\" height=\"25\" class=\"aligncenter size-full wp-image-6202\" />"}]
[10,"BETO MAGRINI",{"$f":"VLOOKUP($B12,'(dados) 2012'!$A$4:$CY$34,101,0)","v":224},{"$f":"VLOOKUP($B12,'(dados) 2012'!$A$4:$CY$34,102,0)","v":5},{"$f":"VLOOKUP($B12,'(dados) 12 MESES'!$A$4:$CY$34,101,0)","v":224},{"$f":"VLOOKUP($B12,'(dados) 12 MESES'!$A$4:$CY$34,102,0)","v":5},{"$f":"VLOOKUP($B12,'(dados) FPFM'!$C$2:$H$500,4,0)","v":317},{"$f":"VLOOKUP($B12,'(dados) FPFM'!$C$2:$H$500,6,0)","v":132},{"$f":"VLOOKUP($B12,'(dados) 2012'!$A$4:$DB$34,106,0)","v":100},{"$f":"VLOOKUP($B12,'(dados) 2012'!$A$4:$DB$34,105,0)","v":10},{"$f":"VLOOKUP($B12,'(dados) GERAL'!$A$4:$HI$63,213,0)","v":45},{"$f":"VLOOKUP($B12,'(dados) GERAL'!$A$4:$HI$63,214,0)","v":7},{"$f":"VLOOKUP($B12,'(dados) GERAL'!$A$4:$HI$63,215,0)","v":8},{"$f":"VLOOKUP($B12,'(dados) GERAL'!$A$4:$HI$63,216,0)","v":4},{"$f":"VLOOKUP($B12,'(dados) GERAL'!$A$4:$HI$63,217,0)","v":0},null,"11º",16,null,null,null,null,7008004450,{"$f":"VLOOKUP($B12,'(dados) GERAL'!$A$4:$HJ$63,218,0)","v":"<img src=\"http://www.clubedobotao.com/wp-content/uploads/2012/12/BETO-MAGRINI-2012.jpg\" alt=\"\" title=\"Beto Magrini\" width=\"25\" height=\"25\" class=\"aligncenter size-thumbnail wp-image-5768\" />"}]
[11,"EDSON FORTUNA",{"$f":"VLOOKUP($B13,'(dados) 2012'!$A$4:$CY$34,101,0)","v":146},{"$f":"VLOOKUP($B13,'(dados) 2012'!$A$4:$CY$34,102,0)","v":4},{"$f":"VLOOKUP($B13,'(dados) 12 MESES'!$A$4:$CY$34,101,0)","v":146},{"$f":"VLOOKUP($B13,'(dados) 12 MESES'!$A$4:$CY$34,102,0)","v":4},{"$f":"VLOOKUP($B13,'(dados) FPFM'!$C$2:$H$500,4,0)","v":144},{"$f":"VLOOKUP($B13,'(dados) FPFM'!$C$2:$H$500,6,0)","v":189},{"$f":"VLOOKUP($B13,'(dados) 2012'!$A$4:$DB$34,106,0)","v":70},{"$f":"VLOOKUP($B13,'(dados) 2012'!$A$4:$DB$34,105,0)","v":7},{"$f":"VLOOKUP($B13,'(dados) GERAL'!$A$4:$HI$63,213,0)","v":123},{"$f":"VLOOKUP($B13,'(dados) GERAL'!$A$4:$HI$63,214,0)","v":0},{"$f":"VLOOKUP($B13,'(dados) GERAL'!$A$4:$HI$63,215,0)","v":3},{"$f":"VLOOKUP($B13,'(dados) GERAL'!$A$4:$HI$63,216,0)","v":5},{"$f":"VLOOKUP($B13,'(dados) GERAL'!$A$4:$HI$63,217,0)","v":0},null,"12º",15,null,null,null,null,3006230,{"$f":"VLOOKUP($B13,'(dados) GERAL'!$A$4:$HJ$63,218,0)","v":"<img src=\"http://www.clubedobotao.com/wp-content/uploads/2012/12/EDSON-FORTUNA-2012.jpg\" alt=\"\" title=\"Edson Fortuna\" width=\"25\" height=\"25\" class=\"aligncenter size-full wp-image-6200\" />"}]
[12,"CRISTIANO",{"$f":"VLOOKUP($B14,'(dados) 2012'!$A$4:$CY$34,101,0)","v":126},{"$f":"VLOOKUP($B14,'(dados) 2012'!$A$4:$CY$34,102,0)","v":3},{"$f":"VLOOKUP($B14,'(dados) 12 MESES'!$A$4:$CY$34,101,0)","v":126},{"$f":"VLOOKUP($B14,'(dados) 12 MESES'!$A$4:$CY$34,102,0)","v":3},{"$f":"VLOOKUP($B14,'(dados) FPFM'!$C$2:$H$500,4,0)","v":432},{"$f":"VLOOKUP($B14,'(dados) FPFM'!$C$2:$H$500,6,0)","v":100},{"$f":"VLOOKUP($B14,'(dados) 2012'!$A$4:$DB$34,106,0)","v":60},{"$f":"VLOOKUP($B14,'(dados) 2012'!$A$4:$DB$34,105,0)","v":6},{"$f":"VLOOKUP($B14,'(dados) GERAL'!$A$4:$HI$63,213,0)","v":38},{"$f":"VLOOKUP($B14,'(dados) GERAL'!$A$4:$HI$63,214,0)","v":17},{"$f":"VLOOKUP($B14,'(dados) GERAL'!$A$4:$HI$63,215,0)","v":9},{"$f":"VLOOKUP($B14,'(dados) GERAL'!$A$4:$HI$63,216,0)","v":1},{"$f":"VLOOKUP($B14,'(dados) GERAL'!$A$4:$HI$63,217,0)","v":0},null,"13º",16,null,null,null,null,17009001380,{"$f":"VLOOKUP($B14,'(dados) GERAL'!$A$4:$HJ$63,218,0)","v":"<img src=\"http://www.clubedobotao.com/wp-content/uploads/2012/12/CRISTIANO-PAFFRATH-2012.jpg\" alt=\"\" title=\"Cristiano\" width=\"25\" height=\"25\" class=\"aligncenter size-thumbnail wp-image-4640\" />"}]
[13,"FERNANDO BARBIN",{"$f":"VLOOKUP($B15,'(dados) 2012'!$A$4:$CY$34,101,0)","v":125},{"$f":"VLOOKUP($B15,'(dados) 2012'!$A$4:$CY$34,102,0)","v":4},{"$f":"VLOOKUP($B15,'(dados) 12 MESES'!$A$4:$CY$34,101,0)","v":125},{"$f":"VLOOKUP($B15,'(dados) 12 MESES'!$A$4:$CY$34,102,0)","v":4},0,0,{"$f":"VLOOKUP($B15,'(dados) 2012'!$A$4:$DB$34,106,0)","v":50},{"$f":"VLOOKUP($B15,'(dados) 2012'!$A$4:$DB$34,105,0)","v":5},{"$f":"VLOOKUP($B15,'(dados) GERAL'!$A$4:$HI$63,213,0)","v":4},{"$f":"VLOOKUP($B15,'(dados) GERAL'!$A$4:$HI$63,214,0)","v":0},{"$f":"VLOOKUP($B15,'(dados) GERAL'!$A$4:$HI$63,215,0)","v":0},{"$f":"VLOOKUP($B15,'(dados) GERAL'!$A$4:$HI$63,216,0)","v":0},{"$f":"VLOOKUP($B15,'(dados) GERAL'!$A$4:$HI$63,217,0)","v":0},null,"14º",15,null,null,null,null,40,{"$f":"VLOOKUP($B15,'(dados) GERAL'!$A$4:$HJ$63,218,0)","v":"<img src=\"http://www.clubedobotao.com/wp-content/uploads/2012/12/FERNANDO-BARBIN-2012.jpg\" alt=\"\" title=\"Fernando Barbin\" width=\"25\" height=\"25\" class=\"aligncenter size-full wp-image-6198\" />"}]
[14,"NARDY",{"$f":"VLOOKUP($B16,'(dados) 2012'!$A$4:$CY$34,101,0)","v":102},{"$f":"VLOOKUP($B16,'(dados) 2012'!$A$4:$CY$34,102,0)","v":3},{"$f":"VLOOKUP($B16,'(dados) 12 MESES'!$A$4:$CY$34,101,0)","v":102},{"$f":"VLOOKUP($B16,'(dados) 12 MESES'!$A$4:$CY$34,102,0)","v":3},{"$f":"VLOOKUP($B16,'(dados) FPFM'!$C$2:$H$500,4,0)","v":144},{"$f":"VLOOKUP($B16,'(dados) FPFM'!$C$2:$H$500,6,0)","v":190},{"$f":"VLOOKUP($B16,'(dados) 2012'!$A$4:$DB$34,106,0)","v":50},{"$f":"VLOOKUP($B16,'(dados) 2012'!$A$4:$DB$34,105,0)","v":5},{"$f":"VLOOKUP($B16,'(dados) GERAL'!$A$4:$HI$63,213,0)","v":173},{"$f":"VLOOKUP($B16,'(dados) GERAL'!$A$4:$HI$63,214,0)","v":15},{"$f":"VLOOKUP($B16,'(dados) GERAL'!$A$4:$HI$63,215,0)","v":11},{"$f":"VLOOKUP($B16,'(dados) GERAL'!$A$4:$HI$63,216,0)","v":0},{"$f":"VLOOKUP($B16,'(dados) GERAL'!$A$4:$HI$63,217,0)","v":0},null,"15º",12,null,null,null,null,15011001730,{"$f":"VLOOKUP($B16,'(dados) GERAL'!$A$4:$HJ$63,218,0)","v":"<img src=\"http://www.clubedobotao.com/wp-content/uploads/2012/12/RICARDO-NARDY-2012.jpg\" alt=\"\" title=\"Nardy\" width=\"25\" height=\"25\" class=\"aligncenter size-full wp-image-6198\" />"}]
[15,"JOAO PEDRO",{"$f":"VLOOKUP($B17,'(dados) 2012'!$A$4:$CY$34,101,0)","v":52},{"$f":"VLOOKUP($B17,'(dados) 2012'!$A$4:$CY$34,102,0)","v":2},{"$f":"VLOOKUP($B17,'(dados) 12 MESES'!$A$4:$CY$34,101,0)","v":52},{"$f":"VLOOKUP($B17,'(dados) 12 MESES'!$A$4:$CY$34,102,0)","v":2},{"$f":"VLOOKUP($B17,'(dados) FPFM'!$C$2:$H$500,4,0)","v":1233},{"$f":"VLOOKUP($B17,'(dados) FPFM'!$C$2:$H$500,6,0)","v":19},{"$f":"VLOOKUP($B17,'(dados) 2012'!$A$4:$DB$34,106,0)","v":10},{"$f":"VLOOKUP($B17,'(dados) 2012'!$A$4:$DB$34,105,0)","v":1},{"$f":"VLOOKUP($B17,'(dados) GERAL'!$A$4:$HI$63,213,0)","v":2},{"$f":"VLOOKUP($B17,'(dados) GERAL'!$A$4:$HI$63,214,0)","v":0},{"$f":"VLOOKUP($B17,'(dados) GERAL'!$A$4:$HI$63,215,0)","v":0},{"$f":"VLOOKUP($B17,'(dados) GERAL'!$A$4:$HI$63,216,0)","v":0},{"$f":"VLOOKUP($B17,'(dados) GERAL'!$A$4:$HI$63,217,0)","v":0},null,"16º",11,null,null,null,null,20,{"$f":"VLOOKUP($B17,'(dados) GERAL'!$A$4:$HJ$63,218,0)","v":"<img src=\"http://www.clubedobotao.com/wp-content/uploads/2012/12/JOÃO-PEDRO-2012.jpg\" alt=\"\" title=\"João Pedro\" width=\"25\" height=\"25\" class=\"aligncenter size-full wp-image-6198\" />"}]
[16,"FABIO JANUARIO",{"$f":"VLOOKUP($B18,'(dados) 2012'!$A$4:$CY$34,101,0)","v":49},{"$f":"VLOOKUP($B18,'(dados) 2012'!$A$4:$CY$34,102,0)","v":2},{"$f":"VLOOKUP($B18,'(dados) 12 MESES'!$A$4:$CY$34,101,0)","v":49},{"$f":"VLOOKUP($B18,'(dados) 12 MESES'!$A$4:$CY$34,102,0)","v":2},{"$f":"VLOOKUP($B18,'(dados) FPFM'!$C$2:$H$500,4,0)","v":802},{"$f":"VLOOKUP($B18,'(dados) FPFM'!$C$2:$H$500,6,0)","v":47},{"$f":"VLOOKUP($B18,'(dados) 2012'!$A$4:$DB$34,106,0)","v":10},{"$f":"VLOOKUP($B18,'(dados) 2012'!$A$4:$DB$34,105,0)","v":1},{"$f":"VLOOKUP($B18,'(dados) GERAL'!$A$4:$HI$63,213,0)","v":2},{"$f":"VLOOKUP($B18,'(dados) GERAL'!$A$4:$HI$63,214,0)","v":0},{"$f":"VLOOKUP($B18,'(dados) GERAL'!$A$4:$HI$63,215,0)","v":1},{"$f":"VLOOKUP($B18,'(dados) GERAL'!$A$4:$HI$63,216,0)","v":0},{"$f":"VLOOKUP($B18,'(dados) GERAL'!$A$4:$HI$63,217,0)","v":0},null,"17º",10,null,null,null,null,1000020,{"$f":"VLOOKUP($B18,'(dados) GERAL'!$A$4:$HJ$63,218,0)","v":"<img src=\"http://www.clubedobotao.com/wp-content/uploads/2012/12/FÁBIO-JANUÁRIO-2012.jpg\" alt=\"\" title=\"Fábio Januário\" width=\"25\" height=\"25\" class=\"aligncenter size-full wp-image-6198\" />"}]
[17,"ROBSON MOTA",{"$f":"VLOOKUP($B19,'(dados) 2012'!$A$4:$CY$34,101,0)","v":40},{"$f":"VLOOKUP($B19,'(dados) 2012'!$A$4:$CY$34,102,0)","v":2},{"$f":"VLOOKUP($B19,'(dados) 12 MESES'!$A$4:$CY$34,101,0)","v":40},{"$f":"VLOOKUP($B19,'(dados) 12 MESES'!$A$4:$CY$34,102,0)","v":2},{"$f":"VLOOKUP($B19,'(dados) FPFM'!$C$2:$H$500,4,0)","v":752},{"$f":"VLOOKUP($B19,'(dados) FPFM'!$C$2:$H$500,6,0)","v":51},{"$f":"VLOOKUP($B19,'(dados) 2012'!$A$4:$DB$34,106,0)","v":0},{"$f":"VLOOKUP($B19,'(dados) 2012'!$A$4:$DB$34,105,0)","v":0},{"$f":"VLOOKUP($B19,'(dados) GERAL'!$A$4:$HI$63,213,0)","v":2},{"$f":"VLOOKUP($B19,'(dados) GERAL'!$A$4:$HI$63,214,0)","v":0},{"$f":"VLOOKUP($B19,'(dados) GERAL'!$A$4:$HI$63,215,0)","v":1},{"$f":"VLOOKUP($B19,'(dados) GERAL'!$A$4:$HI$63,216,0)","v":0},{"$f":"VLOOKUP($B19,'(dados) GERAL'!$A$4:$HI$63,217,0)","v":0},null,"18º",9,null,null,null,null,1000020,{"$f":"VLOOKUP($B19,'(dados) GERAL'!$A$4:$HJ$63,218,0)","v":"<img src=\"http://www.clubedobotao.com/wp-content/uploads/2012/12/SOMBRA-2012.jpg\" alt=\"\" title=\"Robson Mota\" width=\"25\" height=\"25\" class=\"aligncenter size-full wp-image-6198\" />"}]
[18,"JOAO PEDRO GALL",{"$f":"VLOOKUP($B20,'(dados) 2012'!$A$4:$CY$34,101,0)","v":32},{"$f":"VLOOKUP($B20,'(dados) 2012'!$A$4:$CY$34,102,0)","v":1},{"$f":"VLOOKUP($B20,'(dados) 12 MESES'!$A$4:$CY$34,101,0)","v":32},{"$f":"VLOOKUP($B20,'(dados) 12 MESES'!$A$4:$CY$34,102,0)","v":1},{"$f":"VLOOKUP($B20,'(dados) FPFM'!$C$2:$H$500,4,0)","v":1104},{"$f":"VLOOKUP($B20,'(dados) FPFM'!$C$2:$H$500,6,0)","v":6},{"$f":"VLOOKUP($B20,'(dados) 2012'!$A$4:$DB$34,106,0)","v":10},{"$f":"VLOOKUP($B20,'(dados) 2012'!$A$4:$DB$34,105,0)","v":1},{"$f":"VLOOKUP($B20,'(dados) GERAL'!$A$4:$HI$63,213,0)","v":2},{"$f":"VLOOKUP($B20,'(dados) GERAL'!$A$4:$HI$63,214,0)","v":0},{"$f":"VLOOKUP($B20,'(dados) GERAL'!$A$4:$HI$63,215,0)","v":2},{"$f":"VLOOKUP($B20,'(dados) GERAL'!$A$4:$HI$63,216,0)","v":0},{"$f":"VLOOKUP($B20,'(dados) GERAL'!$A$4:$HI$63,217,0)","v":0},null,"19º",10,null,null,null,null,2000020,{"$f":"VLOOKUP($B20,'(dados) GERAL'!$A$4:$HJ$63,218,0)","v":"<img src=\"http://www.clubedobotao.com/wp-content/uploads/2012/12/JOÃO-PEDRO-GALL-2012.jpg\" alt=\"\" title=\"João Pedro Gall\" width=\"25\" height=\"25\" class=\"aligncenter size-full wp-image-3447\" />"}]
[19,"ADRIANO FRANÇA",{"$f":"VLOOKUP($B21,'(dados) 2012'!$A$4:$CY$34,101,0)","v":16},{"$f":"VLOOKUP($B21,'(dados) 2012'!$A$4:$CY$34,102,0)","v":1},{"$f":"VLOOKUP($B21,'(dados) 12 MESES'!$A$4:$CY$34,101,0)","v":16},{"$f":"VLOOKUP($B21,'(dados) 12 MESES'!$A$4:$CY$34,102,0)","v":1},0,0,{"$f":"VLOOKUP($B21,'(dados) 2012'!$A$4:$DB$34,106,0)","v":0},{"$f":"VLOOKUP($B21,'(dados) 2012'!$A$4:$DB$34,105,0)","v":0},{"$f":"VLOOKUP($B21,'(dados) GERAL'!$A$4:$HI$63,213,0)","v":1},{"$f":"VLOOKUP($B21,'(dados) GERAL'!$A$4:$HI$63,214,0)","v":0},{"$f":"VLOOKUP($B21,'(dados) GERAL'!$A$4:$HI$63,215,0)","v":0},{"$f":"VLOOKUP($B21,'(dados) GERAL'!$A$4:$HI$63,216,0)","v":0},{"$f":"VLOOKUP($B21,'(dados) GERAL'!$A$4:$HI$63,217,0)","v":0},null,"20º",9,null,null,null,null,10,{"$f":"VLOOKUP($B21,'(dados) GERAL'!$A$4:$HJ$63,218,0)","v":"<img src=\"http://www.clubedobotao.com/wp-content/uploads/2012/12/SOMBRA-2012.jpg\" alt=\"\" title=\"Adriano França\" width=\"25\" height=\"25\" class=\"aligncenter size-full wp-image-6198\" />"}]
[20,"RAFAEL MELLO",{"$f":"VLOOKUP($B22,'(dados) 2012'!$A$4:$CY$34,101,0)","v":0},{"$f":"VLOOKUP($B22,'(dados) 2012'!$A$4:$CY$34,102,0)","v":0},{"$f":"VLOOKUP($B22,'(dados) 12 MESES'!$A$4:$CY$34,101,0)","v":0},{"$f":"VLOOKUP($B22,'(dados) 12 MESES'!$A$4:$CY$34,102,0)","v":0},{"$f":"VLOOKUP($B22,'(dados) FPFM'!$C$2:$H$500,4,0)","v":566},{"$f":"VLOOKUP($B22,'(dados) FPFM'!$C$2:$H$500,6,0)","v":77},{"$f":"VLOOKUP($B22,'(dados) 2012'!$A$4:$DB$34,106,0)","v":0},{"$f":"VLOOKUP($B22,'(dados) 2012'!$A$4:$DB$34,105,0)","v":0},{"$f":"VLOOKUP($B22,'(dados) GERAL'!$A$4:$HI$63,213,0)","v":0},{"$f":"VLOOKUP($B22,'(dados) GERAL'!$A$4:$HI$63,214,0)","v":0},{"$f":"VLOOKUP($B22,'(dados) GERAL'!$A$4:$HI$63,215,0)","v":0},{"$f":"VLOOKUP($B22,'(dados) GERAL'!$A$4:$HI$63,216,0)","v":0},{"$f":"VLOOKUP($B22,'(dados) GERAL'!$A$4:$HI$63,217,0)","v":0},null,"21º",6,null,null,null,null,0,{"$f":"VLOOKUP($B22,'(dados) GERAL'!$A$4:$HJ$63,218,0)","v":"<img src=\"http://www.clubedobotao.com/wp-content/uploads/2012/12/RAFAEL-MELLO-2012.jpg\" alt=\"\" title=\"Rafael Mello\" width=\"25\" height=\"25\" class=\"aligncenter size-full wp-image-6198\" />"}]
[21,"LUIZ GUILHERME",{"$f":"VLOOKUP($B23,'(dados) 2012'!$A$4:$CY$34,101,0)","v":0},{"$f":"VLOOKUP($B23,'(dados) 2012'!$A$4:$CY$34,102,0)","v":0},{"$f":"VLOOKUP($B23,'(dados) 12 MESES'!$A$4:$CY$34,101,0)","v":0},{"$f":"VLOOKUP($B23,'(dados) 12 MESES'!$A$4:$CY$34,102,0)","v":0},0,0,{"$f":"VLOOKUP($B23,'(dados) 2012'!$A$4:$DB$34,106,0)","v":0},{"$f":"VLOOKUP($B23,'(dados) 2012'!$A$4:$DB$34,105,0)","v":0},{"$f":"VLOOKUP($B23,'(dados) GERAL'!$A$4:$HI$63,213,0)","v":39},{"$f":"VLOOKUP($B23,'(dados) GERAL'!$A$4:$HI$63,214,0)","v":0},{"$f":"VLOOKUP($B23,'(dados) GERAL'!$A$4:$HI$63,215,0)","v":2},{"$f":"VLOOKUP($B23,'(dados) GERAL'!$A$4:$HI$63,216,0)","v":8},{"$f":"VLOOKUP($B23,'(dados) GERAL'!$A$4:$HI$63,217,0)","v":0},null,"22º",5,null,null,null,null,2008390,{"$f":"VLOOKUP($B23,'(dados) GERAL'!$A$4:$HJ$63,218,0)","v":"<img src=\"http://www.clubedobotao.com/wp-content/uploads/2012/12/LUIZ-GUILHERME-2012.jpg\" alt=\"\" title=\"Luiz Guilherme\" width=\"25\" height=\"25\" class=\"aligncenter size-full wp-image-6198\" />"}]
[22,"RAFA SANTOS",{"$f":"VLOOKUP($B24,'(dados) 2012'!$A$4:$CY$34,101,0)","v":0},{"$f":"VLOOKUP($B24,'(dados) 2012'!$A$4:$CY$34,102,0)","v":0},{"$f":"VLOOKUP($B24,'(dados) 12 MESES'!$A$4:$CY$34,101,0)","v":0},{"$f":"VLOOKUP($B24,'(dados) 12 MESES'!$A$4:$CY$34,102,0)","v":0},0,0,{"$f":"VLOOKUP($B24,'(dados) 2012'!$A$4:$DB$34,106,0)","v":0},{"$f":"VLOOKUP($B24,'(dados) 2012'!$A$4:$DB$34,105,0)","v":0},{"$f":"VLOOKUP($B24,'(dados) GERAL'!$A$4:$HI$63,213,0)","v":1},{"$f":"VLOOKUP($B24,'(dados) GERAL'!$A$4:$HI$63,214,0)","v":0},{"$f":"VLOOKUP($B24,'(dados) GERAL'!$A$4:$HI$63,215,0)","v":1},{"$f":"VLOOKUP($B24,'(dados) GERAL'!$A$4:$HI$63,216,0)","v":0},{"$f":"VLOOKUP($B24,'(dados) GERAL'!$A$4:$HI$63,217,0)","v":0},null,"23º",4,null,null,null,null,1000010,{"$f":"VLOOKUP($B24,'(dados) GERAL'!$A$4:$HJ$63,218,0)","v":"<img src=\"http://www.clubedobotao.com/wp-content/uploads/2012/12/RAFA-SANTOS-2012.jpg\" alt=\"\" title=\"Rafa Santos\" width=\"25\" height=\"25\" class=\"aligncenter size-full wp-image-6198\" />"}]
[23,null,null,null,null,null,null,null,null,null,null,null,null,null,null,null,"24º",3,null,null,null,null,0]
[24,null,null,null,null,null,null,null,null,null,null,null,null,null,null,null,"25º",2,null,null,null,null,0]
[null,null,null,null,null,null,null,null,null,null,null,null,null,null,null,null,"26°",1]

{"sheet":"Vitórias Campineiro","index":2,"n_rows":33,"n_cols":8,"rows_kept":33,"cut":false,"hidden":true,"merged":[[2,0,2,1],[0,0,0,6]]}
["Vitórias Integração"]
[]
["BOTONISTA",null,"V","P","B","E","TOD"]
["1º",{"$f":"'dados campeões'!A20","v":"Serginho Castilho"},{"$f":"'dados campeões'!C20","v":1},{"$f":"'dados campeões'!D20","v":0},{"$f":"'dados campeões'!E20","v":0},{"$f":"'dados campeões'!F20","v":0},{"$f":"'dados campeões'!B20","v":1},{"$f":"C4*(1000000000)+D4*(1000000)+E4*(1000)+F4*(100)+G4*(1)","v":1000000001}]
["2º",{"$f":"'dados campeões'!A8","v":"Ricardo Nardy"},{"$f":"'dados campeões'!C8","v":0},{"$f":"'dados campeões'!D8","v":0},{"$f":"'dados campeões'!E8","v":0},{"$f":"'dados campeões'!F8","v":0},{"$f":"'dados campeões'!B8","v":1},1]
["3º",{"$f":"'dados campeões'!A7","v":"Celso de Assis"},{"$f":"'dados campeões'!C7","v":0},{"$f":"'dados campeões'!D7","v":0},{"$f":"'dados campeões'!E7","v":0},{"$f":"'dados campeões'!F7","v":0},{"$f":"'dados campeões'!B7","v":1},1]
["4º",{"$f":"'dados campeões'!A25","v":"Luiz Humberto"},{"$f":"'dados campeões'!C25","v":0},{"$f":"'dados campeões'!D25","v":0},{"$f":"'dados campeões'!E25","v":0},{"$f":"'dados campeões'!F25","v":0},{"$f":"'dados campeões'!B25","v":1},1]
["5º",{"$f":"'dados campeões'!A17","v":"Wilson Benevides"},{"$f":"'dados campeões'!C17","v":0},{"$f":"'dados campeões'!D17","v":0},{"$f":"'dados campeões'!E17","v":0},{"$f":"'dados campeões'!F17","v":0},{"$f":"'dados campeões'!B17","v":1},1]
["6º",{"$f":"'dados campeões'!A30","v":"Raul Grizi"},{"$f":"'dados campeões'!C30","v":0},{"$f":"'dados campeões'!D30","v":0},{"$f":"'dados campeões'!E30","v":0},{"$f":"'dados campeões'!F30","v":0},{"$f":"'dados campeões'!B30","v":1},1]
["7º",{"$f":"'dados campeões'!A16","v":"Edson Fortuna "},{"$f":"'dados campeões'!C16","v":0},{"$f":"'dados campeões'!D16","v":0},{"$f":"'dados campeões'!E16","v":0},{"$f":"'dados campeões'!F16","v":0},{"$f":"'dados campeões'!B16","v":1},1]
["8º",{"$f":"'dados campeões'!A18","v":"Michel Benevides"},{"$f":"'dados campeões'!C18","v":0},{"$f":"'dados campeões'!D18","v":0},{"$f":"'dados campeões'!E18","v":0},{"$f":"'dados campeões'!F18","v":0},{"$f":"'dados campeões'!B18","v":1},1]
["9º",{"$f":"'dados campeões'!A27","v":"João Felipe"},{"$f":"'dados campeões'!C27","v":0},{"$f":"'dados campeões'!D27","v":0},{"$f":"'dados campeões'!E27","v":0},{"$f":"'dados campeões'!F27","v":0},{"$f":"'dados campeões'!B27","v":1},1]
["10º",{"$f":"'dados campeões'!A38","v":"Ricardo Benites"},{"$f":"'dados campeões'!C38","v":0},{"$f":"'dados campeões'!D38","v":0},{"$f":"'dados campeões'!E38","v":0},{"$f":"'dados campeões'!F38","v":0},{"$f":"'dados campeões'!B38","v":1},1]
["11º",{"$f":"'dados campeões'!A10","v":"Ismael Júnior"},{"$f":"'dados campeões'!C10","v":0},{"$f":"'dados campeões'!D10","v":0},{"$f":"'dados campeões'!E10","v":0},{"$f":"'dados campeões'!F10","v":0},{"$f":"'dados campeões'!B10","v":0},0]
["12º",{"$f":"'dados campeões'!A4","v":"Márcio Costa"},{"$f":"'dados campeões'!C4","v":0},{"$f":"'dados campeões'!D4","v":0},{"$f":"'dados campeões'!E4","v":0},{"$f":"'dados campeões'!F4","v":0},{"$f":"'dados campeões'!B4","v":0},0]
["13º",{"$f":"'dados campeões'!A11","v":"Cristiano Paffrath"},{"$f":"'dados campeões'!C11","v":0},{"$f":"'dados campeões'!D11","v":0},{"$f":"'dados campeões'!E11","v":0},{"$f":"'dados campeões'!F11","v":0},{"$f":"'dados campeões'!B11","v":0},0]
["14º",{"$f":"'dados campeões'!A12","v":"Gustavo Arcolini"},{"$f":"'dados campeões'!C12","v":0},{"$f":"'dados campeões'!D12","v":0},{"$f":"'dados campeões'!E12","v":0},{"$f":"'dados campeões'!F12","v":0},{"$f":"'dados campeões'!B12","v":0},0]
["15º",{"$f":"'dados campeões'!A6","v":"André Stancatti"},{"$f":"'dados campeões'!C6","v":0},{"$f":"'dados campeões'!D6","v":0},{"$f":"'dados campeões'!E6","v":0},{"$f":"'dados campeões'!F6","v":0},{"$f":"'dados campeões'!B6","v":0},0]
["16º",{"$f":"'dados campeões'!A9","v":"Antonio Ribeiro"},{"$f":"'dados campeões'!C9","v":0},{"$f":"'dados campeões'!D9","v":0},{"$f":"'dados campeões'!E9","v":0},{"$f":"'dados campeões'!F9","v":0},{"$f":"'dados campeões'!B9","v":0},0]
["17º",{"$f":"'dados campeões'!A21","v":"Luiz Antonio"},{"$f":"'dados campeões'!C21","v":0},{"$f":"'dados campeões'!D21","v":0},{"$f":"'dados campeões'!E21","v":0},{"$f":"'dados campeões'!F21","v":0},{"$f":"'dados campeões'!B21","v":0},0]
["18º",{"$f":"'dados campeões'!A35","v":"Luiz Guilherme"},{"$f":"'dados campeões'!C35","v":0},{"$f":"'dados campeões'!D35","v":0},{"$f":"'dados campeões'!E35","v":0},{"$f":"'dados campeões'!F35","v":0},{"$f":"'dados campeões'!B35","v":0},0]
["19º",{"$f":"'dados campeões'!A37","v":"César Rebecca"},{"$f":"'dados campeões'!C37","v":0},{"$f":"'dados campeões'!D37","v":0},{"$f":"'dados campeões'!E37","v":0},{"$f":"'dados campeões'!F37","v":0},{"$f":"'dados campeões'!B37","v":0},0]
["20º",{"$f":"'dados campeões'!A34","v":"Márcio Guedes"},{"$f":"'dados campeões'!C34","v":0},{"$f":"'dados campeões'!D34","v":0},{"$f":"'dados campeões'!E34","v":0},{"$f":"'dados campeões'!F34","v":0},{"$f":"'dados campeões'!B34","v":0},0]
["21º",{"$f":"'dados campeões'!A26","v":"Agnaldo Camelo"},{"$f":"'dados campeões'!C26","v":0},{"$f":"'dados campeões'!D26","v":0},{"$f":"'dados campeões'!E26","v":0},{"$f":"'dados campeões'!F26","v":0},{"$f":"'dados campeões'!B26","v":0},0]
["22º",{"$f":"'dados campeões'!A15","v":"Carlos Febo"},{"$f":"'dados campeões'!C15","v":0},{"$f":"'dados campeões'!D15","v":0},{"$f":"'dados campeões'!E15","v":0},{"$f":"'dados campeões'!F15","v":0},{"$f":"'dados campeões'!B15","v":0},0]
["23º",{"$f":"'dados campeões'!A13","v":"Lucas Henrique"},{"$f":"'dados campeões'!C13","v":0},{"$f":"'dados campeões'!D13","v":0},{"$f":"'dados campeões'!E13","v":0},{"$f":"'dados campeões'!F13","v":0},{"$f":"'dados campeões'!B13","v":0},0]
["24º",{"$f":"'dados campeões'!A22","v":"Leonardo Vicente"},{"$f":"'dados campeões'!C22","v":0},{"$f":"'dados campeões'!D22","v":0},{"$f":"'dados campeões'!E22","v":0},{"$f":"'dados campeões'!F22","v":0},{"$f":"'dados campeões'!B22","v":0},0]
["25º",{"$f":"'dados campeões'!A19","v":"Lígia Waki"},{"$f":"'dados campeões'!C19","v":0},{"$f":"'dados campeões'!D19","v":0},{"$f":"'dados campeões'!E19","v":0},{"$f":"'dados campeões'!F19","v":0},{"$f":"'dados campeões'!B19","v":0},0]
["26º",{"$f":"'dados campeões'!A31","v":"Carlos Henrique"},{"$f":"'dados campeões'!C31","v":0},{"$f":"'dados campeões'!D31","v":0},{"$f":"'dados campeões'!E31","v":0},{"$f":"'dados campeões'!F31","v":0},{"$f":"'dados campeões'!B31","v":0},0]
["27º",{"$f":"'dados campeões'!A24","v":"Augusto Cesar"},{"$f":"'dados campeões'!C24","v":0},{"$f":"'dados campeões'!D24","v":0},{"$f":"'dados campeões'!E24","v":0},{"$f":"'dados campeões'!F24","v":0},{"$f":"'dados campeões'!B24","v":0},0]
["28º",{"$f":"'dados campeões'!A29","v":"Gabriel Nardy"},{"$f":"'dados campeões'!C29","v":0},{"$f":"'dados campeões'!D29","v":0},{"$f":"'dados campeões'!E29","v":0},{"$f":"'dados campeões'!F29","v":0},{"$f":"'dados campeões'!B29","v":0},0]
["29º",{"$f":"'dados campeões'!A28","v":"Ronaldo Massa"},{"$f":"'dados campeões'!C28","v":0},{"$f":"'dados campeões'!D28","v":0},{"$f":"'dados campeões'!E28","v":0},{"$f":"'dados campeões'!F28","v":0},{"$f":"'dados campeões'!B28","v":0},0]
["30º",{"$f":"'dados campeões'!A23","v":"José Gallasch"},{"$f":"'dados campeões'!C23","v":0},{"$f":"'dados campeões'!D23","v":0},{"$f":"'dados campeões'!E23","v":0},{"$f":"'dados campeões'!F23","v":0},{"$f":"'dados campeões'!B23","v":0},0]

{"sheet":"taças","index":3,"n_rows":33,"n_cols":8,"rows_kept":33,"cut":false,"hidden":true,"merged":[[2,0,2,1],[0,0,0,6]]}
["Vitórias Taças"]
[]
["BOTONISTA",null,"O","P","B","E","TOD"]
["1º",{"$f":"'dados taças'!A10","v":"Ismael Júnior"},{"$f":"'dados taças'!C10","v":2},{"$f":"'dados taças'!D10","v":2},{"$f":"'dados taças'!E10","v":0},{"$f":"'dados taças'!F10","v":0},{"$f":"'dados taças'!B10","v":8},{"$f":"C4*(1000000000)+D4*(1000000)+E4*(1000)+F4*(100)+G4*(1)","v":2002000008}]
["2º",{"$f":"'dados taças'!A7","v":"Celso de Assis"},{"$f":"'dados taças'!C7","v":2},{"$f":"'dados taças'!D7","v":1},{"$f":"'dados taças'!E7","v":0},{"$f":"'dados taças'!F7","v":0},{"$f":"'dados taças'!B7","v":8},2001000008]
["3º",{"$f":"'dados taças'!A4","v":"Márcio Costa"},{"$f":"'dados taças'!C4","v":2},{"$f":"'dados taças'!D4","v":0},{"$f":"'dados taças'!E4","v":0},{"$f":"'dados taças'!F4","v":0},{"$f":"'dados taças'!B4","v":7},2000000007]
["4º",{"$f":"'dados taças'!A20","v":"Serginho Castilho"},{"$f":"'dados taças'!C20","v":2},{"$f":"'dados taças'!D20","v":0},{"$f":"'dados taças'!E20","v":0},{"$f":"'dados taças'!F20","v":0},{"$f":"'dados taças'!B20","v":7},2000000007]
["5º",{"$f":"'dados taças'!A8","v":"Ricardo Nardy"},{"$f":"'dados taças'!C8","v":1},{"$f":"'dados taças'!D8","v":0},{"$f":"'dados taças'!E8","v":0},{"$f":"'dados taças'!F8","v":0},{"$f":"'dados taças'!B8","v":9},1000000009]
["6º",{"$f":"'dados taças'!A9","v":"Antonio Ribeiro"},{"$f":"'dados taças'!C9","v":0},{"$f":"'dados taças'!D9","v":2},{"$f":"'dados taças'!E9","v":0},{"$f":"'dados taças'!F9","v":0},{"$f":"'dados taças'!B9","v":9},2000009]
["7º",{"$f":"'dados taças'!A25","v":"Luiz Humberto"},{"$f":"'dados taças'!C25","v":0},{"$f":"'dados taças'!D25","v":1},{"$f":"'dados taças'!E25","v":1},{"$f":"'dados taças'!F25","v":0},{"$f":"'dados taças'!B25","v":2},1001002]
["8º",{"$f":"'dados taças'!A17","v":"Wilson Benevides"},{"$f":"'dados taças'!C17","v":0},{"$f":"'dados taças'!D17","v":1},{"$f":"'dados taças'!E17","v":0},{"$f":"'dados taças'!F17","v":0},{"$f":"'dados taças'!B17","v":9},1000009]
["9º",{"$f":"'dados taças'!A16","v":"Edson Fortuna "},{"$f":"'dados taças'!C16","v":0},{"$f":"'dados taças'!D16","v":1},{"$f":"'dados taças'!E16","v":0},{"$f":"'dados taças'!F16","v":0},{"$f":"'dados taças'!B16","v":7},1000007]
["10º",{"$f":"'dados taças'!A11","v":"Cristiano Paffrath"},{"$f":"'dados taças'!C11","v":0},{"$f":"'dados taças'!D11","v":1},{"$f":"'dados taças'!E11","v":0},{"$f":"'dados taças'!F11","v":0},{"$f":"'dados taças'!B11","v":3},1000003]
["11º",{"$f":"'dados taças'!A31","v":"Carlos Henrique"},{"$f":"'dados taças'!C31","v":0},{"$f":"'dados taças'!D31","v":0},{"$f":"'dados taças'!E31","v":1},{"$f":"'dados taças'!F31","v":1},{"$f":"'dados taças'!B31","v":2},1102]
["12º",{"$f":"'dados taças'!A12","v":"Gustavo Arcolini"},{"$f":"'dados taças'!C12","v":0},{"$f":"'dados taças'!D12","v":0},{"$f":"'dados taças'!E12","v":1},{"$f":"'dados taças'!F12","v":0},{"$f":"'dados taças'!B12","v":8},1008]
["13º",{"$f":"'dados taças'!A15","v":"Carlos Febo"},{"$f":"'dados taças'!C15","v":0},{"$f":"'dados taças'!D15","v":0},{"$f":"'dados taças'!E15","v":1},{"$f":"'dados taças'!F15","v":0},{"$f":"'dados taças'!B15","v":6},1006]
["14º",{"$f":"'dados taças'!A22","v":"Leonardo Vicente"},{"$f":"'dados taças'!C22","v":0},{"$f":"'dados taças'!D22","v":0},{"$f":"'dados taças'!E22","v":1},{"$f":"'dados taças'!F22","v":0},{"$f":"'dados taças'!B22","v":2},1002]
["15º",{"$f":"'dados taças'!A35","v":"Luiz Guilherme"},{"$f":"'dados taças'!C35","v":0},{"$f":"'dados taças'!D35","v":0},{"$f":"'dados taças'!E35","v":1},{"$f":"'dados taças'!F35","v":0},{"$f":"'dados taças'!B35","v":2},1002]
["16º",{"$f":"'dados taças'!A37","v":"César Rebecca"},{"$f":"'dados taças'!C37","v":0},{"$f":"'dados taças'!D37","v":0},{"$f":"'dados taças'!E37","v":1},{"$f":"'dados taças'!F37","v":0},{"$f":"'dados taças'!B37","v":2},1002]
["17º",{"$f":"'dados taças'!A28","v":"Ronaldo Massa"},{"$f":"'dados taças'!C28","v":0},{"$f":"'dados taças'!D28","v":0},{"$f":"'dados taças'!E28","v":1},{"$f":"'dados taças'!F28","v":0},{"$f":"'dados taças'!B28","v":1},1001]
["18º",{"$f":"'dados taças'!A21","v":"Luiz Antonio"},{"$f":"'dados taças'!C21","v":0},{"$f":"'dados taças'!D21","v":0},{"$f":"'dados taças'!E21","v":0},{"$f":"'dados taças'!F21","v":1},{"$f":"'dados taças'!B21","v":2},102]
["19º",{"$f":"'dados taças'!A34","v":"Márcio Guedes"},{"$f":"'dados taças'!C34","v":0},{"$f":"'dados taças'!D34","v":0},{"$f":"'dados taças'!E34","v":0},{"$f":"'dados taças'!F34","v":1},{"$f":"'dados taças'!B34","v":1},101]
["20º",{"$f":"'dados taças'!A18","v":"Michel Benevides"},{"$f":"'dados taças'!C18","v":0},{"$f":"'dados taças'!D18","v":0},{"$f":"'dados taças'!E18","v":0},{"$f":"'dados taças'!F18","v":0},{"$f":"'dados taças'!B18","v":9},9]
["21º",{"$f":"'dados taças'!A13","v":"Lucas Henrique"},{"$f":"'dados taças'!C13","v":0},{"$f":"'dados taças'!D13","v":0},{"$f":"'dados taças'!E13","v":0},{"$f":"'dados taças'!F13","v":0},{"$f":"'dados taças'!B13","v":5},5]
["22º",{"$f":"'dados taças'!A27","v":"João Felipe"},{"$f":"'dados taças'!C27","v":0},{"$f":"'dados taças'!D27","v":0},{"$f":"'dados taças'!E27","v":0},{"$f":"'dados taças'!F27","v":0},{"$f":"'dados taças'!B27","v":5},5]
["23º",{"$f":"'dados taças'!A6","v":"André Stancatti"},{"$f":"'dados taças'!C6","v":0},{"$f":"'dados taças'!D6","v":0},{"$f":"'dados taças'!E6","v":0},{"$f":"'dados taças'!F6","v":0},{"$f":"'dados taças'!B6","v":4},4]
["24º",{"$f":"'dados taças'!A19","v":"Lígia Waki"},{"$f":"'dados taças'!C19","v":0},{"$f":"'dados taças'!D19","v":0},{"$f":"'dados taças'!E19","v":0},{"$f":"'dados taças'!F19","v":0},{"$f":"'dados taças'!B19","v":4},4]
["25º",{"$f":"'dados taças'!A29","v":"Gabriel Nardy"},{"$f":"'dados taças'!C29","v":0},{"$f":"'dados taças'!D29","v":0},{"$f":"'dados taças'!E29","v":0},{"$f":"'dados taças'!F29","v":0},{"$f":"'dados taças'!B29","v":4},4]
["26º",{"$f":"'dados taças'!A30","v":"Raul Grizi"},{"$f":"'dados taças'!C30","v":0},{"$f":"'dados taças'!D30","v":0},{"$f":"'dados taças'!E30","v":0},{"$f":"'dados taças'!F30","v":0},{"$f":"'dados taças'!B30","v":4},4]
["27º",{"$f":"'dados taças'!A26","v":"Agnaldo Camelo"},{"$f":"'dados taças'!C26","v":0},{"$f":"'dados taças'!D26","v":0},{"$f":"'dados taças'!E26","v":0},{"$f":"'dados taças'!F26","v":0},{"$f":"'dados taças'!B26","v":2},2]
["28º",{"$f":"'dados taças'!A32","v":"Bryan Brinque"},{"$f":"'dados taças'!C32","v":0},{"$f":"'dados taças'!D32","v":0},{"$f":"'dados taças'!E32","v":0},{"$f":"'dados taças'!F32","v":0},{"$f":"'dados taças'!B32","v":1},1]
["29º",{"$f":"'dados taças'!A38","v":"Ricardo Benites"},{"$f":"'dados taças'!C38","v":0},{"$f":"'dados taças'!D38","v":0},{"$f":"'dados taças'!E38","v":0},{"$f":"'dados taças'!F38","v":0},{"$f":"'dados taças'!B38","v":1},1]
["30º",{"$f":"'dados taças'!A5","v":"Marcos Juliatto"},{"$f":"'dados taças'!C5","v":0},{"$f":"'dados taças'!D5","v":0},{"$f":"'dados taças'!E5","v":0},{"$f":"'dados taças'!F5","v":0},{"$f":"'dados taças'!B5","v":0},0]

{"sheet":"dados seletivo ","index":4,"n_rows":39,"n_cols":75,"rows_kept":39,"cut":false,"hidden":true,"merged":[[1,73,1,74],[0,0,1,0]]}
["seletivo ","JAN","FEV","MAR","ABR","MAI","JUN","JUL","AGO","SET","OUT","NOV",null,null,null,null,16]
[null,null,null,null,null,null,null,null,null,null,null,null,null,null,null,null,156,null,null,1,2,3,4,5,6,7,8,9,10,11,12,13,14,15,16,17,18,19,20,21,22,23,24,25,26,null,null,null,null,null,null,null,null,null,null,null,null,null,null,null,null,null,null,null,null,null,null,null,null,null,null,null,null,"SELETIVO"]
["BOTONISTA",null,null,null,null,null,null,null,null,null,null,null,null,null,null,null,"2009-12-16",null,null,100,96,92,88,84,80,77,74,71,68,65,62,60,58,56,54,52,50,49,48,47,46,45,44,43,42,null,1,2,3,4,5,6,7,8,9,10,11,12,13,14,15,16,17,18,19,20,21,22,23,24,25,26,null,"TOTAL","TOD"]
["Márcio Costa",null,null,null,null,null,null,null,null,null,null,null,null,null,null,null,null,null,null,{"$f":"COUNTIF(B4:Q4,\"1\")","v":0},{"$f":"COUNTIF(B4:Q4,\"2\")","v":0},{"$f":"COUNTIF(B4:Q4,\"3\")","v":0},{"$f":"COUNTIF(B4:Q4,\"4\")","v":0},{"$f":"COUNTIF(B4:Q4,\"5\")","v":0},{"$f":"COUNTIF(B4:Q4,\"6\")","v":0},{"$f":"COUNTIF(B4:Q4,\"7\")","v":0},{"$f":"COUNTIF(B4:Q4,\"8\")","v":0},{"$f":"COUNTIF(B4:Q4,\"9\")","v":0},{"$f":"COUNTIF(B4:Q4,\"10\")","v":0},{"$f":"COUNTIF(B4:Q4,\"11\")","v":0},{"$f":"COUNTIF(B4:Q4,\"12\")","v":0},{"$f":"COUNTIF(B4:Q4,\"13\")","v":0},{"$f":"COUNTIF(B4:Q4,\"14\")","v":0},{"$f":"COUNTIF(B4:Q4,\"15\")","v":0},{"$f":"COUNTIF(B4:Q4,\"16\")","v":0},{"$f":"COUNTIF(B4:Q4,\"17\")","v":0},{"$f":"COUNTIF(B4:Q4,\"18\")","v":0},{"$f":"COUNTIF(B4:Q4,\"19\")","v":0},{"$f":"COUNTIF(B4:Q4,\"20\")","v":0},{"$f":"COUNTIF(B4:Q4,\"21\")","v":0},{"$f":"COUNTIF(B4:Q4,\"22\")","v":0},{"$f":"COUNTIF(B4:Q4,\"23\")","v":0},{"$f":"COUNTIF(B4:Q4,\"24\")","v":0},null,null,null,{"$f":"PRODUCT(T4,T$3)","v":0},0,0,0,0,0,0,0,0,0,0,0,0,0,0,0,{"$f":"PRODUCT(AJ4,AJ$3)","v":0},{"$f":"PRODUCT(AK4,AK$3)","v":0},{"$f":"PRODUCT(AL4,AL$3)","v":0},0,0,0,0,0,null,null,null,{"$f":"SUM(AU4:BR4)","v":0},{"$f":"COUNT(B4:Q4)","v":0}]
["Marcos Juliatto",null,null,null,null,null,null,null,null,null,null,null,null,null,null,null,null,null,null,0,0,0,0,0,0,0,0,0,0,0,0,0,0,0,0,0,0,0,0,0,0,0,0,null,null,null,0,0,0,0,0,0,0,0,0,0,0,0,0,0,0,0,0,0,{"$f":"PRODUCT(AL5,AL$3)","v":0},{"$f":"PRODUCT(AM5,AM$3)","v":0},{"$f":"PRODUCT(AN5,AN$3)","v":0},{"$f":"PRODUCT(AO5,AO$3)","v":0},{"$f":"PRODUCT(AP5,AP$3)","v":0},{"$f":"PRODUCT(AQ5,AQ$3)","v":0},null,null,null,{"$f":"SUM(AU5:BR5)","v":0},0]
["André Stancatti",null,null,null,null,null,null,null,null,null,null,null,null,null,null,null,null,null,null,0,0,0,0,0,0,0,0,0,0,0,0,0,0,0,0,0,0,0,0,0,0,0,0,null,null,null,0,0,0,0,0,0,0,0,0,0,0,0,0,0,0,0,0,0,0,0,0,0,0,0,null,null,null,0,0]
["Celso de Assis",null,null,null,null,null,null,null,null,null,null,null,null,null,null,null,null,null,null,0,0,0,0,0,0,0,0,0,0,0,0,0,0,0,0,0,0,0,0,0,0,0,0,null,null,null,0,0,0,0,0,0,0,0,0,0,0,0,0,0,0,0,0,0,0,0,0,0,0,0,null,null,null,0,0]
["Ricardo Nardy",null,null,null,null,null,null,null,null,null,null,null,null,null,null,null,null,null,null,0,0,0,0,0,0,0,0,0,0,0,0,0,0,0,0,0,0,0,0,0,0,0,0,null,null,null,0,0,0,0,0,0,0,0,0,0,0,0,0,0,0,0,0,0,0,0,0,0,0,0,null,null,null,0,0]
["Antonio Ribeiro",null,null,null,null,null,null,null,null,null,null,null,null,null,null,null,null,null,null,0,0,0,0,0,0,0,0,0,0,0,0,0,0,0,0,0,0,0,0,0,0,0,0,null,null,null,0,0,0,0,0,0,0,0,0,0,0,0,0,0,0,0,0,0,0,0,0,0,0,0,null,null,null,0,0]
["Ismael Júnior",null,null,null,null,null,null,null,null,null,null,null,null,null,null,null,null,null,null,0,0,0,0,0,0,0,0,0,0,0,0,0,0,0,0,0,0,0,0,0,0,0,0,null,null,null,0,0,0,0,0,0,0,0,0,0,0,0,0,0,0,0,0,0,0,0,0,0,0,0,null,null,null,0,0]
["Cristiano Paffrath",null,null,null,null,null,null,null,null,null,null,null,null,null,null,null,null,null,null,0,0,0,0,0,0,0,0,0,0,0,0,0,0,0,0,0,0,0,0,0,0,0,0,null,null,null,0,0,0,0,0,0,0,0,0,0,0,0,0,0,0,0,0,0,0,0,0,0,0,0,null,null,null,0,0]
["Gustavo Arcolini",null,null,null,null,null,null,null,null,null,null,null,null,null,null,null,null,null,null,0,0,0,0,0,0,0,0,0,0,0,0,0,0,0,0,0,0,0,0,0,0,0,0,null,null,null,0,0,0,0,0,0,0,0,0,0,0,0,0,0,0,0,0,0,0,0,0,0,0,0,null,null,null,0,0]
["Lucas Henrique",null,null,null,null,null,null,null,null,null,null,null,null,null,null,null,null,null,null,0,0,0,0,0,0,0,0,0,0,0,0,0,0,0,0,0,0,0,0,0,0,0,0,null,null,null,0,0,0,0,0,0,0,0,0,0,0,0,0,0,0,0,0,0,0,0,0,0,0,0,null,null,null,0,0]
["Maurício Penteado",null,null,null,null,null,null,null,null,null,null,null,null,null,null,null,null,null,null,0,0,0,0,0,0,0,0,0,0,0,0,0,0,0,0,0,0,0,0,0,0,0,0,null,null,null,0,0,0,0,0,0,0,0,0,0,0,0,0,0,0,0,0,0,0,0,0,0,0,0,null,null,null,0,0]
["Carlos Febo",null,null,null,null,null,null,null,null,null,null,null,null,null,null,null,null,null,null,0,0,0,0,0,0,0,0,0,0,0,0,0,0,0,0,0,0,0,0,0,0,0,0,null,null,null,0,0,0,0,0,0,0,0,0,0,0,0,0,0,0,0,0,0,0,0,0,0,0,0,null,null,null,0,0]
["Edson Fortuna ",null,null,null,null,null,null,null,null,null,null,null,null,null,null,null,null,null,null,0,0,0,0,0,0,0,0,0,0,0,0,0,0,0,0,0,0,0,0,0,0,0,0,null,null,null,0,0,0,0,0,0,0,0,0,0,0,0,0,0,0,0,0,0,0,0,0,0,0,0,null,null,null,0,0]
["Wilson Benevides",null,null,null,null,null,null,null,null,null,null,null,null,null,null,null,null,null,null,0,0,0,0,0,0,0,0,0,0,0,0,0,0,0,0,0,0,0,0,0,0,0,0,null,null,null,0,0,0,0,0,0,0,0,0,0,0,0,0,0,0,0,0,0,0,0,0,0,0,0,null,null,null,0,0]
["Michel Benevides",null,null,null,null,null,null,null,null,null,null,null,null,null,null,null,null,null,null,0,0,0,0,0,0,0,0,0,0,0,0,0,0,0,0,0,0,0,0,0,0,0,0,null,null,null,0,0,0,0,0,0,0,0,0,0,0,0,0,0,0,0,0,0,0,0,0,0,0,0,null,null,null,0,0]
["Lígia Waki",null,null,null,null,null,null,null,null,null,null,null,null,null,null,null,null,null,null,0,0,0,0,0,0,0,0,0,0,0,0,0,0,0,0,0,0,0,0,0,0,0,0,null,null,null,0,0,0,0,0,0,0,0,0,0,0,0,0,0,0,{"$f":"PRODUCT(AI19,AI$3)","v":0},0,0,0,0,0,0,0,0,null,null,null,0,0]
["Serginho Castilho",null,null,null,null,null,null,null,null,null,null,null,null,null,null,null,null,null,null,0,0,0,0,0,0,0,0,0,0,0,0,0,0,0,0,0,0,0,0,0,0,0,0,null,null,null,{"$f":"PRODUCT(T20,T$3)","v":0},0,0,0,0,0,0,0,0,0,0,0,0,0,0,0,0,0,0,0,0,0,0,0,null,null,null,0,0]
["Luiz Antonio",null,null,null,null,null,null,null,null,null,null,null,null,null,null,null,null,null,null,0,0,0,0,0,0,0,0,0,0,0,0,0,0,0,0,0,0,0,0,0,0,0,0,null,null,null,0,0,0,0,0,0,0,0,0,0,0,0,0,0,0,0,0,0,0,0,0,0,0,0,null,null,null,0,0]
["Leonardo Vicente",null,null,null,null,null,null,null,null,null,null,null,null,null,null,null,null,null,null,0,0,0,0,0,0,0,0,0,0,0,0,0,0,0,0,0,0,0,0,0,0,0,0,null,null,null,0,0,0,0,0,0,0,0,0,0,0,0,0,0,0,0,0,0,0,0,0,0,0,0,null,null,null,0,0]
["José Gallasch",null,null,null,null,null,null,null,null,null,null,null,null,null,null,null,null,null,null,0,0,0,0,0,0,0,0,0,0,0,0,0,0,0,0,0,0,0,0,0,0,0,0,null,null,null,0,0,0,0,0,0,0,0,0,0,0,0,0,0,0,0,0,0,0,0,0,0,0,0,null,null,null,0,0]
["Augusto Cesar",null,null,null,null,null,null,null,null,null,null,null,null,null,null,null,null,null,null,0,0,0,0,0,0,0,0,0,0,0,0,0,0,0,0,0,0,0,0,0,0,0,0,null,null,null,0,0,0,0,0,0,0,0,0,0,0,0,0,0,0,0,0,0,0,0,0,0,0,0,null,null,null,0,0]
["Luiz Humberto",null,null,null,null,null,null,null,null,null,null,null,null,null,null,null,null,null,null,0,0,0,0,0,0,0,0,0,0,0,0,0,0,0,0,0,0,0,0,0,0,0,0,null,null,null,0,0,0,0,0,0,0,0,0,0,0,0,0,0,0,0,0,0,0,0,0,0,0,0,null,null,null,0,0]
["Agnaldo Camelo",null,null,null,null,null,null,null,null,null,null,null,null,null,null,null,null,null,null,0,0,0,0,0,0,0,0,0,0,0,0,0,0,0,0,0,0,0,0,0,0,0,0,null,null,null,0,0,0,0,0,0,0,0,0,0,0,0,0,0,0,0,0,0,0,0,0,0,0,0,null,null,null,0,0]
["João Felipe",null,null,null,null,null,null,null,null,null,null,null,null,null,null,null,null,null,null,0,0,0,0,0,0,0,0,0,0,0,0,0,0,0,0,0,0,0,0,0,0,0,0,null,null,null,{"$f":"PRODUCT(T27,T$3)","v":0},0,0,0,0,0,0,0,0,0,{"$f":"PRODUCT(AD27,AD$3)","v":0},0,0,0,0,0,0,0,0,0,0,0,0,0,null,null,null,0,0]
["Ronaldo Massa",null,null,null,null,null,null,null,null,null,null,null,null,null,null,null,null,null,null,{"$f":"COUNTIF(B28:Q28,\"1\")","v":0},{"$f":"COUNTIF(B28:Q28,\"2\")","v":0},{"$f":"COUNTIF(B28:Q28,\"3\")","v":0},{"$f":"COUNTIF(B28:Q28,\"4\")","v":0},{"$f":"COUNTIF(B28:Q28,\"5\")","v":0},{"$f":"COUNTIF(B28:Q28,\"6\")","v":0},{"$f":"COUNTIF(B28:Q28,\"7\")","v":0},{"$f":"COUNTIF(B28:Q28,\"8\")","v":0},{"$f":"COUNTIF(B28:Q28,\"9\")","v":0},{"$f":"COUNTIF(B28:Q28,\"10\")","v":0},{"$f":"COUNTIF(B28:Q28,\"11\")","v":0},{"$f":"COUNTIF(B28:Q28,\"12\")","v":0},{"$f":"COUNTIF(B28:Q28,\"13\")","v":0},{"$f":"COUNTIF(B28:Q28,\"14\")","v":0},{"$f":"COUNTIF(B28:Q28,\"15\")","v":0},{"$f":"COUNTIF(B28:Q28,\"16\")","v":0},{"$f":"COUNTIF(B28:Q28,\"17\")","v":0},{"$f":"COUNTIF(B28:Q28,\"18\")","v":0},{"$f":"COUNTIF(B28:Q28,\"19\")","v":0},{"$f":"COUNTIF(B28:Q28,\"20\")","v":0},{"$f":"COUNTIF(B28:Q28,\"21\")","v":0},{"$f":"COUNTIF(B28:Q28,\"22\")","v":0},{"$f":"COUNTIF(B28:Q28,\"23\")","v":0},{"$f":"COUNTIF(B28:Q28,\"24\")","v":0},null,null,null,0,0,0,0,0,0,0,0,0,0,0,0,0,0,0,0,0,0,{"$f":"PRODUCT(AL28,AL$3)","v":0},0,0,0,0,0,null,null,null,{"$f":"SUM(AU28:BR28)","v":0},{"$f":"COUNT(B28:Q28)","v":0}]
["Gabriel Nardy",null,null,null,null,null,null,null,null,null,null,null,null,null,null,null,null,null,null,0,0,0,0,0,0,0,0,0,0,0,0,0,0,0,0,0,0,0,0,0,0,0,0,null,null,null,0,0,0,0,0,0,0,0,0,0,0,0,0,0,0,0,0,0,0,0,0,0,0,0,null,null,null,0,0]
["Raul Grizi",null,null,null,null,null,null,null,null,null,null,null,null,null,null,null,null,null,null,0,0,0,0,0,0,0,0,0,0,0,0,0,0,0,0,0,0,0,0,0,0,0,0,null,null,null,0,0,0,0,0,0,0,0,0,0,0,0,0,0,0,0,0,0,0,0,0,0,0,0,null,null,null,0,0]
["Carlos Henrique",null,null,null,null,null,null,null,null,null,null,null,null,null,null,null,null,null,null,0,0,0,0,0,0,0,0,0,0,0,0,0,0,0,0,0,0,0,0,0,0,0,0,null,null,null,{"$f":"PRODUCT(T31,T$3)","v":0},0,0,0,0,0,0,0,0,0,0,0,0,0,0,0,0,0,0,0,0,0,0,0,null,null,null,0,0]
["Bryan Brinque",null,null,null,null,null,null,null,null,null,null,null,null,null,null,null,null,null,null,0,0,0,0,0,0,0,0,0,0,0,0,0,0,0,0,0,0,0,0,0,0,0,0,null,null,null,0,0,0,0,0,0,0,0,0,0,0,0,0,0,0,0,0,0,{"$f":"PRODUCT(AL32,AL$3)","v":0},0,0,0,0,0,null,null,null,0,0]
["Guilherme Simeira",null,null,null,null,null,null,null,null,null,null,null,null,null,null,null,null,null,null,0,0,0,0,0,0,0,0,0,0,0,0,0,0,0,0,0,0,0,0,0,0,0,0,null,null,null,{"$f":"PRODUCT(T33,T$3)","v":0},0,0,0,0,0,0,0,0,0,0,0,0,0,0,0,0,0,0,0,0,0,0,0,null,null,null,0,0]
["Márcio Guedes",null,null,null,null,null,null,null,null,null,null,null,null,null,null,null,null,null,null,{"$f":"COUNTIF(B34:Q34,\"1\")","v":0},{"$f":"COUNTIF(B34:Q34,\"2\")","v":0},{"$f":"COUNTIF(B34:Q34,\"3\")","v":0},{"$f":"COUNTIF(B34:Q34,\"4\")","v":0},{"$f":"COUNTIF(B34:Q34,\"5\")","v":0},{"$f":"COUNTIF(B34:Q34,\"6\")","v":0},{"$f":"COUNTIF(B34:Q34,\"7\")","v":0},{"$f":"COUNTIF(B34:Q34,\"8\")","v":0},{"$f":"COUNTIF(B34:Q34,\"9\")","v":0},{"$f":"COUNTIF(B34:Q34,\"10\")","v":0},{"$f":"COUNTIF(B34:Q34,\"11\")","v":0},{"$f":"COUNTIF(B34:Q34,\"12\")","v":0},{"$f":"COUNTIF(B34:Q34,\"13\")","v":0},{"$f":"COUNTIF(B34:Q34,\"14\")","v":0},{"$f":"COUNTIF(B34:Q34,\"15\")","v":0},{"$f":"COUNTIF(B34:Q34,\"16\")","v":0},{"$f":"COUNTIF(B34:Q34,\"17\")","v":0},{"$f":"COUNTIF(B34:Q34,\"18\")","v":0},{"$f":"COUNTIF(B34:Q34,\"19\")","v":0},{"$f":"COUNTIF(B34:Q34,\"20\")","v":0},{"$f":"COUNTIF(B34:Q34,\"21\")","v":0},{"$f":"COUNTIF(B34:Q34,\"22\")","v":0},{"$f":"COUNTIF(B34:Q34,\"23\")","v":0},{"$f":"COUNTIF(B34:Q34,\"24\")","v":0},null,null,null,{"$f":"PRODUCT(T34,T$3)","v":0},0,0,0,0,0,0,0,0,0,0,0,0,0,0,0,0,0,0,0,0,0,0,0,null,null,null,{"$f":"SUM(AU34:BR34)","v":0},{"$f":"COUNT(B34:Q34)","v":0}]
["Luiz Guilherme",null,null,null,null,null,null,null,null,null,null,null,null,null,null,null,null,null,null,0,0,0,0,0,0,0,0,0,0,0,0,0,0,0,0,0,0,0,0,0,0,0,0,null,null,null,{"$f":"PRODUCT(T35,T$3)","v":0},0,0,0,0,0,0,0,0,0,0,0,0,0,0,0,0,0,0,0,0,0,0,0,null,null,null,0,0]
["Luiz Felipe",null,null,null,null,null,null,null,null,null,null,null,null,null,null,null,null,null,null,0,0,0,0,0,0,0,0,0,0,0,0,0,0,0,0,0,0,0,0,0,0,0,0,null,null,null,{"$f":"PRODUCT(T36,T$3)","v":0},0,0,0,0,0,0,0,0,0,0,0,0,0,0,0,0,0,0,0,0,0,0,0,null,null,null,0,0]
["César Rebecca",null,null,null,null,null,null,null,null,null,null,null,null,null,null,null,null,null,null,0,0,0,0,0,0,0,0,0,0,0,0,0,0,0,0,0,0,0,0,0,0,0,0,null,null,null,{"$f":"PRODUCT(T37,T$3)","v":0},0,0,0,0,0,0,0,0,0,{"$f":"PRODUCT(AD37,AD$3)","v":0},0,0,0,0,0,0,0,0,0,{"$f":"PRODUCT(AN37,AN$3)","v":0},0,0,0,null,null,null,0,0]
["Ricardo Benites",null,null,null,null,null,null,null,null,null,null,null,null,null,null,null,null,null,null,0,0,0,0,0,0,0,0,0,0,0,0,0,0,0,0,0,0,0,0,0,0,0,0,null,null,null,0,0,0,0,0,0,0,0,0,0,0,0,0,0,0,0,0,0,0,0,0,0,0,0,null,null,null,0,0]
["Juliano Borges",null,null,null,null,null,null,null,null,null,null,null,null,null,null,null,null,null,null,0,0,0,0,0,0,0,0,0,0,0,0,0,0,0,0,0,0,0,0,0,0,0,0,null,null,null,{"$f":"PRODUCT(T39,T$3)","v":0},0,0,0,0,0,0,0,0,0,0,0,0,0,0,0,0,0,0,0,0,0,0,0,null,null,null,0,0]

{"sheet":"TACAS","index":5,"n_rows":33,"n_cols":35,"rows_kept":33,"cut":false,"hidden":true,"merged":[[0,0,0,6]]}
["CAMPEÕES TAÇAS"]
[]
[null,"BOTONISTA","TD","O","P","B","E"]
["1º",{"$f":"'(dados) TAÇAS'!B11","v":"Celso de Assis"},{"$f":"'(dados) TAÇAS'!C11","v":10},{"$f":"'(dados) TAÇAS'!D11","v":3},{"$f":"'(dados) TAÇAS'!E11","v":1},{"$f":"'(dados) TAÇAS'!F11","v":0},{"$f":"'(dados) TAÇAS'!G11","v":0},{"$f":"D4*(1000000000)+E4*(1000000)+F4*(1000)+G4*(100)+C4*(10)","v":3001000100},null,null,null,null,null,null,null,null,null,null,null,null,null,null,null,null,null,null,null,null,null,null,null,null,null,null,"►"]
["2º",{"$f":"'(dados) TAÇAS'!B20","v":"Ismael Júnior"},{"$f":"'(dados) TAÇAS'!C20","v":9},{"$f":"'(dados) TAÇAS'!D20","v":2},{"$f":"'(dados) TAÇAS'!E20","v":2},{"$f":"'(dados) TAÇAS'!F20","v":0},{"$f":"'(dados) TAÇAS'!G20","v":0},2002000090,null,null,null,null,null,null,null,null,null,null,null,null,null,null,null,null,null,null,null,null,null,null,null,null,null,null,"▲"]
["3º",{"$f":"'(dados) TAÇAS'!B33","v":"Márcio Costa"},{"$f":"'(dados) TAÇAS'!C33","v":9},{"$f":"'(dados) TAÇAS'!D33","v":2},{"$f":"'(dados) TAÇAS'!E33","v":0},{"$f":"'(dados) TAÇAS'!F33","v":0},{"$f":"'(dados) TAÇAS'!G33","v":0},2000000090,null,"O","vitórias na ouro",null,null,null,null,null,null,null,null,null,null,null,null,null,null,null,null,null,null,null,null,null,null,null,"▼"]
["4º",{"$f":"'(dados) TAÇAS'!B43","v":"Ricardo Nardy"},{"$f":"'(dados) TAÇAS'!C43","v":11},{"$f":"'(dados) TAÇAS'!D43","v":1},{"$f":"'(dados) TAÇAS'!E43","v":0},{"$f":"'(dados) TAÇAS'!F43","v":0},{"$f":"'(dados) TAÇAS'!G43","v":0},1000000110,null,"P","vitórias na prata"]
["5º",{"$f":"'(dados) TAÇAS'!B6","v":"Antonio Ribeiro"},{"$f":"'(dados) TAÇAS'!C6","v":10},{"$f":"'(dados) TAÇAS'!D6","v":0},{"$f":"'(dados) TAÇAS'!E6","v":2},{"$f":"'(dados) TAÇAS'!F6","v":0},{"$f":"'(dados) TAÇAS'!G6","v":0},2000100,null,"B","vitórias na bronze"]
["6º",{"$f":"'(dados) TAÇAS'!B14","v":"Edson Fortuna "},{"$f":"'(dados) TAÇAS'!C14","v":8},{"$f":"'(dados) TAÇAS'!D14","v":0},{"$f":"'(dados) TAÇAS'!E14","v":2},{"$f":"'(dados) TAÇAS'!F14","v":0},{"$f":"'(dados) TAÇAS'!G14","v":0},2000080,null,"E","vitórias na extra"]
["7º",{"$f":"'(dados) TAÇAS'!B18","v":"Gustavo Arcolini"},{"$f":"'(dados) TAÇAS'!C18","v":10},{"$f":"'(dados) TAÇAS'!D18","v":0},{"$f":"'(dados) TAÇAS'!E18","v":1},{"$f":"'(dados) TAÇAS'!F18","v":1},{"$f":"'(dados) TAÇAS'!G18","v":0},1001100,null,"TD","taças disputadas"]
["8º",{"$f":"'(dados) TAÇAS'!B47","v":"Wilson Benevides"},{"$f":"'(dados) TAÇAS'!C47","v":11},{"$f":"'(dados) TAÇAS'!D47","v":0},{"$f":"'(dados) TAÇAS'!E47","v":1},{"$f":"'(dados) TAÇAS'!F47","v":0},{"$f":"'(dados) TAÇAS'!G47","v":0},1000110]
["9º",{"$f":"'(dados) TAÇAS'!B12","v":"César Rebecca"},{"$f":"'(dados) TAÇAS'!C12","v":3},{"$f":"'(dados) TAÇAS'!D12","v":0},{"$f":"'(dados) TAÇAS'!E12","v":0},{"$f":"'(dados) TAÇAS'!F12","v":1},{"$f":"'(dados) TAÇAS'!G12","v":0},1030]
["10º","Lucas Henrique",{"$f":"'(dados) TAÇAS'!C28","v":5},{"$f":"'(dados) TAÇAS'!D28","v":0},{"$f":"'(dados) TAÇAS'!E28","v":0},{"$f":"'(dados) TAÇAS'!F28","v":0},{"$f":"'(dados) TAÇAS'!G28","v":0},50]
["11º","André Stancatti",{"$f":"'(dados) TAÇAS'!C5","v":4},{"$f":"'(dados) TAÇAS'!D5","v":0},{"$f":"'(dados) TAÇAS'!E5","v":0},{"$f":"'(dados) TAÇAS'!F5","v":0},{"$f":"'(dados) TAÇAS'!G5","v":0},40]
["12º",{"$f":"'(dados) TAÇAS'!B40","v":"Paulo César"},{"$f":"'(dados) TAÇAS'!C40","v":1},{"$f":"'(dados) TAÇAS'!D40","v":0},{"$f":"'(dados) TAÇAS'!E40","v":0},{"$f":"'(dados) TAÇAS'!F40","v":0},{"$f":"'(dados) TAÇAS'!G40","v":0},10]
["13º",{"$f":"'(dados) TAÇAS'!B19","v":"Henrique Laitano"},{"$f":"'(dados) TAÇAS'!C19","v":1},{"$f":"'(dados) TAÇAS'!D19","v":0},{"$f":"'(dados) TAÇAS'!E19","v":0},{"$f":"'(dados) TAÇAS'!F19","v":0},{"$f":"'(dados) TAÇAS'!G19","v":0},10]
["14º",{"$f":"'(dados) TAÇAS'!B15","v":"Fábio Chelio"},{"$f":"'(dados) TAÇAS'!C15","v":1},{"$f":"'(dados) TAÇAS'!D15","v":0},{"$f":"'(dados) TAÇAS'!E15","v":0},{"$f":"'(dados) TAÇAS'!F15","v":0},{"$f":"'(dados) TAÇAS'!G15","v":0},10]
["15º",{"$f":"'(dados) TAÇAS'!B38","v":"Mauro Figueiredo"},{"$f":"'(dados) TAÇAS'!C38","v":1},{"$f":"'(dados) TAÇAS'!D38","v":0},{"$f":"'(dados) TAÇAS'!E38","v":0},{"$f":"'(dados) TAÇAS'!F38","v":0},{"$f":"'(dados) TAÇAS'!G38","v":0},10]
["16º",{"$f":"'(dados) TAÇAS'!B44","v":"Rodrigo Cisoto"},{"$f":"'(dados) TAÇAS'!C44","v":1},{"$f":"'(dados) TAÇAS'!D44","v":0},{"$f":"'(dados) TAÇAS'!E44","v":0},{"$f":"'(dados) TAÇAS'!F44","v":0},{"$f":"'(dados) TAÇAS'!G44","v":0},10]
["17º","José Henrique",{"$f":"'(dados) TAÇAS'!C25","v":0},{"$f":"'(dados) TAÇAS'!D25","v":0},{"$f":"'(dados) TAÇAS'!E25","v":0},{"$f":"'(dados) TAÇAS'!F25","v":0},{"$f":"'(dados) TAÇAS'!G25","v":0},0]
[null,null,null,null,null,null,null,0]
[null,null,null,null,null,null,null,0]
[null,null,null,null,null,null,null,0]
[null,null,null,null,null,null,null,0]
[null,null,null,null,null,null,null,0]
[null,null,null,null,null,null,null,0]
[null,null,null,null,null,null,null,0]
[null,null,null,null,null,null,null,0]
[null,null,null,null,null,null,null,0]
[null,null,null,null,null,null,null,0]
[null,null,null,null,null,null,null,0]
[null,null,null,null,null,null,null,0]
[null,null,null,null,null,null,null,0]

{"sheet":"(dados) 2012","index":6,"n_rows":34,"n_cols":106,"rows_kept":34,"cut":false,"hidden":false,"merged":[[34,39,34,41],[35,39,35,41],[36,39,36,41],[0,0,1,0],[36,14,36,16],[34,14,34,16],[35,14,35,16]]}
[2012,"QUARTA",1,"QUARTA",2,"QUARTA",3,"QUARTA",4,"QUARTA",5,"QUARTA",6,"QUARTA",7,"QUARTA",8,"QUARTA",9,"QUARTA",10,"QUARTA","QUARTA",11,"QUARTA",12,"QUARTA",13,"QUARTA",14,"QUARTA",15,"QUARTA","QUARTA",16,"QUARTA",17,"QUARTA",18,"QUARTA",19,"QUARTA",20]
[null,"TREINO",189,"TREINO",190,"TREINO",191,"TREINO",192,"TREINO",193,"TREINO",194,"TREINO",195,"TREINO",196,"TREINO",197,"TREINO",198,"TREINO","TREINO",199,"TREINO",200,"TREINO",201,"TREINO",202,"TREINO",203,"TREINO","TREINO",204,"TREINO",205,"TREINO",206,"TREINO",207,"TREINO",208,null,1,2,3,4,5,6,7,8,9,10,11,12,13,14,15,16,17,18,19,20,21,22,23,24,25,26,"OK",null,null,null,null,null,null,null,null,null,null,null,null,null,null,null,null,null,null,null,null,null,null,null,null,null,null,null,null,null,"GERAL",null,null,null,"Q LIVRE"]
["BOTONISTA","2012-02-01","2012-02-08","2012-02-15","2012-02-22","2012-02-29","2012-03-07","2012-03-14","2012-03-21","2012-03-28","2012-04-04","2012-04-11","2012-04-18","2012-04-25","2012-05-02","2012-05-09","2012-05-16","2012-05-23","2012-05-30","2012-06-06","2012-06-13","2012-06-20","2012-07-18","2012-07-25","2012-08-01","2012-08-08","2012-08-15","2012-08-22","2012-08-29","2012-09-05","2012-09-12","2012-09-19","2012-09-26","2012-10-03","2012-10-10","2012-10-17","2012-10-24","2012-10-31","2012-11-07","2012-11-14","2012-11-21","2012-11-28","2012-12-05",null,30,27,25,23,22,21,22,21,18,17,16,15,16,15,12,11,10,9,10,9,6,5,4,3,2,1,10,null,1,2,3,4,5,6,7,8,9,10,11,12,13,14,15,16,17,18,19,20,21,22,23,24,25,26,"OK",null,"PT","JG","V",null,"JG","PT"]
["ANTONIO RIBEIRO","OK",4,"OK",3,"OK",6,null,10,"OK",7,null,4,"OK",5,"OK",8,"OK",6,"OK",7,"OK","OK",3,null,4,"OK",2,"OK",6,"OK",6,"OK","OK",8,"OK",4,"OK",6,null,2,"OK",4,null,{"$f":"COUNTIF($B4:$AQ4,\"1\")","v":0},{"$f":"COUNTIF($B4:$AQ4,\"2\")","v":2},{"$f":"COUNTIF($B4:$AQ4,\"3\")","v":2},{"$f":"COUNTIF($B4:$AQ4,\"4\")","v":5},{"$f":"COUNTIF($B4:$AQ4,\"5\")","v":1},{"$f":"COUNTIF($B4:$AQ4,\"6\")","v":5},{"$f":"COUNTIF($B4:$AQ4,\"7\")","v":2},{"$f":"COUNTIF($B4:$AQ4,\"8\")","v":2},{"$f":"COUNTIF($B4:$AQ4,\"9\")","v":0},{"$f":"COUNTIF($B4:$AQ4,\"10\")","v":1},{"$f":"COUNTIF($B4:$AQ4,\"11\")","v":0},{"$f":"COUNTIF($B4:$AQ4,\"12\")","v":0},{"$f":"COUNTIF($B4:$AQ4,\"13\")","v":0},{"$f":"COUNTIF($B4:$AQ4,\"14\")","v":0},{"$f":"COUNTIF($B4:$AQ4,\"15\")","v":0},{"$f":"COUNTIF($B4:$AQ4,\"16\")","v":0},{"$f":"COUNTIF($B4:$AQ4,\"17\")","v":0},{"$f":"COUNTIF($B4:$AQ4,\"18\")","v":0},{"$f":"COUNTIF($B4:$AQ4,\"19\")","v":0},{"$f":"COUNTIF($B4:$AQ4,\"20\")","v":0},{"$f":"COUNTIF($B4:$AQ4,\"21\")","v":0},{"$f":"COUNTIF($B4:$AQ4,\"22\")","v":0},{"$f":"COUNTIF($B4:$AQ4,\"23\")","v":0},{"$f":"COUNTIF($B4:$AQ4,\"24\")","v":0},{"$f":"COUNTIF($B4:$AQ4,\"25\")","v":0},{"$f":"COUNTIF($B4:$AQ4,\"26\")","v":0},{"$f":"COUNTIF($B4:$AQ4,\"OK\")","v":18},null,{"$f":"PRODUCT(AS4,AS$3)","v":0},54,50,115,22,105,44,42,0,17,0,0,0,0,0,0,0,0,0,0,0,0,0,0,0,0,180,null,{"$f":"SUM(BU4:CU4)","v":629},{"$f":"COUNT(B4:AQ4)","v":20},{"$f":"COUNTIF(B4:AQ4,\"1\")","v":0},null,{"$f":"BS4","v":18},{"$f":"CU4","v":180}]
["BETO MAGRINI","OK",1,"OK",10,"OK",null,"OK",7,"OK",1,"OK",3,null,null,null,null,null,null,null,null,null,null,null,null,null,null,null,"OK",null,"OK",null,"OK","OK",null,null,null,null,null,null,null,null,null,null,{"$f":"COUNTIF($B5:$AQ5,\"1\")","v":2},{"$f":"COUNTIF($B5:$AQ5,\"2\")","v":0},{"$f":"COUNTIF($B5:$AQ5,\"3\")","v":1},{"$f":"COUNTIF($B5:$AQ5,\"4\")","v":0},{"$f":"COUNTIF($B5:$AQ5,\"5\")","v":0},{"$f":"COUNTIF($B5:$AQ5,\"6\")","v":0},{"$f":"COUNTIF($B5:$AQ5,\"7\")","v":1},{"$f":"COUNTIF($B5:$AQ5,\"8\")","v":0},{"$f":"COUNTIF($B5:$AQ5,\"9\")","v":0},{"$f":"COUNTIF($B5:$AQ5,\"10\")","v":1},{"$f":"COUNTIF($B5:$AQ5,\"11\")","v":0},{"$f":"COUNTIF($B5:$AQ5,\"12\")","v":0},{"$f":"COUNTIF($B5:$AQ5,\"13\")","v":0},{"$f":"COUNTIF($B5:$AQ5,\"14\")","v":0},{"$f":"COUNTIF($B5:$AQ5,\"15\")","v":0},{"$f":"COUNTIF($B5:$AQ5,\"16\")","v":0},{"$f":"COUNTIF($B5:$AQ5,\"17\")","v":0},{"$f":"COUNTIF($B5:$AQ5,\"18\")","v":0},{"$f":"COUNTIF($B5:$AQ5,\"19\")","v":0},{"$f":"COUNTIF($B5:$AQ5,\"20\")","v":0},{"$f":"COUNTIF($B5:$AQ5,\"21\")","v":0},{"$f":"COUNTIF($B5:$AQ5,\"22\")","v":0},{"$f":"COUNTIF($B5:$AQ5,\"23\")","v":0},{"$f":"COUNTIF($B5:$AQ5,\"24\")","v":0},{"$f":"COUNTIF($B5:$AQ5,\"25\")","v":0},{"$f":"COUNTIF($B5:$AQ5,\"26\")","v":0},{"$f":"COUNTIF($B5:$AQ5,\"OK\")","v":10},null,{"$f":"PRODUCT(AS5,AS$3)","v":60},{"$f":"PRODUCT(AT5,AT$3)","v":0},{"$f":"PRODUCT(AU5,AU$3)","v":25},{"$f":"PRODUCT(AV5,AV$3)","v":0},{"$f":"PRODUCT(AW5,AW$3)","v":0},{"$f":"PRODUCT(AX5,AX$3)","v":0},{"$f":"PRODUCT(AY5,AY$3)","v":22},{"$f":"PRODUCT(AZ5,AZ$3)","v":0},{"$f":"PRODUCT(BA5,BA$3)","v":0},{"$f":"PRODUCT(BB5,BB$3)","v":17},{"$f":"PRODUCT(BC5,BC$3)","v":0},{"$f":"PRODUCT(BD5,BD$3)","v":0},{"$f":"PRODUCT(BE5,BE$3)","v":0},{"$f":"PRODUCT(BF5,BF$3)","v":0},{"$f":"PRODUCT(BG5,BG$3)","v":0},{"$f":"PRODUCT(BH5,BH$3)","v":0},{"$f":"PRODUCT(BI5,BI$3)","v":0},{"$f":"PRODUCT(BJ5,BJ$3)","v":0},{"$f":"PRODUCT(BK5,BK$3)","v":0},{"$f":"PRODUCT(BL5,BL$3)","v":0},{"$f":"PRODUCT(BM5,BM$3)","v":0},{"$f":"PRODUCT(BN5,BN$3)","v":0},{"$f":"PRODUCT(BO5,BO$3)","v":0},{"$f":"PRODUCT(BP5,BP$3)","v":0},{"$f":"PRODUCT(BQ5,BQ$3)","v":0},{"$f":"PRODUCT(BR5,BR$3)","v":0},{"$f":"PRODUCT(BS5,BS$3)","v":100},null,{"$f":"SUM(BU5:CU5)","v":224},{"$f":"COUNT(B5:AQ5)","v":5},{"$f":"COUNTIF(B5:AQ5,\"1\")","v":2},null,{"$f":"BS5","v":10},{"$f":"CU5","v":100}]
["CESAR REBECCA","OK",3,"OK",6,"OK",7,"OK",4,"OK",5,"OK",10,"OK",4,"OK",6,"OK",8,null,6,"OK","OK",2,"OK",6,"OK",3,"OK",7,"OK",7,"OK","OK",4,"OK",3,"OK",4,null,3,"OK",null,null,0,1,4,4,1,4,3,1,0,1,0,0,0,0,0,0,0,0,0,0,0,0,0,0,0,0,20,null,0,27,100,92,22,84,66,21,0,17,0,0,0,0,0,0,0,0,0,0,0,0,0,0,0,0,200,null,629,19,0,null,20,200]
["CHELIO","OK",null,"OK",7,null,3,"OK",5,"OK",10,"OK",11,null,9,"OK",7,"OK",3,null,null,null,null,7,"OK",10,null,5,"OK",3,"OK",2,"OK","OK",3,"OK",6,null,null,null,6,"OK",5,null,0,1,4,0,3,2,3,0,1,2,1,0,0,0,0,0,0,0,0,0,0,0,0,0,0,0,14,null,0,27,100,0,66,42,66,0,18,34,16,0,0,0,0,0,0,0,0,0,0,0,0,0,0,0,140,null,509,17,0,null,14,140]
["CRISTIANO",null,null,null,null,null,null,null,null,"OK",8,null,2,null,null,null,null,null,null,null,null,null,null,null,"OK",null,null,null,"OK",null,null,null,"OK","OK",null,"OK",null,null,null,null,9,null,null,null,0,1,0,0,0,0,0,1,1,0,0,0,0,0,0,0,0,0,0,0,0,0,0,0,0,0,6,null,0,27,0,0,0,0,0,21,18,0,0,0,0,0,0,0,0,0,0,0,0,0,0,0,0,0,60,null,126,3,0,null,6,60]
["EDSON FORTUNA","OK",6,"OK",9,null,8,"OK",null,"OK",null,"OK",null,null,null,null,null,"OK",null,null,null,null,null,null,null,null,null,null,null,null,null,null,null,"OK",null,null,11,null,null,null,null,null,null,null,0,0,0,0,0,1,0,1,1,0,1,0,0,0,0,0,0,0,0,0,0,0,0,0,0,0,7,null,0,0,0,0,0,21,0,21,18,0,16,0,0,0,0,0,0,0,0,0,0,0,0,0,0,0,70,null,146,4,0,null,7,70]
["FERNANDO BARBIN",null,null,null,null,null,null,null,null,null,null,null,null,null,null,null,null,null,null,null,null,null,null,null,null,null,null,null,null,null,"OK",9,"OK","OK",10,"OK",5,"OK",9,null,null,null,null,null,0,0,0,0,1,0,0,0,2,1,0,0,0,0,0,0,0,0,0,0,0,0,0,0,0,0,5,null,0,0,0,0,22,0,0,0,36,17,0,0,0,0,0,0,0,0,0,0,0,0,0,0,0,0,50,null,125,4,0,null,5,50]
["FERNANDO DEZIO","OK",10,null,5,"OK",11,null,8,"OK",4,null,6,"OK",7,null,4,"OK",4,null,8,"OK","OK",5,null,5,"OK",4,null,2,"OK",5,null,"OK",9,"OK",null,"OK",7,null,null,"OK",9,null,0,1,0,4,4,1,2,2,2,1,1,0,0,0,0,0,0,0,0,0,0,0,0,0,0,0,13,null,0,27,0,92,88,21,44,42,36,17,16,0,0,0,0,0,0,0,0,0,0,0,0,0,0,0,130,null,513,18,0,null,13,130]
["JOAO PEDRO GALL",null,null,null,null,null,null,null,null,null,null,null,null,null,null,null,null,null,null,null,null,null,null,null,null,null,null,null,null,null,"OK",null,null,null,null,null,null,null,null,null,null,null,7,null,0,0,0,0,0,0,1,0,0,0,0,0,0,0,0,0,0,0,0,0,0,0,0,0,0,0,1,null,0,0,0,0,0,0,22,0,0,0,0,0,0,0,0,0,0,0,0,0,0,0,0,0,0,0,10,null,32,1,0,null,1,10]
["MARCIO COSTA",null,null,null,null,null,9,"OK",2,"OK",null,"OK",8,null,1,"OK",2,"OK",1,null,3,"OK","OK",null,null,7,null,null,"OK",null,"OK",null,"OK","OK",7,"OK",null,"OK",8,null,null,"OK",8,null,2,2,1,0,0,0,2,3,1,0,0,0,0,0,0,0,0,0,0,0,0,0,0,0,0,0,14,null,60,54,25,0,0,0,44,63,18,0,0,0,0,0,0,0,0,0,0,0,0,0,0,0,0,0,140,null,404,11,2,null,14,140]
["NARDY","OK",null,null,null,null,10,null,null,null,null,null,null,null,null,null,null,"OK",null,null,null,null,"OK",null,"OK",9,null,null,null,null,null,null,null,null,null,"OK",null,null,10,null,null,null,null,null,0,0,0,0,0,0,0,0,1,2,0,0,0,0,0,0,0,0,0,0,0,0,0,0,0,0,5,null,0,0,0,0,0,0,0,0,18,34,0,0,0,0,0,0,0,0,0,0,0,0,0,0,0,0,50,null,102,3,0,null,5,50]
["PEDRO NETO","OK",8,null,4,"OK",4,null,6,"OK",9,null,9,"OK",6,null,9,"OK",7,null,4,"OK","OK",6,null,2,"OK",7,null,8,"OK",8,null,"OK",2,"OK",null,"OK",5,null,null,"OK",6,null,0,2,0,3,1,4,2,3,3,0,0,0,0,0,0,0,0,0,0,0,0,0,0,0,0,0,13,null,0,54,0,69,22,84,44,63,54,0,0,0,0,0,0,0,0,0,0,0,0,0,0,0,0,0,130,null,520,18,0,null,13,130]
["RAFAEL SANTOS",null,null,null,null,null,null,null,null,null,null,null,null,null,null,null,null,null,null,null,null,null,null,null,null,null,null,null,null,null,null,null,null,null,null,null,null,null,null,null,null,null,null,null,0,0,0,0,0,0,0,0,0,0,0,0,0,0,0,0,0,0,0,0,0,0,0,0,0,0,0,null,0,0,0,0,0,0,0,0,0,0,0,0,0,0,0,0,0,0,0,0,0,0,0,0,0,0,0,null,0,0,0,null,0,0]
["SCHON",null,7,"OK",1,"OK",2,"OK",3,"OK",3,"OK",5,"OK",8,"OK",3,"OK",5,null,2,"OK","OK",null,"OK",8,"OK",6,"OK",4,"OK",3,"OK","OK",5,"OK",2,"OK",1,null,4,"OK",3,null,2,3,5,2,3,1,1,2,0,0,0,0,0,0,0,0,0,0,0,0,0,0,0,0,0,0,19,null,60,81,125,46,66,21,22,42,0,0,0,0,0,0,0,0,0,0,0,0,0,0,0,0,0,0,190,null,653,19,2,null,19,190]
["SERGIO FILHO","OK",2,null,2,"OK",1,"OK",1,"OK",2,"OK",1,"OK",2,"OK",1,"OK",2,"OK",1,null,"OK",1,null,1,"OK",1,"OK",1,"OK",1,"OK","OK",1,"OK",1,"OK",3,null,1,"OK",1,null,14,5,1,0,0,0,0,0,0,0,0,0,0,0,0,0,0,0,0,0,0,0,0,0,0,0,18,null,420,135,25,0,0,0,0,0,0,0,0,0,0,0,0,0,0,0,0,0,0,0,0,0,0,0,180,null,760,20,14,null,18,180]
["WILSON BENEVIDES","OK",5,"OK",8,null,5,"OK",9,"OK",6,"OK",7,"OK",3,"OK",5,"OK",9,null,5,"OK","OK",4,"OK",3,"OK",8,"OK",5,"OK",4,"OK","OK",6,"OK",10,"OK",2,null,5,"OK",2,null,0,2,2,2,6,2,1,2,2,1,0,0,0,0,0,0,0,0,0,0,0,0,0,0,0,0,19,null,0,54,50,46,132,42,22,42,36,17,0,0,0,0,0,0,0,0,0,0,0,0,0,0,0,0,190,null,631,20,0,null,19,190]
["FABIO JANUARIO",null,null,null,null,null,null,null,null,null,null,null,null,null,null,null,null,null,null,null,null,null,null,null,null,null,null,null,null,null,null,null,null,null,null,"OK",7,null,null,null,10,null,null,null,0,0,0,0,0,0,1,0,0,1,0,0,0,0,0,0,0,0,0,0,0,0,0,0,0,0,1,null,0,0,0,0,0,0,22,0,0,17,0,0,0,0,0,0,0,0,0,0,0,0,0,0,0,0,10,null,49,2,0,null,1,10]
["JOAO PEDRO",null,null,null,null,null,null,null,null,null,null,null,null,null,null,null,null,null,null,null,null,null,null,null,null,null,null,null,null,null,null,null,null,null,null,"OK",8,null,null,null,8,null,null,null,0,0,0,0,0,0,0,2,0,0,0,0,0,0,0,0,0,0,0,0,0,0,0,0,0,0,1,null,0,0,0,0,0,0,0,42,0,0,0,0,0,0,0,0,0,0,0,0,0,0,0,0,0,0,10,null,52,2,0,null,1,10]
["ROBSON MOTA",null,null,null,null,null,null,null,null,null,null,null,null,null,null,null,null,null,null,null,null,null,null,null,null,null,null,null,null,null,null,null,null,null,null,null,9,null,null,null,7,null,null,null,0,0,0,0,0,0,1,0,1,0,0,0,0,0,0,0,0,0,0,0,0,0,0,0,0,0,0,null,0,0,0,0,0,0,22,0,18,0,0,0,0,0,0,0,0,0,0,0,0,0,0,0,0,0,0,null,40,2,0,null,0,0]
["ADRIANO FRANÇA",null,null,null,null,null,null,null,null,null,null,null,null,null,null,null,null,null,null,null,null,null,null,null,null,null,null,null,null,null,null,null,null,null,null,null,null,null,null,null,11,null,null,null,0,0,0,0,0,0,0,0,0,0,1,0,0,0,0,0,0,0,0,0,0,0,0,0,0,0,0,null,0,0,0,0,0,0,0,0,0,0,16,0,0,0,0,0,0,0,0,0,0,0,0,0,0,0,0,null,16,1,0,null,0,0]
["RAFA SANTOS",null,null,null,null,null,null,null,null,null,null,null,null,null,null,null,null,null,null,null,null,null,null,null,null,null,null,null,null,null,null,null,null,null,null,null,null,null,null,null,null,null,null,null,0,0,0,0,0,0,0,0,0,0,0,0,0,0,0,0,0,0,0,0,0,0,0,0,0,0,0,null,0,0,0,0,0,0,0,0,0,0,0,0,0,0,0,0,0,0,0,0,0,0,0,0,0,0,0,null,0,0,0,null,0,0]
["LUIZ GUILHERME",null,null,null,null,null,null,null,null,null,null,null,null,null,null,null,null,null,null,null,null,null,null,null,null,null,null,null,null,null,null,null,null,null,null,null,null,null,null,null,null,null,null,null,0,0,0,0,0,0,0,0,0,0,0,0,0,0,0,0,0,0,0,0,0,0,0,0,0,0,0,null,0,0,0,0,0,0,0,0,0,0,0,0,0,0,0,0,0,0,0,0,0,0,0,0,0,0,0,null,0,0,0,null,0,0]
["RAFAEL MELLO",null,null,null,null,null,null,null,null,null,null,null,null,null,null,null,null,null,null,null,null,null,null,null,null,null,null,null,null,null,null,null,null,null,null,null,null,null,null,null,null,null,null,null,0,0,0,0,0,0,0,0,0,0,0,0,0,0,0,0,0,0,0,0,0,0,0,0,0,0,0,null,0,0,0,0,0,0,0,0,0,0,0,0,0,0,0,0,0,0,0,0,0,0,0,0,0,0,0,null,0,0,0,null,0,0]
[null,null,null,null,null,null,null,null,null,null,null,null,null,null,null,null,null,null,null,null,null,null,null,null,null,null,null,null,null,null,null,null,null,null,null,null,null,null,null,null,null,null,null,null,0,0,0,0,0,0,0,0,0,0,0,0,0,0,0,0,0,0,0,0,0,0,0,0,0,0,0,null,0,0,0,0,0,0,0,0,0,0,0,0,0,0,0,0,0,0,0,0,0,0,0,0,0,0,0,null,0,0,0,null,0,0]
[null,null,null,null,null,null,null,null,null,null,null,null,null,null,null,null,null,null,null,null,null,null,null,null,null,null,null,null,null,null,null,null,null,null,null,null,null,null,null,null,null,null,null,null,0,0,0,0,0,0,0,0,0,0,0,0,0,0,0,0,0,0,0,0,0,0,0,0,0,0,0,null,0,0,0,0,0,0,0,0,0,0,0,0,0,0,0,0,0,0,0,0,0,0,0,0,0,0,0,null,0,0,0,null,0,0]
[null,null,null,null,null,null,null,null,null,null,null,null,null,null,null,null,null,null,null,null,null,null,null,null,null,null,null,null,null,null,null,null,null,null,null,null,null,null,null,null,null,null,null,null,0,0,0,0,0,0,0,0,0,0,0,0,0,0,0,0,0,0,0,0,0,0,0,0,0,0,0,null,0,0,0,0,0,0,0,0,0,0,0,0,0,0,0,0,0,0,0,0,0,0,0,0,0,0,0,null,0,0,0,null,0,0]
[null,null,null,null,null,null,null,null,null,null,null,null,null,null,null,null,null,null,null,null,null,null,null,null,null,null,null,null,null,null,null,null,null,null,null,null,null,null,null,null,null,null,null,null,0,0,0,0,0,0,0,0,0,0,0,0,0,0,0,0,0,0,0,0,0,0,0,0,0,0,0,null,0,0,0,0,0,0,0,0,0,0,0,0,0,0,0,0,0,0,0,0,0,0,0,0,0,0,0,null,0,0,0,null,0,0]
[null,null,null,null,null,null,null,null,null,null,null,null,null,null,null,null,null,null,null,null,null,null,null,null,null,null,null,null,null,null,null,null,null,null,null,null,null,null,null,null,null,null,null,null,0,0,0,0,0,0,0,0,0,0,0,0,0,0,0,0,0,0,0,0,0,0,0,0,0,0,0,null,0,0,0,0,0,0,0,0,0,0,0,0,0,0,0,0,0,0,0,0,0,0,0,0,0,0,0,null,0,0,0,null,0,0]
[null,null,null,null,null,null,null,null,null,null,null,null,null,null,null,null,null,null,null,null,null,null,null,null,null,null,null,null,null,null,null,null,null,null,null,null,null,null,null,null,null,null,null,null,0,0,0,0,0,0,0,0,0,0,0,0,0,0,0,0,0,0,0,0,0,0,0,0,0,0,0,null,0,0,0,0,0,0,0,0,0,0,0,0,0,0,0,0,0,0,0,0,0,0,0,0,0,0,0,null,0,0,0,null,0,0]
[null,null,null,null,null,null,null,null,null,null,null,null,null,null,null,null,null,null,null,null,null,null,null,null,null,null,null,null,null,null,null,null,null,null,null,null,null,null,null,null,null,null,null,null,0,0,0,0,0,0,0,0,0,0,0,0,0,0,0,0,0,0,0,0,0,0,0,0,0,0,0,null,0,0,0,0,0,0,0,0,0,0,0,0,0,0,0,0,0,0,0,0,0,0,0,0,0,0,0,null,0,0,0,null,0,0]
[null,null,null,null,null,null,null,null,null,null,null,null,null,null,null,null,null,null,null,null,null,null,null,null,null,null,null,null,null,null,null,null,null,null,null,null,null,null,null,null,null,null,null,null,0,0,0,0,0,0,0,0,0,0,0,0,0,0,0,0,0,0,0,0,0,0,0,0,0,0,0,null,0,0,0,0,0,0,0,0,0,0,0,0,0,0,0,0,0,0,0,0,0,0,0,0,0,0,0,null,0,0,0,null,0,0]

{"sheet":"(dados) 12 MESES","index":7,"n_rows":34,"n_cols":103,"rows_kept":34,"cut":false,"hidden":false,"merged":[[35,19,35,20],[36,19,36,20],[37,19,37,20],[0,0,1,0],[37,7,37,8],[35,7,35,8],[36,7,36,8]]}
["12 MESES","QUARTA",1,"QUARTA",2,"QUARTA",3,"QUARTA",4,"QUARTA",5,"QUARTA",6,"QUARTA",7,"QUARTA",8,"QUARTA",9,"QUARTA",10,"QUARTA","QUARTA",11,"QUARTA",12,"QUARTA",13,"QUARTA",14,"QUARTA",15,"QUARTA","QUARTA",16,"QUARTA",17,"QUARTA",18,"QUARTA",19,"QUARTA",20]
[null,"TREINO",189,"TREINO",190,"TREINO",191,"TREINO",192,"TREINO",193,"TREINO",194,"TREINO",195,"TREINO",196,"TREINO",197,"TREINO",198,"TREINO","TREINO",199,"TREINO",200,"TREINO",201,"TREINO",202,"TREINO",203,"TREINO","TREINO",204,"TREINO",205,"TREINO",206,"TREINO",207,"TREINO",208,null,1,2,3,4,5,6,7,8,9,10,11,12,13,14,15,16,17,18,19,20,21,22,23,24,25,26,"OK",null,null,null,null,null,null,null,null,null,null,null,null,null,null,null,null,null,null,null,null,null,null,null,null,null,null,null,null,null,"GERAL"]
["BOTONISTA","2012-02-01","2012-02-08","2012-02-15","2012-02-22","2012-02-29","2012-03-07","2012-03-14","2012-03-21","2012-03-28","2012-04-04","2012-04-11","2012-04-18","2012-04-25","2012-05-02","2012-05-09","2012-05-16","2012-05-23","2012-05-30","2012-06-06","2012-06-13","2012-06-20","2012-07-18","2012-07-25","2012-08-01","2012-08-08","2012-08-15","2012-08-22","2012-08-29","2012-09-05","2012-09-12","2012-09-19","2012-09-26","2012-10-03","2012-10-10","2012-10-17","2012-10-24","2012-10-31","2012-11-07","2012-11-14","2012-11-21","2012-11-28","2012-12-05",null,30,27,25,23,22,21,22,21,18,17,16,15,16,15,12,11,10,9,10,9,6,5,4,3,2,1,10,null,1,2,3,4,5,6,7,8,9,10,11,12,13,14,15,16,17,18,19,20,21,22,23,24,25,26,"OK",null,"PT","JG","V"]
["ANTONIO RIBEIRO","OK",4,"OK",3,"OK",6,null,10,"OK",7,null,4,"OK",5,"OK",8,"OK",6,"OK",7,"OK","OK",3,null,4,"OK",2,"OK",6,"OK",6,"OK","OK",8,"OK",4,"OK",6,null,2,"OK",4,null,{"$f":"COUNTIF($B4:$AQ4,\"1\")","v":0},{"$f":"COUNTIF($B4:$AQ4,\"2\")","v":2},{"$f":"COUNTIF($B4:$AQ4,\"3\")","v":2},{"$f":"COUNTIF($B4:$AQ4,\"4\")","v":5},{"$f":"COUNTIF($B4:$AQ4,\"5\")","v":1},{"$f":"COUNTIF($B4:$AQ4,\"6\")","v":5},{"$f":"COUNTIF($B4:$AQ4,\"7\")","v":2},{"$f":"COUNTIF($B4:$AQ4,\"8\")","v":2},{"$f":"COUNTIF($B4:$AQ4,\"9\")","v":0},{"$f":"COUNTIF($B4:$AQ4,\"10\")","v":1},{"$f":"COUNTIF($B4:$AQ4,\"11\")","v":0},{"$f":"COUNTIF($B4:$AQ4,\"12\")","v":0},{"$f":"COUNTIF($B4:$AQ4,\"13\")","v":0},{"$f":"COUNTIF($B4:$AQ4,\"14\")","v":0},{"$f":"COUNTIF($B4:$AQ4,\"15\")","v":0},{"$f":"COUNTIF($B4:$AQ4,\"16\")","v":0},{"$f":"COUNTIF($B4:$AQ4,\"17\")","v":0},{"$f":"COUNTIF($B4:$AQ4,\"18\")","v":0},{"$f":"COUNTIF($B4:$AQ4,\"19\")","v":0},{"$f":"COUNTIF($B4:$AQ4,\"20\")","v":0},{"$f":"COUNTIF($B4:$AQ4,\"21\")","v":0},{"$f":"COUNTIF($B4:$AQ4,\"22\")","v":0},{"$f":"COUNTIF($B4:$AQ4,\"23\")","v":0},{"$f":"COUNTIF($B4:$AQ4,\"24\")","v":0},{"$f":"COUNTIF($B4:$AQ4,\"25\")","v":0},{"$f":"COUNTIF($B4:$AQ4,\"26\")","v":0},{"$f":"COUNTIF($B4:$AQ4,\"OK\")","v":18},null,{"$f":"PRODUCT(AS4,AS$3)","v":0},54,50,115,22,105,44,42,0,17,0,0,0,0,0,0,0,0,0,0,0,0,0,0,0,0,180,null,{"$f":"SUM(BU4:CU4)","v":629},{"$f":"COUNT(B4:AQ4)","v":20},{"$f":"COUNTIF(B4:AQ4,\"1\")","v":0}]
["BETO MAGRINI","OK",1,"OK",10,"OK",null,"OK",7,"OK",1,"OK",3,null,null,null,null,null,null,null,null,null,null,null,null,null,null,null,"OK",null,"OK",null,"OK","OK",null,null,null,null,null,null,null,null,null,null,{"$f":"COUNTIF($B5:$AQ5,\"1\")","v":2},{"$f":"COUNTIF($B5:$AQ5,\"2\")","v":0},{"$f":"COUNTIF($B5:$AQ5,\"3\")","v":1},{"$f":"COUNTIF($B5:$AQ5,\"4\")","v":0},{"$f":"COUNTIF($B5:$AQ5,\"5\")","v":0},{"$f":"COUNTIF($B5:$AQ5,\"6\")","v":0},{"$f":"COUNTIF($B5:$AQ5,\"7\")","v":1},{"$f":"COUNTIF($B5:$AQ5,\"8\")","v":0},{"$f":"COUNTIF($B5:$AQ5,\"9\")","v":0},{"$f":"COUNTIF($B5:$AQ5,\"10\")","v":1},{"$f":"COUNTIF($B5:$AQ5,\"11\")","v":0},{"$f":"COUNTIF($B5:$AQ5,\"12\")","v":0},{"$f":"COUNTIF($B5:$AQ5,\"13\")","v":0},{"$f":"COUNTIF($B5:$AQ5,\"14\")","v":0},{"$f":"COUNTIF($B5:$AQ5,\"15\")","v":0},{"$f":"COUNTIF($B5:$AQ5,\"16\")","v":0},{"$f":"COUNTIF($B5:$AQ5,\"17\")","v":0},{"$f":"COUNTIF($B5:$AQ5,\"18\")","v":0},{"$f":"COUNTIF($B5:$AQ5,\"19\")","v":0},{"$f":"COUNTIF($B5:$AQ5,\"20\")","v":0},{"$f":"COUNTIF($B5:$AQ5,\"21\")","v":0},{"$f":"COUNTIF($B5:$AQ5,\"22\")","v":0},{"$f":"COUNTIF($B5:$AQ5,\"23\")","v":0},{"$f":"COUNTIF($B5:$AQ5,\"24\")","v":0},{"$f":"COUNTIF($B5:$AQ5,\"25\")","v":0},{"$f":"COUNTIF($B5:$AQ5,\"26\")","v":0},{"$f":"COUNTIF($B5:$AQ5,\"OK\")","v":10},null,{"$f":"PRODUCT(AS5,AS$3)","v":60},{"$f":"PRODUCT(AT5,AT$3)","v":0},{"$f":"PRODUCT(AU5,AU$3)","v":25},{"$f":"PRODUCT(AV5,AV$3)","v":0},{"$f":"PRODUCT(AW5,AW$3)","v":0},{"$f":"PRODUCT(AX5,AX$3)","v":0},{"$f":"PRODUCT(AY5,AY$3)","v":22},{"$f":"PRODUCT(AZ5,AZ$3)","v":0},{"$f":"PRODUCT(BA5,BA$3)","v":0},{"$f":"PRODUCT(BB5,BB$3)","v":17},{"$f":"PRODUCT(BC5,BC$3)","v":0},{"$f":"PRODUCT(BD5,BD$3)","v":0},{"$f":"PRODUCT(BE5,BE$3)","v":0},{"$f":"PRODUCT(BF5,BF$3)","v":0},{"$f":"PRODUCT(BG5,BG$3)","v":0},{"$f":"PRODUCT(BH5,BH$3)","v":0},{"$f":"PRODUCT(BI5,BI$3)","v":0},{"$f":"PRODUCT(BJ5,BJ$3)","v":0},{"$f":"PRODUCT(BK5,BK$3)","v":0},{"$f":"PRODUCT(BL5,BL$3)","v":0},{"$f":"PRODUCT(BM5,BM$3)","v":0},{"$f":"PRODUCT(BN5,BN$3)","v":0},{"$f":"PRODUCT(BO5,BO$3)","v":0},{"$f":"PRODUCT(BP5,BP$3)","v":0},{"$f":"PRODUCT(BQ5,BQ$3)","v":0},{"$f":"PRODUCT(BR5,BR$3)","v":0},{"$f":"PRODUCT(BS5,BS$3)","v":100},null,{"$f":"SUM(BU5:CU5)","v":224},{"$f":"COUNT(B5:AQ5)","v":5},{"$f":"COUNTIF(B5:AQ5,\"1\")","v":2}]
["CESAR REBECCA","OK",3,"OK",6,"OK",7,"OK",4,"OK",5,"OK",10,"OK",4,"OK",6,"OK",8,null,6,"OK","OK",2,"OK",6,"OK",3,"OK",7,"OK",7,"OK","OK",4,"OK",3,"OK",4,null,3,"OK",null,null,0,1,4,4,1,4,3,1,0,1,0,0,0,0,0,0,0,0,0,0,0,0,0,0,0,0,20,null,0,27,100,92,22,84,66,21,0,17,0,0,0,0,0,0,0,0,0,0,0,0,0,0,0,0,200,null,629,19,0]
["CHELIO","OK",null,"OK",7,null,3,"OK",5,"OK",10,"OK",11,null,9,"OK",7,"OK",3,null,null,null,null,7,"OK",10,null,5,"OK",3,"OK",2,"OK","OK",3,"OK",6,null,null,null,6,"OK",5,null,0,1,4,0,3,2,3,0,1,2,1,0,0,0,0,0,0,0,0,0,0,0,0,0,0,0,14,null,0,27,100,0,66,42,66,0,18,34,16,0,0,0,0,0,0,0,0,0,0,0,0,0,0,0,140,null,509,17,0]
["CRISTIANO",null,null,null,null,null,null,null,null,"OK",8,null,2,null,null,null,null,null,null,null,null,null,null,null,"OK",null,null,null,"OK",null,null,null,"OK","OK",null,"OK",null,null,null,null,9,null,null,null,0,1,0,0,0,0,0,1,1,0,0,0,0,0,0,0,0,0,0,0,0,0,0,0,0,0,6,null,0,27,0,0,0,0,0,21,18,0,0,0,0,0,0,0,0,0,0,0,0,0,0,0,0,0,60,null,126,3,0]
["EDSON FORTUNA","OK",6,"OK",9,null,8,"OK",null,"OK",null,"OK",null,null,null,null,null,"OK",null,null,null,null,null,null,null,null,null,null,null,null,null,null,null,"OK",null,null,11,null,null,null,null,null,null,null,0,0,0,0,0,1,0,1,1,0,1,0,0,0,0,0,0,0,0,0,0,0,0,0,0,0,7,null,0,0,0,0,0,21,0,21,18,0,16,0,0,0,0,0,0,0,0,0,0,0,0,0,0,0,70,null,146,4,0]
["FERNANDO BARBIN",null,null,null,null,null,null,null,null,null,null,null,null,null,null,null,null,null,null,null,null,null,null,null,null,null,null,null,null,null,"OK",9,"OK","OK",10,"OK",5,"OK",9,null,null,null,null,null,0,0,0,0,1,0,0,0,2,1,0,0,0,0,0,0,0,0,0,0,0,0,0,0,0,0,5,null,0,0,0,0,22,0,0,0,36,17,0,0,0,0,0,0,0,0,0,0,0,0,0,0,0,0,50,null,125,4,0]
["FERNANDO DEZIO","OK",10,null,5,"OK",11,null,8,"OK",4,null,6,"OK",7,null,4,"OK",4,null,8,"OK","OK",5,null,5,"OK",4,null,2,"OK",5,null,"OK",9,"OK",null,"OK",7,null,null,"OK",9,null,0,1,0,4,4,1,2,2,2,1,1,0,0,0,0,0,0,0,0,0,0,0,0,0,0,0,13,null,0,27,0,92,88,21,44,42,36,17,16,0,0,0,0,0,0,0,0,0,0,0,0,0,0,0,130,null,513,18,0]
["JOAO PEDRO GALL",null,null,null,null,null,null,null,null,null,null,null,null,null,null,null,null,null,null,null,null,null,null,null,null,null,null,null,null,null,"OK",null,null,null,null,null,null,null,null,null,null,null,7,null,0,0,0,0,0,0,1,0,0,0,0,0,0,0,0,0,0,0,0,0,0,0,0,0,0,0,1,null,0,0,0,0,0,0,22,0,0,0,0,0,0,0,0,0,0,0,0,0,0,0,0,0,0,0,10,null,32,1,0]
["MARCIO COSTA",null,null,null,null,null,9,"OK",2,"OK",null,"OK",8,null,1,"OK",2,"OK",1,null,3,"OK","OK",null,null,7,null,null,"OK",null,"OK",null,"OK","OK",7,"OK",null,"OK",8,null,null,"OK",8,null,2,2,1,0,0,0,2,3,1,0,0,0,0,0,0,0,0,0,0,0,0,0,0,0,0,0,14,null,60,54,25,0,0,0,44,63,18,0,0,0,0,0,0,0,0,0,0,0,0,0,0,0,0,0,140,null,404,11,2]
["NARDY","OK",null,null,null,null,10,null,null,null,null,null,null,null,null,null,null,"OK",null,null,null,null,"OK",null,"OK",9,null,null,null,null,null,null,null,null,null,"OK",null,null,10,null,null,null,null,null,0,0,0,0,0,0,0,0,1,2,0,0,0,0,0,0,0,0,0,0,0,0,0,0,0,0,5,null,0,0,0,0,0,0,0,0,18,34,0,0,0,0,0,0,0,0,0,0,0,0,0,0,0,0,50,null,102,3,0]
["PEDRO NETO","OK",8,null,4,"OK",4,null,6,"OK",9,null,9,"OK",6,null,9,"OK",7,null,4,"OK","OK",6,null,2,"OK",7,null,8,"OK",8,null,"OK",2,"OK",null,"OK",5,null,null,"OK",6,null,0,2,0,3,1,4,2,3,3,0,0,0,0,0,0,0,0,0,0,0,0,0,0,0,0,0,13,null,0,54,0,69,22,84,44,63,54,0,0,0,0,0,0,0,0,0,0,0,0,0,0,0,0,0,130,null,520,18,0]
["RAFAEL SANTOS",null,null,null,null,null,null,null,null,null,null,null,null,null,null,null,null,null,null,null,null,null,null,null,null,null,null,null,null,null,null,null,null,null,null,null,null,null,null,null,null,null,null,null,0,0,0,0,0,0,0,0,0,0,0,0,0,0,0,0,0,0,0,0,0,0,0,0,0,0,0,null,0,0,0,0,0,0,0,0,0,0,0,0,0,0,0,0,0,0,0,0,0,0,0,0,0,0,0,null,0,0,0]
["SCHON",null,7,"OK",1,"OK",2,"OK",3,"OK",3,"OK",5,"OK",8,"OK",3,"OK",5,null,2,"OK","OK",null,"OK",8,"OK",6,"OK",4,"OK",3,"OK","OK",5,"OK",2,"OK",1,null,4,"OK",3,null,2,3,5,2,3,1,1,2,0,0,0,0,0,0,0,0,0,0,0,0,0,0,0,0,0,0,19,null,60,81,125,46,66,21,22,42,0,0,0,0,0,0,0,0,0,0,0,0,0,0,0,0,0,0,190,null,653,19,2]
["SERGIO FILHO","OK",2,null,2,"OK",1,"OK",1,"OK",2,"OK",1,"OK",2,"OK",1,"OK",2,"OK",1,null,"OK",1,null,1,"OK",1,"OK",1,"OK",1,"OK","OK",1,"OK",1,"OK",3,null,1,"OK",1,null,14,5,1,0,0,0,0,0,0,0,0,0,0,0,0,0,0,0,0,0,0,0,0,0,0,0,18,null,420,135,25,0,0,0,0,0,0,0,0,0,0,0,0,0,0,0,0,0,0,0,0,0,0,0,180,null,760,20,14]
["WILSON BENEVIDES","OK",5,"OK",8,null,5,"OK",9,"OK",6,"OK",7,"OK",3,"OK",5,"OK",9,null,5,"OK","OK",4,"OK",3,"OK",8,"OK",5,"OK",4,"OK","OK",6,"OK",10,"OK",2,null,5,"OK",2,null,0,2,2,2,6,2,1,2,2,1,0,0,0,0,0,0,0,0,0,0,0,0,0,0,0,0,19,null,0,54,50,46,132,42,22,42,36,17,0,0,0,0,0,0,0,0,0,0,0,0,0,0,0,0,190,null,631,20,0]
["FABIO JANUARIO",null,null,null,null,null,null,null,null,null,null,null,null,null,null,null,null,null,null,null,null,null,null,null,null,null,null,null,null,null,null,null,null,null,null,"OK",7,null,null,null,10,null,null,null,0,0,0,0,0,0,1,0,0,1,0,0,0,0,0,0,0,0,0,0,0,0,0,0,0,0,1,null,0,0,0,0,0,0,22,0,0,17,0,0,0,0,0,0,0,0,0,0,0,0,0,0,0,0,10,null,49,2,0]
["JOAO PEDRO",null,null,null,null,null,null,null,null,null,null,null,null,null,null,null,null,null,null,null,null,null,null,null,null,null,null,null,null,null,null,null,null,null,null,"OK",8,null,null,null,8,null,null,null,0,0,0,0,0,0,0,2,0,0,0,0,0,0,0,0,0,0,0,0,0,0,0,0,0,0,1,null,0,0,0,0,0,0,0,42,0,0,0,0,0,0,0,0,0,0,0,0,0,0,0,0,0,0,10,null,52,2,0]
["ROBSON MOTA",null,null,null,null,null,null,null,null,null,null,null,null,null,null,null,null,null,null,null,null,null,null,null,null,null,null,null,null,null,null,null,null,null,null,null,9,null,null,null,7,null,null,null,0,0,0,0,0,0,1,0,1,0,0,0,0,0,0,0,0,0,0,0,0,0,0,0,0,0,0,null,0,0,0,0,0,0,22,0,18,0,0,0,0,0,0,0,0,0,0,0,0,0,0,0,0,0,0,null,40,2,0]
["ADRIANO FRANÇA",null,null,null,null,null,null,null,null,null,null,null,null,null,null,null,null,null,null,null,null,null,null,null,null,null,null,null,null,null,null,null,null,null,null,null,null,null,null,null,11,null,null,null,0,0,0,0,0,0,0,0,0,0,1,0,0,0,0,0,0,0,0,0,0,0,0,0,0,0,0,null,0,0,0,0,0,0,0,0,0,0,16,0,0,0,0,0,0,0,0,0,0,0,0,0,0,0,0,null,16,1,0]
["RAFA SANTOS",null,null,null,null,null,null,null,null,null,null,null,null,null,null,null,null,null,null,null,null,null,null,null,null,null,null,null,null,null,null,null,null,null,null,null,null,null,null,null,null,null,null,null,0,0,0,0,0,0,0,0,0,0,0,0,0,0,0,0,0,0,0,0,0,0,0,0,0,0,0,null,0,0,0,0,0,0,0,0,0,0,0,0,0,0,0,0,0,0,0,0,0,0,0,0,0,0,0,null,0,0,0]
["LUIZ GUILHERME",null,null,null,null,null,null,null,null,null,null,null,null,null,null,null,null,null,null,null,null,null,null,null,null,null,null,null,null,null,null,null,null,null,null,null,null,null,null,null,null,null,null,null,0,0,0,0,0,0,0,0,0,0,0,0,0,0,0,0,0,0,0,0,0,0,0,0,0,0,0,null,0,0,0,0,0,0,0,0,0,0,0,0,0,0,0,0,0,0,0,0,0,0,0,0,0,0,0,null,0,0,0]
["RAFAEL MELLO",null,null,null,null,null,null,null,null,null,null,null,null,null,null,null,null,null,null,null,null,null,null,null,null,null,null,null,null,null,null,null,null,null,null,null,null,null,null,null,null,null,null,null,0,0,0,0,0,0,0,0,0,0,0,0,0,0,0,0,0,0,0,0,0,0,0,0,0,0,0,null,0,0,0,0,0,0,0,0,0,0,0,0,0,0,0,0,0,0,0,0,0,0,0,0,0,0,0,null,0,0,0]
[null,null,null,null,null,null,null,null,null,null,null,null,null,null,null,null,null,null,null,null,null,null,null,null,null,null,null,null,null,null,null,null,null,null,null,null,null,null,null,null,null,null,null,null,0,0,0,0,0,0,0,0,0,0,0,0,0,0,0,0,0,0,0,0,0,0,0,0,0,0,0,null,0,0,0,0,0,0,0,0,0,0,0,0,0,0,0,0,0,0,0,0,0,0,0,0,0,0,0,null,0,0,0]
[null,null,null,null,null,null,null,null,null,null,null,null,null,null,null,null,null,null,null,null,null,null,null,null,null,null,null,null,null,null,null,null,null,null,null,null,null,null,null,null,null,null,null,null,0,0,0,0,0,0,0,0,0,0,0,0,0,0,0,0,0,0,0,0,0,0,0,0,0,0,0,null,0,0,0,0,0,0,0,0,0,0,0,0,0,0,0,0,0,0,0,0,0,0,0,0,0,0,0,null,0,0,0]
[null,null,null,null,null,null,null,null,null,null,null,null,null,null,null,null,null,null,null,null,null,null,null,null,null,null,null,null,null,null,null,null,null,null,null,null,null,null,null,null,null,null,null,null,0,0,0,0,0,0,0,0,0,0,0,0,0,0,0,0,0,0,0,0,0,0,0,0,0,0,0,null,0,0,0,0,0,0,0,0,0,0,0,0,0,0,0,0,0,0,0,0,0,0,0,0,0,0,0,null,0,0,0]
[null,null,null,null,null,null,null,null,null,null,null,null,null,null,null,null,null,null,null,null,null,null,null,null,null,null,null,null,null,null,null,null,null,null,null,null,null,null,null,null,null,null,null,null,0,0,0,0,0,0,0,0,0,0,0,0,0,0,0,0,0,0,0,0,0,0,0,0,0,0,0,null,0,0,0,0,0,0,0,0,0,0,0,0,0,0,0,0,0,0,0,0,0,0,0,0,0,0,0,null,0,0,0]
[null,null,null,null,null,null,null,null,null,null,null,null,null,null,null,null,null,null,null,null,null,null,null,null,null,null,null,null,null,null,null,null,null,null,null,null,null,null,null,null,null,null,null,null,0,0,0,0,0,0,0,0,0,0,0,0,0,0,0,0,0,0,0,0,0,0,0,0,0,0,0,null,0,0,0,0,0,0,0,0,0,0,0,0,0,0,0,0,0,0,0,0,0,0,0,0,0,0,0,null,0,0,0]
[null,null,null,null,null,null,null,null,null,null,null,null,null,null,null,null,null,null,null,null,null,null,null,null,null,null,null,null,null,null,null,null,null,null,null,null,null,null,null,null,null,null,null,null,0,0,0,0,0,0,0,0,0,0,0,0,0,0,0,0,0,0,0,0,0,0,0,0,0,0,0,null,0,0,0,0,0,0,0,0,0,0,0,0,0,0,0,0,0,0,0,0,0,0,0,0,0,0,0,null,0,0,0]
[null,null,null,null,null,null,null,null,null,null,null,null,null,null,null,null,null,null,null,null,null,null,null,null,null,null,null,null,null,null,null,null,null,null,null,null,null,null,null,null,null,null,null,null,0,0,0,0,0,0,0,0,0,0,0,0,0,0,0,0,0,0,0,0,0,0,0,0,0,0,0,null,0,0,0,0,0,0,0,0,0,0,0,0,0,0,0,0,0,0,0,0,0,0,0,0,0,0,0,null,0,0,0]
[null,null,null,null,null,null,null,null,null,null,null,null,null,null,null,null,null,null,null,null,null,null,null,null,null,null,null,null,null,null,null,null,null,null,null,null,null,null,null,null,null,null,null,null,0,0,0,0,0,0,0,0,0,0,0,0,0,0,0,0,0,0,0,0,0,0,0,0,0,0,0,null,0,0,0,0,0,0,0,0,0,0,0,0,0,0,0,0,0,0,0,0,0,0,0,0,0,0,0,null,0,0,0]

{"sheet":"(dados) GERAL","index":8,"n_rows":63,"n_cols":218,"rows_kept":63,"cut":false,"hidden":false,"merged":[[66,149,66,150],[66,108,66,109],[66,120,66,121],[66,132,66,133],[66,144,66,145],[64,149,64,150],[65,108,65,109],[65,120,65,121],[65,132,65,133],[65,144,65,145],[65,149,65,150],[64,108,64,109],[64,120,64,121],[64,132,64,133],[64,144,64,145],[66,85,66,86],[66,97,66,98],[64,97,64,98],[65,61,65,62],[65,73,65,74],[65,85,65,86],[65,97,65,98],[64,85,64,86],[65,49,65,50],[64,61,64,62],[64,73,64,74],[66,8,66,9],[66,20,66,21],[66,32,66,33],[66,44,66,45],[66,49,66,50],[65,8,65,9],[65,20,65,21],[65,32,65,33],[65,44,65,45],[64,49,64,50],[66,61,66,62],[66,73,66,74],[0,0,1,0],[64,8,64,9],[64,20,64,21],[64,32,64,33],[64,44,64,45]]}
["GERAL",null,null,null,null,null,null,null,null,null,null,null,null,"1ª taça",null,null,null,null,null,null,null,null,null,null,null,"2ª taça",null,null,null,null,null,null,null,null,null,null,null,null,null,null,"3 taça",null,null,null,null,null,null,null,null,null,null,null,null,null,null,"4 taça",null,null,null,null,null,null,null,null,null,null,null,null,null,null,null,null,"5 taça",null,null,null,null,null,null,null,null,null,null,null,null,null,null,null,null,"6 taça",null,null,null,null,null,null,null,null,null,null,null,null,null,null,null,null,"7ª taça",null,null,null,null,null,null,null,null,null,null,null,null,null,null,null,null,"8ª Taça",null,null,null,null,null,null,null,null,null,null,null,null,null,null,null,null,"9ª taça",null,null,null,"10ª Taça",null,null,null,null,null,null,null,null,null,null,null,null,null,null,null,null,null,null,null,null,"11ª Taça",1,2,3,4,5,6,7,8,9,10,11,12,13,14,15,16,17,18,19,20,21,22,"COPAS",1,2,3,4,5,6,7,8,9,10,11,12,13,14,15,16,17,18,19,20,"COPAS"]
[null,1,2,3,4,5,6,7,8,9,10,11,12,13,14,15,16,17,18,19,20,21,22,23,24,25,26,27,28,29,30,31,32,33,34,35,36,37,38,39,40,41,42,43,44,45,46,47,48,49,50,51,52,53,54,55,56,57,58,59,60,61,62,63,64,65,66,67,68,69,70,71,72,73,74,75,76,77,78,79,80,81,82,83,84,85,86,87,88,89,90,91,92,93,94,95,96,97,98,99,100,101,102,103,104,105,106,107,108,109,110,111,112,113,114,115,116,117,118,119,120,121,122,123,124,125,126,127,128,129,130,131,132,133,134,135,136,137,138,139,140,141,142,143,144,145,146,147,148,149,150,151,152,153,154,155,156,157,158,159,160,161,162,163,164,165,166,167,168,169,170,171,172,173,174,175,176,177,178,179,180,181,182,183,184,185,186,187,188,189,190,191,192,193,194,195,196,197,198,199,200,201,202,203,204,205,206,207,208,209,null,null,null,"geral"]
["BOTONISTA","2006-11-29","2006-12-06","2006-12-13","2006-12-20","2006-12-27","2007-01-03","2007-01-10","2007-01-17","2007-01-25","2007-01-31","2007-02-07","2007-02-14","2007-02-21","2007-02-28","2007-03-07","2007-03-14","2007-03-28","2007-04-04","2007-04-11","2007-04-18","2007-04-25","2007-05-02","2007-05-09","2007-05-16","2007-05-23","2007-05-30","2007-06-06","2007-06-13","2007-06-20","2007-06-27","2007-07-04","2007-07-11","2007-07-18","2007-07-25","2007-08-01","2007-08-08","2007-08-15","2007-08-22","2007-08-29","2007-09-05","2007-09-12","2007-09-19","2007-09-26","2007-10-03","2007-10-10","2007-10-17","2007-10-24","2007-10-31","2007-11-07","2007-11-14","2007-11-21","2007-11-28","2007-12-05","2007-12-12","2007-12-19","2008-01-02","2008-01-09","2008-01-16","2008-01-23","2008-01-30","2008-02-06","2008-02-13","2008-02-20","2008-02-27","2008-03-05","2008-03-12","2008-03-19","2008-03-26","2008-04-02","2008-04-09","2008-04-16","2008-04-23","2008-04-30","2008-05-07","2008-05-14","2008-05-21","2008-05-28","2008-06-04","2008-06-11","2008-06-18","2008-06-25","2008-07-02","2008-07-09","2008-07-16","2008-07-23","2008-07-30","2008-08-06","2008-08-13","2008-08-20","2008-08-27","2008-09-03","2008-09-10","2008-09-17","2008-09-24","2008-10-01","2008-10-08","2008-10-15","2008-10-22","2008-10-29","2008-11-05","2008-11-12","2008-11-19","2008-11-26","2008-12-03","2008-12-10","2008-12-17","2009-01-07","2009-01-14","2009-01-21","2009-01-28","2009-02-04","2009-02-11","2009-02-18","2009-02-25","2009-03-04","2009-03-11","2009-03-18","2009-03-25","2009-04-01","2009-04-08","2009-04-15","2009-04-22","2009-04-29","2009-05-06","2009-05-13","2009-05-20","2009-05-27","2009-06-03","2009-06-10","2009-06-17","2009-06-24","2009-07-01","2009-07-08","2009-07-15","2009-07-22","2009-07-29","2009-08-05","2009-08-12","2009-08-19","2009-08-26","2009-09-02","2009-09-30","2009-10-28","2009-12-09","2010-02-17","2010-03-17","2010-03-31","2010-04-14","2010-04-28","2010-05-12","2010-05-26","2010-06-09","2010-06-23","2010-07-07","2010-07-21","2010-08-04","2010-08-18","2010-09-01","2010-09-15","2010-09-19","2010-10-13","2010-10-27","2010-11-10","2010-11-24","2010-12-08","2011-02-09","2011-02-23","2011-03-09","2011-03-23","2011-04-06","2011-04-20","2011-05-04","2011-05-18","2011-06-01","2011-06-15","2011-06-29","2011-07-13","2011-07-27","2011-08-10","2011-08-24","2011-09-07","2011-09-21","2011-10-05","2011-10-19","2011-11-02","2011-11-16","2011-11-30","2011-12-14","2012-02-08","2012-02-22","2012-03-07","2012-03-21","2012-04-04","2012-04-18","2012-05-02","2012-05-16","2012-05-30","2012-06-13","2012-07-25","2012-08-08","2012-08-22","2012-09-05","2012-09-19","2012-10-10","2012-10-24","2012-11-07","2012-11-21","2012-12-05","2012-12-12",null,null,"TOD","O","P","B","E","FOTOS ON LINE"]
["Adriano França","F","F","F","F","F","F","F","F","F","F","F","F","F","F","F","F","F","F","F","F","F","F","F","F","F","F","F","F","F","F","F","F","F","F","F","F","F","F","F","F","F","F","F","F","F","F","F","F","F","F","F","F","F","F","F","F","F","F","F","F","F","F","F","F","F","F","F","F","F","F","F","F","F","F","F","F","F","F","F","F","F","F","F","F","F","F","F","F","F","F","F","F","F","F","F","F","F","F","F","F","F","F","F","F","F","F","F","F","F","F","F","F","F","F","F","F","F","F","F","F","F","F","F","F","F","F","F","F","F","F","F","F","F","F","F","F","F","F","F","F","F","F","F","F","F","F","F","F","F","F","F","F","F","F","F","F","F","F","F","F","F","F","F","F","F","F","F","F","F","F","F","F","F","F","F","F","F","F","F","F","F","F","F","F","F","F","F","F","F","F","F","F","F","F","F","F","F","F","F","F","F","F","F","F","F","F",11,"F","F",null,null,{"$f":"COUNT(B4:HC4)","v":1},{"$f":"COUNTIF(B4:HC4,\"100\")","v":0},{"$f":"COUNTIF(B4:HC4,\"200\")","v":0},{"$f":"COUNTIF(B4:HC4,\"300\")","v":0},{"$f":"COUNTIF(B4:HC4,\"400\")","v":0},"<img src=\"http://www.clubedobotao.com/wp-content/uploads/2012/12/SOMBRA-2012.jpg\" alt=\"\" title=\"Adriano França\" width=\"25\" height=\"25\" class=\"aligncenter size-full wp-image-6198\" />"]
["Agnaldo Camelo","F","F","F","F","F","F","F","F","F","F","F","F","F","F","F","F","F","F","F","F","F","F",16,16,17,13,10,10,"F",12,16,300,300,"F",300,9,"F",10,"F",17,300,6,"F","F","F","F","F","F","F","F","F","F","F","F","F","F","F",400,15,15,18,17,"F",300,12,15,300,17,"F","F",17,"F","F","F","F","F","F","F","F","F","F","F","F","F","F","F","F","F","F","F","F","F","F","F","F","F","F","F","F","F","F","F","F","F","F","F","F","F","F","F","F","F","F","F","F","F","F","F","F","F","F","F","F","F","F","F","F","F","F","F","F","F","F","F","F","F","F","F","F","F","F","F","F","F","F","F","F","F","F","F","F","F","F","F","F","F","F","F","F","F","F","F","F","F","F","F","F","F","F","F","F","F","F","F","F","F","F","F","F","F","F","F","F","F","F","F","F","F","F","F","F","F","F","F","F","F","F","F","F","F","F","F","F","F","F","F","F","F","F",null,null,27,0,0,6,1,"<img src=\"http://www.clubedobotao.com/wp-content/uploads/2012/12/SOMBRA-2012.jpg\" alt=\"\" title=\"SOMBRA\" width=\"25\" height=\"25\" class=\"aligncenter size-full wp-image-6198\" />"]
["Anderson Henrique","F","F","F","F","F","F","F","F","F","F","F","F","F","F","F","F","F","F","F","F","F","F","F","F","F","F","F","F","F","F","F","F","F","F","F","F","F","F","F","F","F","F","F","F","F","F","F","F","F","F","F","F","F","F","F","F","F","F","F","F","F","F","F","F","F","F","F","F","F","F","F","F","F","F","F","F","F","F","F","F","F","F","F","F","F","F","F","F","F","F","F","F","F","F","F","F","F","F","F","F","F","F","F","F","F","F","F","F","F","F","F","F","F","F","F","F","F","F","F","F","F","F","F","F","F","F","F","F","F","F","F","F","F","F","F","F","F","F","F","F","F","F","F","F","F","F","F","F","F","F","F","F","F","F","F","F","F","F","F","F","F","F","F","F","F","F","F","F","F","F","F","F","F","F","F","F","F",14,11,14,"F",15,12,9,5,12,"F","F","F","F","F","F","F","F","F","F","F","F","F","F","F","F","F","F","F","F","F","F","F",null,null,8,0,0,0,0,"<img src=\"http://www.clubedobotao.com/wp-content/uploads/2012/12/SOMBRA-2012.jpg\" alt=\"\" title=\"SOMBRA\" width=\"25\" height=\"25\" class=\"aligncenter size-full wp-image-6198\" />"]
["Andre Stancatti",100,4,4,4,7,5,9,14,10,5,16,5,4,200,200,3,2,3,6,6,"F",9,10,"F",10,11,"F",15,200,11,8,10,8,200,10,"F","F","F","F",11,"F",300,300,8,9,8,8,8,8,4,4,8,5,4,9,8,9,200,6,200,11,"F","F","F","F","F","F","F","F","F","F","F","F",300,"F",200,"F",5,9,"F","F","F","F",200,"F","F","F","F","F","F","F","F","F","F","F","F","F","F","F",300,12,"F","F",10,"F","F","F","F","F","F","F","F","F","F","F","F","F","F","F","F","F","F","F",10,8,3,5,8,"F",9,"F","F","F","F","F","F","F","F","F","F","F","F","F","F","F","F","F","F","F","F","F","F","F","F","F","F","F","F","F","F","F","F","F","F","F","F","F","F","F","F","F","F","F","F","F","F","F","F","F","F","F","F","F","F","F","F","F","F","F","F","F","F","F","F","F","F","F","F","F","F","F","F","F","F","F","F","F","F","F",null,null,67,1,8,4,0,"<img src=\"http://www.clubedobotao.com/wp-content/uploads/2012/12/SOMBRA-2012.jpg\" alt=\"\" title=\"SOMBRA\" width=\"25\" height=\"25\" class=\"aligncenter size-full wp-image-6198\" />"]
["Antonio Ribeiro",6,8,3,15,3,8,6,12,15,8,7,6,10,10,10,10,8,9,9,10,9,10,5,2,5,200,2,6,5,5,6,11,9,9,8,200,10,9,9,10,8,5,9,5,8,4,6,5,4,5,3,6,9,8,200,9,200,4,5,6,6,8,4,6,7,9,9,9,4,200,6,10,9,8,200,4,5,12,5,5,6,8,5,6,6,14,13,11,8,7,9,5,8,5,9,200,6,8,6,9,"F",10,"F",2,"F",200,13,11,14,10,11,8,6,14,9,2,5,"F",4,"F",11,200,10,5,3,6,8,3,4,5,10,9,4,5,10,"F",9,6,8,4,"F","F","F","F",2,3,4,4,3,5,2,5,5,2,5,9,100,8,"F",2,9,12,6,9,4,200,6,200,6,10,2,4,4,3,5,11,11,10,3,4,5,11,8,5,12,14,13,13,4,3,6,10,200,4,5,8,6,7,3,4,2,6,6,8,4,6,2,4,8,null,null,198,1,12,0,0,"<img src=\"http://www.clubedobotao.com/wp-content/uploads/2012/12/ANTONIO-RIBEIRO-2012.jpg\" alt=\"\" title=\"Antonio Ribeiro\" width=\"25\" height=\"25\" class=\"aligncenter size-thumbnail wp-image-4920\" />"]
["Augusto Cesar","F","F","F","F","F","F","F","F","F","F","F","F","F","F","F","F","F","F","F","F","F","F","F","F","F","F","F","F","F","F","F","F","F","F","F","F","F","F","F","F","F","F","F","F","F","F","F","F","F","F",17,"F","F","F","F","F","F","F",23,400,17,"F",21,"F",16,"F",21,"F","F","F",16,"F","F","F","F","F","F","F","F","F",9,"F","F","F","F","F",12,"F","F","F","F",17,12,14,11,"F","F","F","F","F","F","F","F",12,"F","F","F","F","F","F","F","F",300,"F","F","F","F","F","F","F","F","F","F","F","F","F","F","F","F","F","F","F","F","F","F","F","F","F","F","F","F","F","F","F","F","F","F","F","F","F","F","F","F","F","F","F","F","F","F","F","F","F","F","F","F","F","F","F","F","F","F","F","F","F","F","F","F","F","F","F","F","F","F","F","F","F","F","F","F","F","F","F","F","F","F","F","F","F","F","F","F","F","F","F","F","F","F","F","F",null,null,16,0,0,1,1,"<img src=\"http://www.clubedobotao.com/wp-content/uploads/2012/12/SOMBRA-2012.jpg\" alt=\"\" title=\"SOMBRA\" width=\"25\" height=\"25\" class=\"aligncenter size-full wp-image-6198\" />"]
["Beto Magrini","F","F","F","F","F","F","F","F","F","F","F","F","F","F","F","F","F","F","F","F","F","F","F","F","F","F","F","F","F","F","F","F","F","F","F","F","F","F","F","F","F","F","F","F","F","F","F","F","F","F","F","F","F","F","F","F","F","F","F","F","F","F","F","F","F","F","F","F","F","F","F","F","F","F","F","F","F","F","F","F","F","F",14,300,"F",300,"F","F","F",3,3,300,200,4,100,5,"F","F","F","F","F","F","F",8,"F",300,6,5,8,5,10,200,2,100,4,6,200,2,"F",3,100,"F","F",12,200,100,3,"F",9,"F",200,3,"F","F",200,3,2,2,100,200,3,"F","F","F","F","F","F","F","F","F","F","F","F","F","F","F","F","F","F","F","F","F","F","F","F","F","F","F","F","F","F","F","F","F","F","F","F","F","F","F","F","F","F","F","F","F","F","F",100,10,"F",200,100,3,"F","F","F","F","F","F","F","F","F","F","F","F","F","F","F",null,null,45,7,8,4,0,"<img src=\"http://www.clubedobotao.com/wp-content/uploads/2012/12/BETO-MAGRINI-2012.jpg\" alt=\"\" title=\"Beto Magrini\" width=\"25\" height=\"25\" class=\"aligncenter size-thumbnail wp-image-5768\" />"]
["Bryan Brinque","F","F","F","F","F","F","F","F","F","F","F","F","F","F","F","F","F","F","F","F","F","F","F","F","F","F","F","F","F","F","F","F","F","F","F","F","F","F","F","F","F","F","F","F","F","F","F","F","F","F","F","F","F","F","F","F","F","F","F","F","F","F","F","F","F","F","F","F","F","F","F","F","F","F","F","F","F","F","F","F","F","F","F","F","F","F","F","F","F","F",18,20,16,17,17,14,10,"F",17,"F","F","F","F","F","F",17,"F","F","F","F","F","F","F","F","F","F","F","F","F","F","F","F","F","F","F","F","F","F","F","F","F","F","F","F","F","F","F","F","F","F","F","F","F","F","F","F","F","F","F","F","F","F","F","F","F","F","F","F","F","F","F","F","F","F","F","F","F","F","F","F","F","F","F","F","F","F","F","F","F","F","F","F","F","F","F","F","F","F","F","F","F","F","F","F","F","F","F","F","F","F","F","F","F","F","F","F","F","F","F",null,null,9,0,0,0,0,"<img src=\"http://www.clubedobotao.com/wp-content/uploads/2012/12/SOMBRA-2012.jpg\" alt=\"\" title=\"SOMBRA\" width=\"25\" height=\"25\" class=\"aligncenter size-full wp-image-6198\" />"]
["Carlos Febo",4,9,11,2,13,"F","F",7,4,"F",11,9,9,11,"F",8,16,10,"F",11,16,"F",14,15,15,"F","F",300,"F","F",14,"F","F",14,15,15,15,14,"F",300,14,9,"F",10,"F",14,"F","F","F","F","F",300,300,"F",15,10,12,9,"F",300,16,9,"F","F","F","F","F","F","F","F","F","F","F",15,14,"F",17,"F",12,"F",8,"F",16,16,11,15,"F","F",14,14,15,11,14,12,"F","F",9,11,15,"F",300,8,"F","F","F",16,"F","F","F","F","F","F","F","F","F","F","F","F","F","F","F","F","F","F","F","F","F","F","F","F","F","F","F","F","F","F","F","F","F","F","F","F","F","F","F","F","F","F","F","F","F","F","F","F","F","F","F","F","F","F","F","F","F","F","F","F","F","F","F","F","F","F","F","F","F","F","F","F","F","F","F","F","F","F","F","F","F","F","F","F","F","F","F","F","F","F","F","F","F","F","F","F","F","F","F","F","F","F","F",null,null,61,0,0,6,0,"<img src=\"http://www.clubedobotao.com/wp-content/uploads/2012/12/SOMBRA-2012.jpg\" alt=\"\" title=\"SOMBRA\" width=\"25\" height=\"25\" class=\"aligncenter size-full wp-image-6198\" />"]
["Carlos Henrique","F","F","F","F","F","F","F","F","F","F","F","F","F","F","F","F","F","F","F","F","F","F","F","F","F","F","F","F","F","F","F","F","F","F","F","F","F","F","F","F","F","F","F","F","F","F","F","F","F","F","F","F","F","F","F","F","F","F","F","F","F","F","F","F",8,400,20,16,10,15,15,300,13,12,9,11,10,"F","F","F","F","F","F","F","F","F",15,12,19,8,8,6,11,16,"F","F","F","F","F",14,"F","F","F","F","F","F",10,"F","F","F","F","F","F","F","F","F","F","F","F","F","F","F","F","F","F",10,"F","F",13,"F","F","F","F","F","F","F","F","F","F","F","F","F","F","F","F","F","F","F","F","F","F","F","F","F","F","F","F","F","F","F","F","F","F","F","F","F","F","F","F","F","F","F","F","F","F","F","F","F","F","F","F","F","F","F","F","F","F","F","F","F","F","F","F","F","F","F","F","F","F","F","F","F","F","F","F","F","F","F","F",null,null,25,0,0,1,1,"<img src=\"http://www.clubedobotao.com/wp-content/uploads/2012/12/SOMBRA-2012.jpg\" alt=\"\" title=\"SOMBRA\" width=\"25\" height=\"25\" class=\"aligncenter size-full wp-image-6198\" />"]
["Celso de Assis",3,3,7,3,6,4,4,3,7,9,8,10,5,4,5,4,4,6,5,8,10,12,12,9,9,10,"F",14,300,300,10,200,200,8,200,8,8,200,200,200,200,4,100,4,3,2,4,4,6,6,5,4,3,3,6,7,8,5,3,5,7,5,2,5,3,4,3,6,6,5,5,6,10,"F","F","F",8,2,8,200,4,6,10,9,9,2,100,3,100,6,2,100,5,200,3,100,5,200,3,5,8,2,4,"F",9,100,2,6,9,8,5,9,4,6,11,8,4,6,"F",8,3,"F","F",4,2,2,2,4,100,2,100,5,5,8,4,100,3,4,4,2,2,3,3,3,"F",4,"F","F","F","F","F",3,2,100,100,2,5,100,5,100,3,9,7,100,100,4,3,100,100,100,100,100,3,2,2,3,"F",8,2,2,100,2,2,2,2,4,2,3,"F","F","F","F","F","F","F","F","F","F","F","F","F","F","F","F","F","F","F","F","F",null,null,173,21,10,2,0,"<img src=\"http://www.clubedobotao.com/wp-content/uploads/2012/12/SOMBRA-2012.jpg\" alt=\"\" title=\"SOMBRA\" width=\"25\" height=\"25\" class=\"aligncenter size-full wp-image-6198\" />"]
["Cesar Rebecca","F","F","F","F","F","F","F","F","F","F","F","F","F","F","F","F","F","F","F","F","F","F","F","F","F","F","F","F","F","F","F","F","F","F","F","F","F","F","F","F","F","F","F","F","F","F","F","F","F","F","F","F","F","F","F","F","F","F","F","F","F","F","F","F","F","F","F","F","F","F","F","F","F","F","F","F","F","F","F","F","F","F","F","F","F","F","F","F","F","F","F","F","F","F","F","F","F","F","F","F","F","F","F","F","F","F","F","F","F","F","F","F","F","F","F","F","F","F","F",10,10,5,300,11,9,12,11,5,12,8,6,10,6,11,6,200,5,10,9,3,"F","F","F","F","F","F","F","F","F","F","F","F","F","F","F","F","F","F","F","F",4,5,"F",7,6,8,2,3,2,5,200,2,2,4,6,9,6,11,4,5,200,3,4,4,"F",9,3,"F",3,6,200,4,5,10,4,6,8,6,2,6,3,7,200,4,3,4,3,"F","F",null,null,65,0,5,1,0,"<img src=\"http://www.clubedobotao.com/wp-content/uploads/2012/12/CÉSAR-REBECCA-2012.jpg\" alt=\"\" title=\"César Rebecca\" width=\"25\" height=\"25\" class=\"aligncenter size-thumbnail wp-image-4922\" />"]
["Chelio","F","F","F","F","F","F","F","F","F","F","F","F","F","F","F","F","F","F","F","F","F","F","F","F","F","F","F","F","F","F","F","F","F","F","F","F","F","F","F","F","F","F","F","F","F","F","F","F","F","F","F","F","F","F","F","F","F","F","F","F","F","F","F","F","F","F","F","F","F","F","F","F","F","F","F","F","F","F","F","F","F","F","F","F","F","F","F","F","F","F","F","F","F","F","F","F","F","F","F","F","F","F","F","F","F","F","F","F","F","F","F","F","F","F","F","F","F","F","F","F","F","F","F","F","F","F","F","F","F","F","F","F","F","F","F","F","F","F","F","F","F","F","F","F",5,6,5,5,5,4,5,2,8,6,7,8,6,9,6,3,8,"F",10,5,7,13,10,5,8,6,8,"F","F",10,4,5,9,5,10,8,"F",8,5,11,4,100,6,2,"F",200,3,5,10,11,9,200,3,"F",7,10,5,3,2,3,6,"F",6,5,9,null,null,58,1,2,0,0,"<img src=\"http://www.clubedobotao.com/wp-content/uploads/2012/12/FÁBIO-CHELIO-2012.jpg\" alt=\"\" title=\"Chelio\" width=\"25\" height=\"25\" class=\"aligncenter size-full wp-image-6201\" />"]
["Cristiano","F","F",100,"F",100,"F","F","F",100,100,100,"F",200,"F",100,"F","F",200,200,100,100,100,8,8,8,100,"F",100,100,100,100,3,"F","F",100,"F","F","F",100,2,"F","F","F","F","F","F","F","F","F","F","F","F","F","F","F",3,"F","F","F","F","F","F","F","F","F","F","F","F","F","F","F","F","F","F","F","F","F","F","F","F","F","F","F","F","F","F","F","F","F","F","F","F","F","F","F","F","F","F","F","F","F","F","F","F",200,"F","F",300,200,2,"F","F","F",200,"F","F","F","F","F","F","F","F","F","F","F","F","F","F","F","F","F","F","F","F","F","F","F","F","F","F","F","F","F","F","F","F","F","F","F","F","F","F","F","F","F","F","F","F","F","F","F","F","F","F","F","F","F","F","F","F","F","F","F",200,"F","F",200,100,"F","F","F","F",200,"F","F","F",9,"F","F","F","F","F",8,2,"F","F","F","F","F","F","F","F","F","F","F","F",9,"F","F",null,null,38,17,9,1,0,"<img src=\"http://www.clubedobotao.com/wp-content/uploads/2012/12/CRISTIANO-PAFFRATH-2012.jpg\" alt=\"\" title=\"Cristiano\" width=\"25\" height=\"25\" class=\"aligncenter size-thumbnail wp-image-4640\" />"]
["Edson Fortuna",5,"F",12,6,8,7,11,8,8,10,14,13,14,16,16,11,"F","F",16,"F",15,15,18,14,14,12,11,11,11,9,9,8,11,10,11,10,9,"F","F",12,9,10,"F",300,10,"F",300,11,14,"F",16,14,12,14,12,11,11,15,9,"F",13,15,300,16,17,"F","F",300,15,"F","F",15,"F","F",16,"F","F","F","F",11,10,"F",300,15,15,8,8,"F",16,"F",16,"F","F","F",15,"F","F",14,"F","F","F","F","F","F","F","F",12,9,6,12,8,4,5,11,8,5,9,"F",7,9,9,6,200,9,"F",9,"F","F",10,3,"F","F",8,6,8,"F",10,200,5,"F",6,"F",5,"F",4,"F","F","F",4,3,3,"F",6,"F","F",6,"F","F","F","F",5,"F",5,8,200,11,8,"F","F","F","F","F","F","F","F","F",8,6,8,6,8,5,10,"F",11,"F","F",11,6,9,8,"F","F","F","F","F","F","F","F","F","F","F","F","F",11,"F","F","F","F",null,null,123,0,3,5,0,"<img src=\"http://www.clubedobotao.com/wp-content/uploads/2012/12/EDSON-FORTUNA-2012.jpg\" alt=\"\" title=\"Edson Fortuna\" width=\"25\" height=\"25\" class=\"aligncenter size-full wp-image-6200\" />"]
["Eduardo Barbosa","F","F","F","F","F","F","F","F","F","F","F","F","F","F","F","F","F","F","F","F","F","F","F","F","F","F","F","F","F","F","F","F","F","F","F","F","F","F","F","F","F","F","F","F","F","F","F","F","F","F","F","F","F","F","F","F","F","F","F","F","F","F","F","F","F","F","F","F","F","F","F","F","F","F","F","F","F","F","F","F","F","F","F","F","F","F","F","F","F","F","F","F","F","F","F","F","F","F","F","F","F","F","F","F","F","F","F","F","F","F","F","F","F","F","F","F","F","F","F","F","F","F","F","F","F","F","F","F","F","F","F","F","F","F","F","F","F","F","F","F","F","F","F","F","F","F","F","F","F","F","F","F","F","F","F","F","F","F","F","F","F","F","F","F","F","F","F","F","F","F","F","F","F","F","F","F",14,"F",14,12,"F","F","F","F","F","F","F","F","F","F","F","F","F","F","F","F","F","F","F","F","F","F","F","F","F","F","F","F","F",null,null,3,0,0,0,0,"<img src=\"http://www.clubedobotao.com/wp-content/uploads/2012/12/SOMBRA-2012.jpg\" alt=\"\" title=\"SOMBRA\" width=\"25\" height=\"25\" class=\"aligncenter size-full wp-image-6198\" />"]
["Fabio Januario","F","F","F","F","F","F","F","F","F","F","F","F","F","F","F","F","F","F","F","F","F","F","F","F","F","F","F","F","F","F","F","F","F","F","F","F","F","F","F","F","F","F","F","F","F","F","F","F","F","F","F","F","F","F","F","F","F","F","F","F","F","F","F","F","F","F","F","F","F","F","F","F","F","F","F","F","F","F","F","F","F","F","F","F","F","F","F","F","F","F","F","F","F","F","F","F","F","F","F","F","F","F","F","F","F","F","F","F","F","F","F","F","F","F","F","F","F","F","F","F","F","F","F","F","F","F","F","F","F","F","F","F","F","F","F","F","F","F","F","F","F","F","F","F","F","F","F","F","F","F","F","F","F","F","F","F","F","F","F","F","F","F","F","F","F","F","F","F","F","F","F","F","F","F","F","F","F","F","F","F","F","F","F","F","F","F","F","F","F","F","F","F","F","F","F","F","F","F","F","F","F","F","F","F",200,"F",10,"F","F",null,null,2,0,1,0,0,"<img src=\"http://www.clubedobotao.com/wp-content/uploads/2012/12/FÁBIO-JANUÁRIO-2012.jpg\" alt=\"\" title=\"Fábio Januário\" width=\"25\" height=\"25\" class=\"aligncenter size-full wp-image-6198\" />"]
["Fernando Barbin","F","F","F","F","F","F","F","F","F","F","F","F","F","F","F","F","F","F","F","F","F","F","F","F","F","F","F","F","F","F","F","F","F","F","F","F","F","F","F","F","F","F","F","F","F","F","F","F","F","F","F","F","F","F","F","F","F","F","F","F","F","F","F","F","F","F","F","F","F","F","F","F","F","F","F","F","F","F","F","F","F","F","F","F","F","F","F","F","F","F","F","F","F","F","F","F","F","F","F","F","F","F","F","F","F","F","F","F","F","F","F","F","F","F","F","F","F","F","F","F","F","F","F","F","F","F","F","F","F","F","F","F","F","F","F","F","F","F","F","F","F","F","F","F","F","F","F","F","F","F","F","F","F","F","F","F","F","F","F","F","F","F","F","F","F","F","F","F","F","F","F","F","F","F","F","F","F","F","F","F","F","F","F","F","F","F","F","F","F","F","F","F","F","F","F","F","F","F","F","F","F","F",9,10,5,9,"F","F","F",null,null,4,0,0,0,0,"<img src=\"http://www.clubedobotao.com/wp-content/uploads/2012/12/FERNANDO-BARBIN-2012.jpg\" alt=\"\" title=\"Fernando Barbin\" width=\"25\" height=\"25\" class=\"aligncenter size-full wp-image-6198\" />"]
["Fernando Dezio","F","F","F","F","F","F","F","F","F","F","F","F","F","F","F","F","F","F","F","F","F","F","F","F","F","F","F","F","F","F","F","F","F","F","F","F","F","F","F","F","F","F","F","F","F","F","F","F","F","F","F","F","F","F","F","F","F","F","F","F","F","F","F","F","F","F","F","F","F","F","F","F","F","F","F","F","F","F","F","F","F","F","F","F","F","F","F","F","F","F","F","F","F","F","F","F","F","F","F","F","F","F","F","F","F","F","F","F","F","F","F","F","F","F","F","F","F","F","F","F","F","F","F","F","F","F","F","F","F","F","F","F","F","F","F","F","F","F","F","F","F","F","F","F","F","F","F","F","F","F","F","F","F","F","F","F","F","F","F","F","F","F","F","F","F","F","F","F","F",12,9,6,6,5,12,12,12,13,12,11,6,10,6,12,6,10,10,"F",10,5,11,8,4,6,200,4,4,8,5,5,4,2,5,9,"F",200,"F",9,10,null,null,37,0,2,0,0,"<img src=\"http://www.clubedobotao.com/wp-content/uploads/2012/12/FERNANDO-DEZIO-2012.jpg\" alt=\"\" title=\"Fernando Dezio\" width=\"25\" height=\"25\" class=\"aligncenter size-full wp-image-4383\" />"]
["Gabriel Nardy","F","F","F","F","F","F","F","F","F","F","F","F","F","F","F","F","F","F","F","F","F","F","F","F","F","F","F","F","F","F","F","F","F","F","F","F","F","F","F","F","F","F","F","F","F","F","F","F","F","F","F","F","F","F","F",16,16,17,16,16,24,16,16,15,13,16,15,18,14,12,18,16,12,11,11,10,18,7,10,"F","F","F",12,12,10,11,17,10,10,16,17,19,15,11,14,"F",13,12,14,12,15,12,10,5,"F",8,11,"F",16,16,14,15,"F","F",300,10,12,"F","F","F",12,"F",14,"F","F","F","F",10,"F","F","F","F","F","F","F","F","F","F","F","F","F","F","F","F","F","F","F","F","F","F","F","F","F","F","F","F","F","F","F","F","F","F","F","F","F","F","F","F","F","F","F","F","F","F","F","F","F","F","F","F","F","F","F","F","F","F","F","F","F","F","F","F","F","F","F","F","F","F","F","F","F","F","F","F","F","F","F","F","F",null,null,57,0,0,1,0,"<img src=\"http://www.clubedobotao.com/wp-content/uploads/2012/12/SOMBRA-2012.jpg\" alt=\"\" title=\"SOMBRA\" width=\"25\" height=\"25\" class=\"aligncenter size-full wp-image-6198\" />"]
["Guilherme Simeira","F","F","F","F","F","F","F","F","F","F","F","F","F","F","F","F","F","F","F","F","F","F","F","F","F","F","F","F","F","F","F","F","F","F","F","F","F","F","F","F","F","F","F","F","F","F","F","F","F","F","F","F","F","F","F","F","F","F","F","F","F","F","F","F","F","F","F","F","F","F","F","F","F","F","F","F","F","F","F","F","F","F","F","F","F","F","F","F","F","F","F",16,"F","F","F","F","F","F","F","F","F","F","F","F","F","F","F","F","F","F","F","F","F","F","F","F","F","F","F","F","F","F","F","F","F","F","F","F","F","F","F","F","F","F","F","F","F","F","F","F","F","F","F","F","F","F","F","F","F","F","F","F","F","F","F","F","F","F","F","F","F","F","F","F","F","F","F","F","F","F","F","F","F","F","F","F","F","F","F","F","F","F","F","F","F","F","F","F","F","F","F","F","F","F","F","F","F","F","F","F","F","F","F","F","F","F","F","F","F",null,null,1,0,0,0,0,"<img src=\"http://www.clubedobotao.com/wp-content/uploads/2012/12/SOMBRA-2012.jpg\" alt=\"\" title=\"SOMBRA\" width=\"25\" height=\"25\" class=\"aligncenter size-full wp-image-6198\" />"]
["Gustavo Arcolini","F",2,9,5,2,6,5,4,6,3,9,3,"F","F",4,"F","F","F",14,15,14,300,300,300,300,9,9,200,8,8,200,5,5,2,5,4,5,5,"F",3,5,200,"F",200,4,5,5,9,5,"F",8,200,200,200,5,2,"F","F",300,10,3,200,200,200,9,6,200,4,7,9,200,3,3,4,4,"F",200,9,"F",2,3,2,4,3,100,"F",6,100,4,15,300,9,"F","F",300,"F","F","F",9,8,3,"F","F",9,2,14,4,3,"F","F",200,6,8,4,100,4,6,200,3,100,4,4,4,"F","F","F",200,2,3,"F","F",200,"F",200,"F","F",8,3,2,9,"F","F",2,200,"F",7,2,2,"F","F","F","F",100,5,4,5,"F",5,"F","F",2,2,3,"F",5,"F",200,"F","F","F","F","F","F","F","F","F","F","F","F","F","F",300,9,3,3,"F","F","F","F","F","F","F","F","F","F","F","F","F","F","F","F","F","F","F","F","F","F","F","F",null,null,128,5,20,8,0,"<img src=\"http://www.clubedobotao.com/wp-content/uploads/2012/12/SOMBRA-2012.jpg\" alt=\"\" title=\"SOMBRA\" width=\"25\" height=\"25\" class=\"aligncenter size-full wp-image-6198\" />"]
["Henrique Laitano","F","F","F","F","F","F","F","F","F","F","F","F","F","F","F","F","F","F","F","F","F","F","F","F","F","F","F","F","F","F","F","F","F","F","F","F","F","F","F","F","F","F","F","F","F","F","F","F","F","F","F","F","F","F","F","F","F","F","F","F","F","F","F","F","F","F","F","F","F","F","F","F","F","F","F","F","F","F","F","F","F","F","F","F","F","F","F","F","F","F","F","F","F","F","F","F","F","F","F","F","F","F","F","F","F","F","F","F","F","F","F","F","F","F","F","F","F","F","F","F","F","F","F","F","F","F","F","F","F","F","F","F","F","F","F","F","F","F","F","F","F","F","F","F","F","F","F","F","F","F","F","F","F","F","F","F","F","F","F","F","F",8,9,6,4,6,11,"F","F","F","F","F","F","F","F","F","F",9,"F","F",10,"F","F","F","F","F","F","F","F","F","F","F","F","F","F","F","F","F","F","F","F","F","F","F","F","F","F","F","F",null,null,8,0,0,0,0,"<img src=\"http://www.clubedobotao.com/wp-content/uploads/2012/12/SOMBRA-2012.jpg\" alt=\"\" title=\"SOMBRA\" width=\"25\" height=\"25\" class=\"aligncenter size-full wp-image-6198\" />"]
["Ismael Junior","F","F","F","F","F","F",100,2,5,4,2,100,100,100,2,5,"F",2,100,2,4,"F",100,100,200,6,200,3,2,4,5,100,3,4,6,3,2,2,4,5,100,2,2,2,2,3,100,2,100,100,"F",100,4,5,2,100,100,3,4,100,100,100,"F",2,4,5,2,100,3,4,3,100,6,3,3,"F","F","F",200,8,"F","F",200,"F",200,"F",4,200,200,"F","F",8,2,300,200,4,4,4,2,100,5,200,100,200,100,2,7,200,3,3,3,2,100,3,2,3,100,3,100,"F","F","F",3,"F","F","F","F","F","F","F","F","F","F","F","F","F","F","F","F","F","F","F","F","F","F","F","F","F","F","F","F","F","F","F","F","F","F",2,"F","F","F","F","F","F",3,2,4,2,3,"F","F","F","F","F","F","F","F","F","F","F","F","F","F","F",200,3,"F",8,"F","F","F","F","F","F","F","F","F","F","F","F","F","F","F","F","F","F","F","F","F",null,null,110,26,12,1,0,"<img src=\"http://www.clubedobotao.com/wp-content/uploads/2012/12/SOMBRA-2012.jpg\" alt=\"\" title=\"SOMBRA\" width=\"25\" height=\"25\" class=\"aligncenter size-full wp-image-6198\" />"]
["Joao Castilho","F","F","F","F","F","F","F","F","F","F","F","F","F","F","F","F","F","F","F","F","F","F","F","F","F","F","F","F","F","F","F","F","F","F","F",17,18,16,16,18,17,16,15,16,14,10,9,12,9,8,10,10,11,12,8,"F","F","F","F",20,15,22,400,20,10,14,14,15,12,10,11,8,15,16,15,12,12,8,17,10,12,11,"F","F","F",12,10,18,15,12,12,15,10,8,6,9,12,10,12,15,9,5,9,6,"F",9,"F","F","F",17,9,10,11,12,"F","F","F","F","F","F","F","F","F","F","F","F","F","F","F",11,5,"F",10,10,"F",9,12,11,11,"F",10,6,"F",9,"F","F","F","F","F","F","F","F","F","F","F","F","F","F","F","F","F","F","F","F","F","F","F","F","F","F","F","F","F",12,9,8,5,"F",15,10,"F",12,13,10,"F",200,4,"F","F","F","F","F","F","F","F","F","F","F","F","F","F","F","F","F","F","F","F","F","F",null,null,90,0,1,0,1,"<img src=\"http://www.clubedobotao.com/wp-content/uploads/2012/12/SOMBRA-2012.jpg\" alt=\"\" title=\"SOMBRA\" width=\"25\" height=\"25\" class=\"aligncenter size-full wp-image-6198\" />"]
["JOAO PEDRO","F","F","F","F","F","F","F","F","F","F","F","F","F","F","F","F","F","F","F","F","F","F","F","F","F","F","F","F","F","F","F","F","F","F","F","F","F","F","F","F","F","F","F","F","F","F","F","F","F","F","F","F","F","F","F","F","F","F","F","F","F","F","F","F","F","F","F","F","F","F","F","F","F","F","F","F","F","F","F","F","F","F","F","F","F","F","F","F","F","F","F","F","F","F","F","F","F","F","F","F","F","F","F","F","F","F","F","F","F","F","F","F","F","F","F","F","F","F","F","F","F","F","F","F","F","F","F","F","F","F","F","F","F","F","F","F","F","F","F","F","F","F","F","F","F","F","F","F","F","F","F","F","F","F","F","F","F","F","F","F","F","F","F","F","F","F","F","F","F","F","F","F","F","F","F","F","F","F","F","F","F","F","F","F","F","F","F","F","F","F","F","F","F","F","F","F","F","F","F","F","F","F","F","F",8,"F",8,"F","F",null,null,2,0,0,0,0,"<img src=\"http://www.clubedobotao.com/wp-content/uploads/2012/12/JOÃO-PEDRO-2012.jpg\" alt=\"\" title=\"João Pedro\" width=\"25\" height=\"25\" class=\"aligncenter size-full wp-image-6198\" />"]
["Joao Pedro Gall","F","F","F","F","F","F","F","F","F","F","F","F","F","F","F","F","F","F","F","F","F","F","F","F","F","F","F","F","F","F","F","F","F","F","F","F","F","F","F","F","F","F","F","F","F","F","F","F","F","F","F","F","F","F","F","F","F","F","F","F","F","F","F","F","F","F","F","F","F","F","F","F","F","F","F","F","F","F","F","F","F","F","F","F","F","F","F","F","F","F","F","F","F","F","F","F","F","F","F","F","F","F","F","F","F","F","F","F","F","F","F","F","F","F","F","F","F","F","F","F","F","F","F","F","F","F","F","F","F","F","F","F","F","F","F","F","F","F","F","F","F","F","F","F","F","F","F","F","F","F","F","F","F","F","F","F","F","F","F","F","F","F","F","F","F","F","F","F","F","F","F","F","F","F","F","F","F","F","F","F","F","F","F","F","F","F","F","F","F","F","F","F","F","F","F","F","F","F","F","F","F","F","F","F","F","F","F",200,200,null,null,2,0,2,0,0,"<img src=\"http://www.clubedobotao.com/wp-content/uploads/2012/12/JOÃO-PEDRO-GALL-2012.jpg\" alt=\"\" title=\"João Pedro Gall\" width=\"25\" height=\"25\" class=\"aligncenter size-full wp-image-3447\" />"]
["Jorge Prado","F","F","F","F","F","F","F","F","F","F","F","F","F","F","F","F","F","F","F","F","F","F","F","F","F","F","F","F","F","F","F","F","F","F","F","F","F","F","F","F","F","F","F","F","F","F","F","F","F","F","F","F","F","F","F","F","F","F","F","F","F","F","F","F","F","F","F","F","F","F","F","F","F","F","F","F","F","F","F","F","F","F","F","F","F","F","F","F","F","F","F","F","F","F","F","F","F","F","F","F","F","F","F","F","F","F","F","F","F","F","F","F","F","F","F","F","F","F","F","F","F","F","F","F","F","F","F","F","F","F","F","F","F","F","F","F","F","F","F","F","F","F","F","F","F","F","F","F","F","F",7,"F","F","F","F","F","F","F","F","F","F","F","F","F","F","F","F","F","F","F","F","F","F","F","F","F","F","F","F","F","F","F","F","F","F","F","F","F","F","F","F","F","F","F","F","F","F","F","F","F","F","F","F","F","F","F","F","F","F",null,null,1,0,0,0,0,"<img src=\"http://www.clubedobotao.com/wp-content/uploads/2012/12/SOMBRA-2012.jpg\" alt=\"\" title=\"SOMBRA\" width=\"25\" height=\"25\" class=\"aligncenter size-full wp-image-6198\" />"]
["Jose Gallasch","F","F","F","F","F","F","F","F","F","F","F","F","F","F","F","F","F","F","F","F","F","F","F","F","F","F","F","F","F","F","F","F","F","F","F","F","F","F","F","F","F","F","F","F","F","F","F","F","F","F","F","F","F","F","F","F","F","F","F","F","F","F","F","F","F","F","F","F","F","F","F","F","F","F","F","F","F","F","F","F","F","F",15,14,300,10,"F","F","F","F","F","F","F","F","F","F","F","F","F","F","F","F","F","F","F","F","F","F","F","F","F","F","F","F","F","F","F","F","F","F","F","F","F","F","F","F","F","F","F","F","F","F","F","F","F","F","F","F","F","F","F","F","F","F","F","F","F","F","F","F","F","F","F","F","F","F","F","F","F","F","F","F","F","F","F","F","F","F","F","F","F","F","F","F","F","F","F","F","F","F","F","F","F","F","F","F","F","F","F","F","F","F","F","F","F","F","F","F","F","F","F","F","F","F","F","F","F","F","F",null,null,4,0,0,1,0,"<img src=\"http://www.clubedobotao.com/wp-content/uploads/2012/12/SOMBRA-2012.jpg\" alt=\"\" title=\"SOMBRA\" width=\"25\" height=\"25\" class=\"aligncenter size-full wp-image-6198\" />"]
["Jose Henrique","F","F","F","F","F","F","F","F","F","F","F","F","F","F","F","F","F","F","F","F","F","F","F","F","F","F","F","F","F","F","F","F","F","F","F","F","F","F","F","F","F","F","F","F","F","F","F","F","F","F","F","F","F","F","F","F","F","F","F","F","F","F","F","F","F","F","F","F","F","F","F","F","F","F","F","F","F","F","F","F","F","F","F","F","F","F","F","F","F","F","F","F","F","F","F","F","F","F","F","F","F","F","F","F","F","F","F","F","F","F","F","F","F","F","F","F","F","F","F","F","F","F","F","F","F","F","F","F","F","F","F","F","F","F","F","F","F","F","F","F","F","F","F","F","F","F","F","F","F","F","F","F","F","F","F","F","F","F","F","F","F","F","F","F","F",14,12,6,"F","F","F","F","F","F","F","F","F","F","F","F","F",14,"F","F","F",15,14,"F","F","F","F","F","F","F","F","F","F","F","F","F","F","F","F","F","F","F","F","F","F",null,null,6,0,0,0,0,"<img src=\"http://www.clubedobotao.com/wp-content/uploads/2012/12/SOMBRA-2012.jpg\" alt=\"\" title=\"SOMBRA\" width=\"25\" height=\"25\" class=\"aligncenter size-full wp-image-6198\" />"]
["Juliano Borges","F","F","F","F","F","F","F","F","F","F","F","F","F","F","F","F","F","F","F","F","F","F","F","F","F","F","F","F","F","F","F","F","F","F","F","F","F","F","F","F","F","F","F","F","F","F","F","F","F","F","F","F","F","F","F","F","F","F","F","F","F","F","F","F","F","F","F","F","F","F","F","F","F","F","F","F","F","F","F","F","F","F","F","F","F","F","F","F","F","F","F","F","F","F","F","F","F","F","F","F","F","F","F","F","F","F","F","F","F","F","F","F","F","F","F","F","F","F","F","F","F","F","F","F","F","F",10,"F","F","F","F","F","F","F","F","F","F","F","F","F","F","F","F","F","F","F","F","F","F","F","F","F","F","F","F","F","F","F","F","F","F","F","F","F","F","F","F","F","F","F","F","F","F","F","F","F","F","F","F","F","F","F","F","F","F","F","F","F","F","F","F","F","F","F","F","F","F","F","F","F","F","F","F","F","F","F","F","F","F",null,null,1,0,0,0,0,"<img src=\"http://www.clubedobotao.com/wp-content/uploads/2012/12/SOMBRA-2012.jpg\" alt=\"\" title=\"SOMBRA\" width=\"25\" height=\"25\" class=\"aligncenter size-full wp-image-6198\" />"]
["Leonardo Vicente","F","F","F","F","F","F","F","F","F","F","F","F","F","F","F","F","F","F","F","F","F","F","F","F","F","F","F","F","F","F","F","F","F","F","F","F","F","F","F","F","F","F","F","F","F","F","F","F","F","F",15,15,15,300,300,15,15,14,14,14,4,11,"F","F","F",300,10,11,"F",11,8,9,11,10,12,17,"F","F","F",9,"F","F",18,"F","F","F","F","F","F","F","F","F","F","F","F","F","F","F","F","F","F","F","F","F","F","F","F","F","F","F","F","F","F","F","F","F","F","F","F","F","F","F","F","F","F","F","F","F","F","F","F","F","F","F","F","F","F","F","F","F","F","F","F","F","F","F","F","F","F","F","F","F","F","F","F","F","F","F","F","F","F","F","F","F","F","F","F","F","F","F","F","F","F","F","F","F","F","F","F","F","F","F","F","F","F","F","F","F","F","F","F","F","F","F","F","F","F","F","F","F","F","F","F","F","F","F","F","F","F",null,null,24,0,0,3,0,"<img src=\"http://www.clubedobotao.com/wp-content/uploads/2012/12/SOMBRA-2012.jpg\" alt=\"\" title=\"SOMBRA\" width=\"25\" height=\"25\" class=\"aligncenter size-full wp-image-6198\" />"]
["Ligia Waki","F","F","F",12,12,"F","F",11,13,"F",13,15,17,15,"F",16,17,16,"F",17,17,"F",15,17,16,"F","F",17,14,"F","F","F","F",15,16,"F",17,"F","F",15,15,12,"F",15,"F","F","F","F","F",300,"F",16,16,"F",14,"F",400,16,"F","F","F",400,15,14,"F","F","F","F","F","F","F","F","F","F","F","F","F","F","F","F","F","F","F","F","F","F","F","F","F","F","F","F","F","F","F","F","F","F","F","F","F","F","F","F","F","F","F","F","F","F","F","F","F","F","F","F","F","F","F","F","F","F","F","F","F","F","F","F","F","F","F","F","F","F","F","F","F","F","F","F","F","F","F","F","F","F","F","F","F","F","F","F","F","F","F","F","F","F","F","F","F","F","F","F","F","F","F","F","F","F","F","F","F","F","F","F","F","F","F","F","F","F","F","F","F","F","F","F","F","F","F","F","F","F","F","F","F","F","F","F","F","F","F","F","F","F","F","F","F",null,null,{"$f":"COUNT(B36:HC36)","v":34},{"$f":"COUNTIF(B36:HC36,\"100\")","v":0},{"$f":"COUNTIF(B36:HC36,\"200\")","v":0},{"$f":"COUNTIF(B36:HC36,\"300\")","v":1},{"$f":"COUNTIF(B36:HC36,\"400\")","v":2},"<img src=\"http://www.clubedobotao.com/wp-content/uploads/2012/12/SOMBRA-2012.jpg\" alt=\"\" title=\"SOMBRA\" width=\"25\" height=\"25\" class=\"aligncenter size-full wp-image-6198\" />"]
["Lucas Henrique","F","F","F","F","F","F","F","F","F","F","F","F","F","F","F","F","F","F","F","F","F","F","F","F","F",15,15,"F",15,14,15,"F","F",16,17,16,16,17,14,16,18,17,16,14,300,15,14,14,300,9,11,9,10,10,11,"F",20,"F",400,17,"F","F","F","F","F",20,22,"F","F",300,"F",20,8,9,10,6,"F","F","F",17,"F","F",11,"F",12,"F",16,17,17,"F",14,12,"F","F",16,12,"F","F",10,"F",16,"F","F","F",11,15,"F","F",17,"F","F","F",15,"F","F",9,"F",9,"F","F","F","F","F","F","F","F","F","F","F","F","F","F","F","F","F","F","F","F","F","F","F","F","F","F","F","F","F","F","F","F","F","F","F","F","F","F","F","F","F","F","F","F","F","F","F",12,13,11,9,"F","F","F","F","F","F","F","F","F","F","F","F","F","F","F","F","F","F","F","F","F","F","F","F","F","F","F","F","F","F","F","F","F","F","F","F","F","F","F","F",null,null,60,0,0,3,1,"<img src=\"http://www.clubedobotao.com/wp-content/uploads/2012/12/SOMBRA-2012.jpg\" alt=\"\" title=\"SOMBRA\" width=\"25\" height=\"25\" class=\"aligncenter size-full wp-image-6198\" />"]
["Luiz Antonio","F","F","F","F","F","F","F","F","F","F","F","F","F","F","F","F","F","F","F","F","F","F","F","F","F","F","F","F","F","F","F","F","F","F","F","F","F","F","F","F","F","F","F","F","F","F","F","F","F","F","F","F","F","F","F","F","F","F","F","F","F","F","F","F","F","F","F","F",13,14,300,400,14,14,"F",18,"F","F","F","F",11,7,8,10,"F",200,11,8,12,11,200,4,"F",15,"F",10,"F",300,8,6,200,3,5,"F",4,"F","F",14,10,200,4,3,"F","F","F","F","F","F","F","F","F","F","F","F","F","F","F","F","F","F","F","F","F","F","F","F","F","F","F","F","F","F","F","F","F","F","F","F","F","F","F","F","F","F","F","F","F","F","F","F","F","F","F","F","F","F","F","F","F","F","F","F","F","F","F","F","F","F","F","F","F","F","F","F","F","F","F","F","F","F","F","F","F","F","F","F","F","F","F","F","F","F","F","F","F","F","F","F","F",null,null,32,0,4,2,1,"<img src=\"http://www.clubedobotao.com/wp-content/uploads/2012/12/SOMBRA-2012.jpg\" alt=\"\" title=\"SOMBRA\" width=\"25\" height=\"25\" class=\"aligncenter size-full wp-image-6198\" />"]
["Luiz Felipe","F","F","F","F","F","F","F","F","F","F","F","F","F","F","F","F","F","F","F","F","F","F","F","F","F","F","F","F","F","F","F","F","F","F","F","F","F","F","F","F","F","F","F","F","F","F","F","F","F","F","F","F","F","F","F","F","F","F","F","F","F","F","F","F","F","F","F","F","F","F","F","F","F","F","F","F","F","F","F","F","F","F","F","F","F","F","F","F","F","F","F","F","F","F","F","F","F","F","F","F","F","F","F","F","F","F","F","F",15,15,"F","F","F","F","F","F","F","F","F","F","F","F","F","F","F","F","F","F","F","F","F","F","F","F","F","F","F","F","F","F","F","F","F","F","F","F","F","F","F","F","F","F","F","F","F","F","F","F","F","F","F","F","F","F","F","F","F","F","F","F","F","F","F","F","F","F","F","F","F","F","F","F","F","F","F","F","F","F","F","F","F","F","F","F","F","F","F","F","F","F","F","F","F","F","F","F","F","F","F",null,null,2,0,0,0,0,"<img src=\"http://www.clubedobotao.com/wp-content/uploads/2012/12/SOMBRA-2012.jpg\" alt=\"\" title=\"SOMBRA\" width=\"25\" height=\"25\" class=\"aligncenter size-full wp-image-6198\" />"]
["Luiz Guilherme","F","F","F",8,"F",9,10,"F",5,"F",4,7,300,9,8,200,9,5,3,4,3,4,4,5,"F","F",300,16,"F","F","F",14,"F",300,14,300,300,300,300,8,10,11,8,11,12,9,200,6,"F","F","F","F","F","F","F","F","F","F","F","F","F","F","F","F","F","F","F","F","F","F","F","F","F","F","F","F","F","F","F","F","F","F","F","F","F","F","F","F","F","F","F","F","F","F","F","F","F","F","F","F","F","F","F","F","F","F","F",15,11,300,"F","F","F","F","F","F","F","F","F","F","F","F","F","F","F","F","F","F","F","F","F","F","F","F","F","F","F","F","F","F","F","F","F","F","F","F","F","F","F","F","F","F","F","F","F","F","F","F","F","F","F","F","F","F","F","F","F","F","F","F","F","F","F","F","F","F","F","F","F","F","F","F","F","F","F","F","F","F","F","F","F","F","F","F","F","F","F","F","F","F","F","F","F","F","F","F","F","F","F",null,null,39,0,2,8,0,"<img src=\"http://www.clubedobotao.com/wp-content/uploads/2012/12/LUIZ-GUILHERME-2012.jpg\" alt=\"\" title=\"Luiz Guilherme\" width=\"25\" height=\"25\" class=\"aligncenter size-full wp-image-6198\" />"]
["Marcio Costa","F",5,8,100,"F",3,2,100,9,2,5,2,3,3,3,100,3,100,2,3,2,"F",3,3,100,5,"F",4,3,3,3,2,100,3,3,100,4,4,5,4,3,100,"F","F",200,"F","F",200,200,200,200,3,6,100,3,6,3,2,100,2,5,2,3,4,2,2,4,2,2,3,100,5,2,2,100,"F",2,"F",4,3,100,5,100,100,3,4,2,2,3,2,5,200,3,2,4,2,3,2,300,200,2,"F","F","F","F","F",5,100,2,100,"F",300,9,9,3,"F",8,100,"F",200,2,100,100,2,100,4,100,"F",200,"F",9,100,3,3,2,2,4,"F","F","F","F",100,"F",8,100,100,3,"F","F","F","F","F","F","F","F",100,2,"F",100,"F",100,100,2,2,3,100,100,"F","F",2,"F","F",100,100,"F",200,4,"F",300,200,"F","F","F","F","F","F","F","F","F","F",9,2,"F",8,100,2,100,3,"F",200,"F","F","F",200,"F",8,"F",8,2,null,null,151,36,13,3,0,"<img src=\"http://www.clubedobotao.com/wp-content/uploads/2012/12/MÁRCIO-COSTA-2012.jpg\" alt=\"\" title=\"Márcio Costa\" width=\"25\" height=\"25\" class=\"aligncenter size-full wp-image-6202\" />"]
["Marcio Guedes","F","F","F","F","F","F","F","F","F","F","F","F","F","F","F","F","F","F","F","F","F","F","F","F","F","F","F","F","F","F","F","F","F","F","F","F","F","F","F","F","F","F","F","F","F","F","F","F","F","F","F","F","F","F","F","F","F","F","F","F","F","F","F","F","F","F","F","F","F","F","F","F","F","F","F","F","F","F","F","F","F","F","F","F","F","F","F","F","F","F","F","F","F","F","F","F","F",15,16,11,14,13,200,"F","F",400,14,12,"F","F","F","F","F","F","F","F","F","F","F","F","F","F","F","F","F","F","F","F","F","F","F","F","F","F","F","F","F","F","F","F","F","F","F","F","F","F","F","F","F","F","F","F","F","F","F","F","F","F","F","F","F","F","F","F","F","F","F","F","F","F","F","F","F","F","F","F","F","F","F","F","F","F","F","F","F","F","F","F","F","F","F","F","F","F","F","F","F","F","F","F","F","F","F","F","F","F","F","F","F",null,null,9,0,1,0,1,"<img src=\"http://www.clubedobotao.com/wp-content/uploads/2012/12/SOMBRA-2012.jpg\" alt=\"\" title=\"SOMBRA\" width=\"25\" height=\"25\" class=\"aligncenter size-full wp-image-6198\" />"]
["Marco Botelho","F","F","F","F","F","F","F","F","F","F","F","F","F","F","F","F","F","F","F","F","F","F","F","F","F","F","F","F","F","F","F","F","F","F","F","F","F","F","F","F","F","F","F","F","F","F","F","F","F","F","F","F","F","F","F","F","F","F","F","F","F","F","F","F","F","F","F","F","F","F","F","F","F","F","F","F","F","F","F","F","F","F","F","F","F","F","F","F","F","F","F","F","F","F","F","F","F","F","F","F","F","F","F","F","F","F","F","F","F","F","F","F","F","F","F","F","F","F","F","F","F","F","F","F","F","F","F","F","F","F","F","F","F","F","F","F","F","F","F","F","F","F","F","F","F","F","F","F","F","F","F","F","F","F","F","F","F","F","F","F","F","F","F","F","F","F","F","F","F",9,5,"F","F","F",10,"F","F","F","F","F",9,"F","F","F",8,5,11,"F",9,"F","F","F","F","F","F","F","F","F","F","F","F","F","F","F","F","F","F","F","F",null,null,8,0,0,0,0,"<img src=\"http://www.clubedobotao.com/wp-content/uploads/2012/12/SOMBRA-2012.jpg\" alt=\"\" title=\"SOMBRA\" width=\"25\" height=\"25\" class=\"aligncenter size-full wp-image-6198\" />"]
["Marcos Juliatto","F","F","F","F","F","F","F","F","F","F","F","F","F","F","F","F","F","F","F","F","F","F","F","F","F","F","F","F","F","F","F","F","F","F","F","F","F","F","F","F","F","F","F","F","F","F","F","F","F","F","F","F","F","F","F","F","F","F","F","F","F","F","F","F","F","F","F","F","F","F","F","F","F","F","F","F","F","F","F","F","F","F","F","F","F",16,"F","F","F","F","F","F","F","F","F","F","F","F","F","F","F","F","F","F","F","F","F","F","F","F","F","F","F","F","F","F","F","F","F",11,"F","F","F","F","F","F","F","F","F","F","F","F","F","F","F","F","F","F","F","F","F","F","F","F","F","F","F","F","F","F","F","F","F","F","F","F","F","F","F","F","F","F","F","F","F","F","F","F","F","F","F","F","F","F","F","F","F","F","F","F","F","F","F","F","F","F","F","F","F","F","F","F","F","F","F","F","F","F","F","F","F","F","F","F","F","F","F","F","F",null,null,2,0,0,0,0,"<img src=\"http://www.clubedobotao.com/wp-content/uploads/2012/12/SOMBRA-2012.jpg\" alt=\"\" title=\"SOMBRA\" width=\"25\" height=\"25\" class=\"aligncenter size-full wp-image-6198\" />"]
["Marcos Neves","F","F","F","F","F","F","F","F","F","F","F","F","F","F","F","F","F","F","F","F","F","F","F","F","F","F","F","F","F","F","F","F","F","F","F","F","F","F","F","F","F","F","F","F","F","F","F","F","F","F","F","F","F","F","F","F","F","F","F","F","F","F","F","F","F","F","F","F","F","F","F","F","F","F","F","F","F","F","F","F","F","F","F","F","F","F","F","F","F","F","F","F","F","F","F","F","F","F","F","F","F","F","F","F","F","F","F","F","F","F","F","F","F","F","F","F","F","F","F","F","F","F","F","F","F","F","F","F","F","F","F","F","F","F","F","F","F","F","F","F","F","F","F","F","F","F","F","F","F","F","F","F","F","F","F","F","F","F","F","F","F",11,"F","F","F","F","F","F","F","F","F","F","F","F","F","F","F","F","F","F","F","F","F","F","F","F","F","F","F","F","F","F","F","F","F","F","F","F","F","F","F","F","F","F","F","F","F","F","F",null,null,1,0,0,0,0,"<img src=\"http://www.clubedobotao.com/wp-content/uploads/2012/12/SOMBRA-2012.jpg\" alt=\"\" title=\"SOMBRA\" width=\"25\" height=\"25\" class=\"aligncenter size-full wp-image-6198\" />"]
["Mauricio Penteado","F","F","F","F","F","F","F","F","F","F","F","F","F","F","F","F","F","F","F","F","F",16,"F",18,"F","F","F","F","F","F","F","F","F","F","F","F","F","F","F","F","F","F","F","F","F","F","F","F","F","F","F","F","F","F","F","F","F","F","F","F","F","F","F","F","F","F",23,"F","F",16,"F","F","F","F","F","F","F","F","F","F","F","F","F","F","F","F","F","F","F","F","F","F","F","F","F","F","F","F","F","F","F","F","F","F","F","F","F","F","F","F","F","F","F","F","F","F","F","F","F","F","F","F","F","F","F","F","F","F","F","F","F","F","F","F","F","F","F","F","F","F","F","F","F","F","F","F","F","F","F","F","F","F","F","F","F","F","F","F","F","F","F","F","F","F","F","F","F","F","F","F","F","F","F","F","F","F","F","F","F","F","F","F","F","F","F","F","F","F","F","F","F","F","F","F","F","F","F","F","F","F","F","F","F","F","F","F","F","F","F",null,null,4,0,0,0,0,"<img src=\"http://www.clubedobotao.com/wp-content/uploads/2012/12/SOMBRA-2012.jpg\" alt=\"\" title=\"SOMBRA\" width=\"25\" height=\"25\" class=\"aligncenter size-full wp-image-6198\" />"]
["Mauro Figueiredo","F","F","F","F","F","F","F","F","F","F","F","F","F","F","F","F","F","F","F","F","F","F","F","F","F","F","F","F","F","F","F","F","F","F","F","F","F","F","F","F","F","F","F","F","F","F","F","F","F","F","F","F","F","F","F","F","F","F","F","F","F","F","F","F","F","F","F","F","F","F","F","F","F","F","F","F","F","F","F","F","F","F","F","F","F","F","F","F","F","F","F","F","F","F","F","F","F","F","F","F","F","F","F","F","F","F","F","F","F","F","F","F","F","F","F","F","F","F","F","F","F","F","F","F","F","F","F","F","F","F","F","F","F","F","F","F","F","F","F","F","F","F","F","F","F","F","F","F","F","F","F","F",4,7,6,"F","F","F",8,7,"F",3,"F",4,2,9,5,"F","F","F","F","F","F","F","F","F","F","F","F","F","F","F","F","F","F","F","F","F","F","F","F","F","F","F","F","F","F","F","F","F","F","F","F","F","F","F","F","F","F",null,null,10,0,0,0,0,"<img src=\"http://www.clubedobotao.com/wp-content/uploads/2012/12/SOMBRA-2012.jpg\" alt=\"\" title=\"SOMBRA\" width=\"25\" height=\"25\" class=\"aligncenter size-full wp-image-6198\" />"]
["Michel Benevides","F","F","F",14,"F",12,"F",10,12,"F",12,14,15,17,15,18,18,17,17,16,18,14,17,19,12,14,14,8,10,10,"F","F",12,12,12,14,23,15,15,14,16,15,14,12,11,300,"F",300,"F",14,9,"F",14,11,16,14,14,300,11,11,21,300,14,9,14,8,8,10,8,8,10,11,7,200,6,5,6,10,6,"F",17,10,9,11,"F",9,14,9,11,10,11,18,300,10,12,11,8,6,11,"F",10,6,"F",4,6,10,"F",16,300,11,12,12,14,13,12,"F",11,"F",6,2,6,9,9,6,5,11,9,6,11,6,8,"F",9,9,9,6,11,8,6,5,7,"F",4,5,"F","F","F","F","F","F","F","F","F","F","F","F","F","F","F","F","F","F","F","F","F","F","F","F","F","F","F","F","F","F","F","F","F","F","F","F","F","F","F","F","F","F","F","F","F","F","F","F","F","F","F","F","F","F","F","F","F","F","F","F","F","F","F","F","F",null,null,124,0,1,6,0,"<img src=\"http://www.clubedobotao.com/wp-content/uploads/2012/12/SOMBRA-2012.jpg\" alt=\"\" title=\"SOMBRA\" width=\"25\" height=\"25\" class=\"aligncenter size-full wp-image-6198\" />"]
["Nardy",2,6,10,7,4,13,7,9,14,11,10,8,8,8,9,9,200,8,11,200,200,2,2,6,2,4,100,5,6,"F",4,4,4,5,4,5,3,3,3,6,4,8,3,3,"F",200,2,3,2,3,2,5,2,6,4,4,4,6,200,4,9,4,5,3,5,3,5,5,5,100,4,4,5,6,8,3,3,3,3,"F","F",100,3,4,2,3,7,6,5,4,4,3,4,100,5,8,2,3,4,3,100,4,3,3,5,3,3,4,5,9,100,100,3,5,200,100,2,5,"F",5,8,2,2,3,"F",200,6,200,2,4,2,2,2,2,3,4,100,100,3,100,5,4,"F",2,3,2,100,100,100,100,4,4,3,"F",3,3,3,4,2,4,6,7,4,"F",2,3,"F",9,5,200,4,3,"F",8,3,6,10,4,5,"F","F",200,"F",200,"F","F","F","F","F","F",10,"F","F","F","F","F","F","F","F",9,"F","F","F","F","F",10,"F","F","F",null,null,173,15,11,0,0,"<img src=\"http://www.clubedobotao.com/wp-content/uploads/2012/12/RICARDO-NARDY-2012.jpg\" alt=\"\" title=\"Nardy\" width=\"25\" height=\"25\" class=\"aligncenter size-full wp-image-6198\" />"]
["Paulo César","F","F","F","F","F","F","F","F","F","F","F","F","F","F","F","F","F","F","F","F","F","F","F","F","F","F","F","F","F","F","F","F","F","F","F","F","F","F","F","F","F","F","F","F","F","F","F","F","F","F","F","F","F","F","F","F","F","F","F","F","F","F","F","F","F","F","F","F","F","F","F","F","F","F","F","F","F","F","F","F","F","F","F","F","F","F","F","F","F","F","F","F","F","F","F","F","F","F","F","F","F","F","F","F","F","F","F","F","F","F","F","F","F","F","F","F","F","F","F","F","F","F","F","F","F","F","F","F","F","F","F","F","F","F","F","F","F","F","F","F","F","F","F","F","F",8,6,6,6,6,6,6,9,3,8,7,7,7,7,8,10,10,"F","F",5,10,"F","F","F","F","F","F","F",13,"F","F","F","F","F","F","F","F","F","F","F","F","F","F","F","F","F","F","F","F","F","F","F","F","F","F","F","F","F","F","F","F","F","F","F",null,null,20,0,0,0,0,"<img src=\"http://www.clubedobotao.com/wp-content/uploads/2012/12/SOMBRA-2012.jpg\" alt=\"\" title=\"SOMBRA\" width=\"25\" height=\"25\" class=\"aligncenter size-full wp-image-6198\" />"]
["Pedro Neto","F","F","F","F","F","F","F","F","F","F","F","F","F","F","F","F","F","F","F","F","F","F","F","F","F","F","F","F","F","F","F","F","F","F","F","F","F","F","F","F","F","F","F","F","F","F","F","F","F","F","F","F","F","F","F","F","F","F","F","F","F","F","F","F","F","F","F","F","F","F","F","F","F","F","F","F","F","F","F","F","F","F","F","F","F","F","F","F","F","F","F","F","F","F","F","F","F","F","F","F","F","F","F","F","F","F","F","F","F","F","F","F","F","F","F","F","F","F","F","F","F","F","F","F","F","F","F","F","F","F","F","F","F","F","F","F","F","F","F","F","F","F","F","F","F","F","F","F","F","F","F","F","F","F","F","F","F","F","F","F","F","F","F","F","F","F","F","F","F",11,10,5,8,14,11,10,13,12,9,13,4,6,11,13,10,11,12,12,8,4,4,6,9,9,6,9,200,4,6,2,7,8,8,2,"F",5,"F",6,12,null,null,38,0,1,0,0,"<img src=\"http://www.clubedobotao.com/wp-content/uploads/2012/12/PEDRO-NETO-2012.jpg\" alt=\"\" title=\"Pedro Neto\" width=\"25\" height=\"25\" class=\"aligncenter size-full wp-image-4384\" />"]
["Rafa Santos","F","F","F","F","F","F","F","F","F","F","F","F","F","F","F","F","F","F","F","F","F","F","F","F","F","F","F","F","F","F","F","F","F","F","F","F","F","F","F","F","F","F","F","F","F","F","F","F","F","F","F","F","F","F","F","F","F","F","F","F","F","F","F","F","F","F","F","F","F","F","F","F","F","F","F","F","F","F","F","F","F","F","F","F","F","F","F","F","F","F","F","F","F","F","F","F","F","F","F","F","F","F","F","F","F","F","F","F","F","F","F","F","F","F","F","F","F","F","F","F","F","F","F","F","F","F","F","F","F","F","F","F","F","F","F","F","F","F","F","F","F","F","F","F","F","F","F","F","F","F","F","F","F","F","F","F","F","F","F","F","F","F","F","F","F","F","F","F","F","F","F","F","F","F","F","F","F",200,"F","F","F","F","F","F","F","F","F","F","F","F","F","F","F","F","F","F","F","F","F","F","F","F","F","F","F","F","F","F","F",null,null,1,0,1,0,0,"<img src=\"http://www.clubedobotao.com/wp-content/uploads/2012/12/RAFA-SANTOS-2012.jpg\" alt=\"\" title=\"Rafa Santos\" width=\"25\" height=\"25\" class=\"aligncenter size-full wp-image-6198\" />"]
["Raul Grizi","F","F","F","F","F","F","F","F","F","F","F","F","F","F","F","F","F","F","F","F","F","F","F","F","F","F","F","F","F","F","F","F","F","F","F","F","F","F","F","F","F","F","F","F","F","F","F","F","F","F","F","F","F","F","F","F","F","F","F","F",14,21,20,400,15,"F",400,14,9,"F",14,14,16,18,300,8,11,6,11,6,200,9,"F",8,8,5,5,"F",9,9,"F",14,9,6,10,13,200,5,200,4,6,9,6,11,10,5,9,8,4,6,"F",14,10,8,5,"F",10,8,2,6,200,3,8,7,4,5,13,9,"F",10,"F",8,"F","F","F","F","F","F","F","F",4,"F","F","F","F","F","F","F","F","F","F","F","F","F","F","F","F","F","F","F","F","F","F","F","F","F","F","F","F","F","F","F","F","F","F","F","F","F","F","F","F","F","F","F","F","F","F","F","F","F","F","F","F","F","F","F","F","F","F","F","F","F","F","F","F","F","F","F","F",null,null,64,0,4,1,2,"<img src=\"http://www.clubedobotao.com/wp-content/uploads/2012/12/SOMBRA-2012.jpg\" alt=\"\" title=\"SOMBRA\" width=\"25\" height=\"25\" class=\"aligncenter size-full wp-image-6198\" />"]
["Ricardo Benites","F","F","F","F","F","F","F","F","F","F","F","F","F","F","F","F","F","F","F","F","F","F","F","F","F","F","F","F","F","F","F","F","F","F","F","F","F","F","F","F","F","F","F","F","F","F","F","F","F","F","F","F","F","F","F","F","F","F","F","F","F","F","F","F","F","F","F","F","F","F","F","F","F","F","F","F","F","F","F","F","F","F","F","F","F","F","F","F","F","F","F","F","F","F","F","F","F","F","F","F","F","F","F","F","F","F","F","F","F","F","F","F","F","F","F","F","F","F","F",12,13,10,"F",8,10,13,12,11,6,12,11,"F",11,12,"F","F","F",12,12,10,8,"F",7,"F","F","F","F","F","F","F","F","F","F","F","F","F","F","F","F","F","F","F","F","F","F","F","F","F","F","F","F","F","F","F","F","F","F","F","F","F","F","F","F","F","F","F","F","F","F","F","F","F","F","F","F","F","F","F","F","F","F","F","F","F","F","F","F","F","F",null,null,18,0,0,0,0,"<img src=\"http://www.clubedobotao.com/wp-content/uploads/2012/12/SOMBRA-2012.jpg\" alt=\"\" title=\"SOMBRA\" width=\"25\" height=\"25\" class=\"aligncenter size-full wp-image-6198\" />"]
["Robson Mota","F","F","F","F","F","F","F","F","F","F","F","F","F","F","F","F","F","F","F","F","F","F","F","F","F","F","F","F","F","F","F","F","F","F","F","F","F","F","F","F","F","F","F","F","F","F","F","F","F","F","F","F","F","F","F","F","F","F","F","F","F","F","F","F","F","F","F","F","F","F","F","F","F","F","F","F","F","F","F","F","F","F","F","F","F","F","F","F","F","F","F","F","F","F","F","F","F","F","F","F","F","F","F","F","F","F","F","F","F","F","F","F","F","F","F","F","F","F","F","F","F","F","F","F","F","F","F","F","F","F","F","F","F","F","F","F","F","F","F","F","F","F","F","F","F","F","F","F","F","F","F","F","F","F","F","F","F","F","F","F","F","F","F","F","F","F","F","F","F","F","F","F","F","F","F","F","F","F","F","F","F","F","F","F","F","F","F","F","F","F","F","F","F","F","F","F","F","F","F","F","F","F","F","F",9,"F",200,"F","F",null,null,2,0,1,0,0,"<img src=\"http://www.clubedobotao.com/wp-content/uploads/2012/12/SOMBRA-2012.jpg\" alt=\"\" title=\"Robson Mota\" width=\"25\" height=\"25\" class=\"aligncenter size-full wp-image-6198\" />"]
["Rodrigo Cisoto","F","F","F","F","F","F","F","F","F","F","F","F","F","F","F","F","F","F","F","F","F","F","F","F","F","F","F","F","F","F","F","F","F","F","F","F","F","F","F","F","F","F","F","F","F","F","F","F","F","F","F","F","F","F","F","F","F","F","F","F","F","F","F","F","F","F","F","F","F","F","F","F","F","F","F","F","F","F","F","F","F","F","F","F","F","F","F","F","F","F","F","F","F","F","F","F","F","F","F","F","F","F","F","F","F","F","F","F","F","F","F","F","F","F","F","F","F","F","F","F","F","F","F","F","F","F","F","F","F","F","F","F","F","F","F","F","F","F","F","F","F","F","F","F","F","F","F","F","F","F","F","F","F","F","F","F","F",3,4,5,"F",6,100,"F",6,"F","F",8,"F",8,3,"F","F","F","F","F","F","F","F","F","F",9,"F","F","F",300,200,10,"F","F","F","F","F","F","F","F","F","F","F","F","F","F","F","F","F","F","F","F","F",null,null,13,1,1,1,0,"<img src=\"http://www.clubedobotao.com/wp-content/uploads/2012/12/SOMBRA-2012.jpg\" alt=\"\" title=\"SOMBRA\" width=\"25\" height=\"25\" class=\"aligncenter size-full wp-image-6198\" />"]
["Ronaldo Massa","F","F","F","F","F","F","F","F","F","F","F","F","F","F","F","F","F","F","F","F","F","F","F","F","F","F","F","F","F","F","F","F","F","F","F","F","F","F","F","F","F","F","F","F","F","F","F","F","F","F","F","F","F","F","F",12,10,10,10,9,12,12,9,"F",11,10,"F",8,"F","F",12,"F","F",17,17,9,9,11,"F",12,"F","F",17,"F",14,"F","F","F",300,5,6,"F","F","F","F","F","F","F","F","F","F","F","F","F","F","F","F","F","F","F","F","F","F","F","F","F","F","F","F","F","F","F","F","F","F","F","F","F","F","F","F","F","F","F","F","F","F","F","F","F","F","F","F","F","F","F","F","F","F","F","F","F","F","F","F","F","F","F","F","F","F","F","F","F","F","F","F","F","F","F","F","F","F","F","F","F","F","F","F","F","F","F","F","F","F","F","F","F","F","F","F","F","F","F","F","F","F","F","F","F","F","F","F","F","F","F","F","F","F",null,null,23,0,0,1,0,"<img src=\"http://www.clubedobotao.com/wp-content/uploads/2012/12/SOMBRA-2012.jpg\" alt=\"\" title=\"SOMBRA\" width=\"25\" height=\"25\" class=\"aligncenter size-full wp-image-6198\" />"]
["Schon","F","F","F","F","F","F","F","F","F","F","F","F","F","F","F","F","F","F","F","F","F","F","F","F","F","F","F","F","F","F","F","F","F","F","F","F","F","F","F","F","F","F","F","F","F","F","F","F","F","F","F","F","F","F","F","F","F","F","F","F","F","F","F","F","F","F","F","F","F","F","F","F","F","F","F","F","F","F","F","F","F","F","F","F","F","F","F","F","F","F","F","F","F","F","F","F","F","F","F","F","F","F","F","F","F","F","F","F","F","F","F","F","F","F","F","F","F","F","F","F","F","F","F","F","F","F","F","F","F","F","F","F","F","F","F","F","F","F","F","F","F","F","F","F","F","F","F","F","F","F","F","F","F","F","F","F","F","F","F","F","F","F","F","F","F","F","F",10,200,3,"F",200,5,6,8,2,2,"F",200,3,"F","F",14,8,"F",8,5,9,200,100,2,3,3,5,8,3,5,2,"F",8,6,4,3,5,2,100,4,3,"F",null,null,35,2,4,0,0,"<img src=\"http://www.clubedobotao.com/wp-content/uploads/2012/12/ALEXANDRE-SCHON-2012.jpg\" alt=\"\" title=\"Schon\" width=\"25\" height=\"25\" class=\"aligncenter size-full wp-image-5986\" />"]
["Sergio Filho","F","F","F","F","F","F","F","F","F","F","F","F","F","F",300,14,300,14,300,300,8,200,9,4,3,2,"F",2,4,2,2,6,2,100,2,2,100,100,2,100,2,3,4,100,100,100,3,100,3,2,100,2,100,2,100,5,2,100,2,3,2,3,100,100,100,100,100,3,100,2,2,2,100,100,2,100,100,100,100,100,2,3,2,2,4,100,3,4,2,100,100,2,100,3,2,3,100,100,100,2,4,100,2,"F",8,6,100,2,100,4,2,5,200,2,"F","F","F","F","F","F","F","F","F","F","F","F","F","F",8,100,3,4,100,100,100,5,200,5,200,8,100,2,100,100,"F","F","F","F","F","F","F","F","F","F","F","F","F","F","F","F","F","F","F","F","F","F","F","F","F","F","F","F","F",9,100,100,100,2,100,100,2,100,100,100,100,2,100,100,2,2,100,100,2,100,2,100,2,100,100,100,100,100,100,100,100,3,100,100,100,null,null,150,68,4,4,0,"<img src=\"http://www.clubedobotao.com/wp-content/uploads/2012/12/SÉRGIO-FILHO-2012.jpg\" alt=\"\" title=\"Sérgio Filho\" width=\"25\" height=\"25\" class=\"aligncenter size-thumbnail wp-image-6596\" /> "]
["Wilson Benevides","F","F","F",9,"F",10,"F",13,11,"F",15,12,16,300,17,15,15,11,8,12,11,11,11,10,11,8,8,9,9,200,11,9,10,11,9,11,200,8,8,9,11,14,200,9,5,11,"F",10,"F",15,300,"F",8,9,10,13,300,8,8,8,10,10,8,8,6,200,6,200,11,6,9,200,4,5,5,2,4,4,2,4,5,4,6,5,5,6,9,5,6,13,10,10,6,9,8,6,11,9,5,10,11,11,8,100,3,4,8,10,12,14,13,11,12,10,10,200,3,4,5,4,5,8,5,100,6,8,4,100,5,200,4,6,200,4,5,8,6,9,10,6,9,5,6,4,"F",5,"F",3,2,2,100,100,7,4,2,4,4,6,3,6,7,4,8,3,7,5,9,4,4,4,6,8,7,11,200,4,3,3,6,9,3,4,3,6,9,6,8,200,5,8,5,9,6,200,3,5,9,5,4,3,8,5,4,6,10,2,5,2,11,null,null,198,5,12,3,0,"<img src=\"http://www.clubedobotao.com/wp-content/uploads/2012/12/WILSON-BENEVIDES-2012.jpg\" alt=\"\" title=\"Wilson Benevides\" width=\"25\" height=\"25\" class=\"aligncenter size-full wp-image-4544\" />"]
["Rafael Mello","F","F","F","F","F","F","F","F","F","F","F","F","F","F","F","F","F","F","F","F","F","F","F","F","F","F","F","F","F","F","F","F","F","F","F","F","F","F","F","F","F","F","F","F","F","F","F","F","F","F","F","F","F","F","F","F","F","F","F","F","F","F","F","F","F","F","F","F","F","F","F","F","F","F","F","F","F","F","F","F","F","F","F","F","F","F","F","F","F","F","F","F","F","F","F","F","F","F","F","F","F","F","F","F","F","F","F","F","F","F","F","F","F","F","F","F","F","F","F","F","F","F","F","F","F","F","F","F","F","F","F","F","F","F","F","F","F","F","F","F","F","F","F","F","F","F","F","F","F","F","F","F","F","F","F","F","F","F","F","F","F","F","F","F","F","F","F","F","F","F","F","F","F","F","F","F","F","F","F","F","F","F","F","F","F","F","F","F","F","F","F","F","F","F","F","F","F","F","F","F","F","F","F","F","F","F","F","F","F",null,null,0,0,0,0,0,"<img src=\"http://www.clubedobotao.com/wp-content/uploads/2012/12/RAFAEL-MELLO-2012.jpg\" alt=\"\" title=\"Rafael Mello\" width=\"25\" height=\"25\" class=\"aligncenter size-full wp-image-6198\" />"]
["ww11","F","F","F","F","F","F","F","F","F","F","F","F","F","F","F","F","F","F","F","F","F","F","F","F","F","F","F","F","F","F","F","F","F","F","F","F","F","F","F","F","F","F","F","F","F","F","F","F","F","F","F","F","F","F","F","F","F","F","F","F","F","F","F","F","F","F","F","F","F","F","F","F","F","F","F","F","F","F","F","F","F","F","F","F","F","F","F","F","F","F","F","F","F","F","F","F","F","F","F","F","F","F","F","F","F","F","F","F","F","F","F","F","F","F","F","F","F","F","F","F","F","F","F","F","F","F","F","F","F","F","F","F","F","F","F","F","F","F","F","F","F","F","F","F","F","F","F","F","F","F","F","F","F","F","F","F","F","F","F","F","F","F","F","F","F","F","F","F","F","F","F","F","F","F","F","F","F","F","F","F","F","F","F","F","F","F","F","F","F","F","F","F","F","F","F","F","F","F","F","F","F","F","F","F","F","F","F","F","F",null,null,0,0,0,0,0,"<img src=\"http://www.clubedobotao.com/wp-content/uploads/2012/12/SOMBRA-2012.jpg\" alt=\"\" title=\"SOMBRA\" width=\"25\" height=\"25\" class=\"aligncenter size-full wp-image-6198\" />"]
["ww12","F","F","F","F","F","F","F","F","F","F","F","F","F","F","F","F","F","F","F","F","F","F","F","F","F","F","F","F","F","F","F","F","F","F","F","F","F","F","F","F","F","F","F","F","F","F","F","F","F","F","F","F","F","F","F","F","F","F","F","F","F","F","F","F","F","F","F","F","F","F","F","F","F","F","F","F","F","F","F","F","F","F","F","F","F","F","F","F","F","F","F","F","F","F","F","F","F","F","F","F","F","F","F","F","F","F","F","F","F","F","F","F","F","F","F","F","F","F","F","F","F","F","F","F","F","F","F","F","F","F","F","F","F","F","F","F","F","F","F","F","F","F","F","F","F","F","F","F","F","F","F","F","F","F","F","F","F","F","F","F","F","F","F","F","F","F","F","F","F","F","F","F","F","F","F","F","F","F","F","F","F","F","F","F","F","F","F","F","F","F","F","F","F","F","F","F","F","F","F","F","F","F","F","F","F","F","F","F","F",null,null,0,0,0,0,0,"<img src=\"http://www.clubedobotao.com/wp-content/uploads/2012/12/SOMBRA-2012.jpg\" alt=\"\" title=\"SOMBRA\" width=\"25\" height=\"25\" class=\"aligncenter size-full wp-image-6198\" />"]

{"sheet":"(dados) FPFM","index":9,"n_rows":493,"n_cols":8,"rows_kept":493,"cut":false,"hidden":false,"merged":[]}
[{"$f":"[1]Adulto!A7","v":0},{"$f":"[1]Adulto!B7","v":"Atu"},{"$f":"[1]Adulto!C7","v":"Botonista"},{"$f":"[1]Adulto!D7","v":"Clube  "},{"$f":"[1]Adulto!E7","v":"FPFM"},{"$f":"[1]Adulto!F7","v":"Total"},{"$f":"[1]Adulto!G7","v":0}]
[{"$f":"[1]Adulto!A8","v":0},{"$f":"[1]Adulto!B8","v":1},{"$f":"[1]Adulto!C8","v":"VALBONO"},{"$f":"[1]Adulto!D8","v":"S.C.CORINTHIANS PTA"},{"$f":"[1]Adulto!E8","v":721},{"$f":"[1]Adulto!F8","v":2050},{"$f":"[1]Adulto!G8","v":"#"},1]
[{"$f":"[1]Adulto!A9","v":0},{"$f":"[1]Adulto!B9","v":2},{"$f":"[1]Adulto!C9","v":"LE"},{"$f":"[1]Adulto!D9","v":"MENINOS FC"},{"$f":"[1]Adulto!E9","v":1006},{"$f":"[1]Adulto!F9","v":1690},{"$f":"[1]Adulto!G9","v":-360},{"$f":"B3","v":2}]
[{"$f":"[1]Adulto!A10","v":0},{"$f":"[1]Adulto!B10","v":3},{"$f":"[1]Adulto!C10","v":"BRUNO VAROLI"},{"$f":"[1]Adulto!D10","v":"CIRCULO MILITAR SP"},{"$f":"[1]Adulto!E10","v":1965},{"$f":"[1]Adulto!F10","v":1615},{"$f":"[1]Adulto!G10","v":-75},3]
[{"$f":"[1]Adulto!A11","v":0},{"$f":"[1]Adulto!B11","v":4},{"$f":"[1]Adulto!C11","v":"ALEX BAHR"},{"$f":"[1]Adulto!D11","v":"SANTOS F.C."},{"$f":"[1]Adulto!E11","v":2188},{"$f":"[1]Adulto!F11","v":1580},{"$f":"[1]Adulto!G11","v":-35},4]
[{"$f":"[1]Adulto!A12","v":0},{"$f":"[1]Adulto!B12","v":5},{"$f":"[1]Adulto!C12","v":"CASSIO"},{"$f":"[1]Adulto!D12","v":"CIRCULO MILITAR SP"},{"$f":"[1]Adulto!E12","v":888},{"$f":"[1]Adulto!F12","v":1525},{"$f":"[1]Adulto!G12","v":-55},5]
[{"$f":"[1]Adulto!A13","v":0},{"$f":"[1]Adulto!B13","v":6},{"$f":"[1]Adulto!C13","v":"DINEY"},{"$f":"[1]Adulto!D13","v":"S.E.PALMEIRAS"},{"$f":"[1]Adulto!E13","v":879},{"$f":"[1]Adulto!F13","v":1492},{"$f":"[1]Adulto!G13","v":-33},6]
[{"$f":"[1]Adulto!A14","v":0},{"$f":"[1]Adulto!B14","v":7},{"$f":"[1]Adulto!C14","v":"TADEU"},{"$f":"[1]Adulto!D14","v":"S.C.CORINTHIANS PTA"},{"$f":"[1]Adulto!E14","v":1106},{"$f":"[1]Adulto!F14","v":1465},{"$f":"[1]Adulto!G14","v":-27},7]
[{"$f":"[1]Adulto!A15","v":0},{"$f":"[1]Adulto!B15","v":8},{"$f":"[1]Adulto!C15","v":"BARRICELLI"},{"$f":"[1]Adulto!D15","v":"S.A.V.MARIA ZELIA"},{"$f":"[1]Adulto!E15","v":32},{"$f":"[1]Adulto!F15","v":1453},{"$f":"[1]Adulto!G15","v":-12},8]
[{"$f":"[1]Adulto!A16","v":0},{"$f":"[1]Adulto!B16","v":9},{"$f":"[1]Adulto!C16","v":"VINICIUS"},{"$f":"[1]Adulto!D16","v":"CIRCULO MILITAR SP"},{"$f":"[1]Adulto!E16","v":1437},{"$f":"[1]Adulto!F16","v":1450},{"$f":"[1]Adulto!G16","v":-3},9]
[{"$f":"[1]Adulto!A17","v":0},{"$f":"[1]Adulto!B17","v":10},{"$f":"[1]Adulto!C17","v":"MARCIO"},{"$f":"[1]Adulto!D17","v":"S.A.V.MARIA ZELIA"},{"$f":"[1]Adulto!E17","v":1729},{"$f":"[1]Adulto!F17","v":1450},{"$f":"[1]Adulto!G17","v":0},10]
[{"$f":"[1]Adulto!A18","v":0},{"$f":"[1]Adulto!B18","v":11},{"$f":"[1]Adulto!C18","v":"ALESSANDRO"},{"$f":"[1]Adulto!D18","v":"S.C.CORINTHIANS PTA"},{"$f":"[1]Adulto!E18","v":1448},{"$f":"[1]Adulto!F18","v":1435},{"$f":"[1]Adulto!G18","v":-15},11]
[{"$f":"[1]Adulto!A19","v":0},{"$f":"[1]Adulto!B19","v":12},{"$f":"[1]Adulto!C19","v":"MARCELO WAGNER"},{"$f":"[1]Adulto!D19","v":"MENINOS FC"},{"$f":"[1]Adulto!E19","v":921},{"$f":"[1]Adulto!F19","v":1381},{"$f":"[1]Adulto!G19","v":-54},12]
[{"$f":"[1]Adulto!A20","v":0},{"$f":"[1]Adulto!B20","v":13},{"$f":"[1]Adulto!C20","v":"DUDA"},{"$f":"[1]Adulto!D20","v":"CIRCULO MILITAR SP"},{"$f":"[1]Adulto!E20","v":1042},{"$f":"[1]Adulto!F20","v":1323},{"$f":"[1]Adulto!G20","v":-58},13]
[{"$f":"[1]Adulto!A21","v":0},{"$f":"[1]Adulto!B21","v":14},{"$f":"[1]Adulto!C21","v":"THIAGO"},{"$f":"[1]Adulto!D21","v":"CIRCULO MILITAR SP"},{"$f":"[1]Adulto!E21","v":1558},{"$f":"[1]Adulto!F21","v":1315},{"$f":"[1]Adulto!G21","v":-8},14]
[{"$f":"[1]Adulto!A22","v":0},{"$f":"[1]Adulto!B22","v":15},{"$f":"[1]Adulto!C22","v":"RODRIGO RIBEIRO"},{"$f":"[1]Adulto!D22","v":"S.A.V.MARIA ZELIA"},{"$f":"[1]Adulto!E22","v":1853},{"$f":"[1]Adulto!F22","v":1305},{"$f":"[1]Adulto!G22","v":-10},15]
[{"$f":"[1]Adulto!A23","v":0},{"$f":"[1]Adulto!B23","v":16},{"$f":"[1]Adulto!C23","v":"GIORGIO"},{"$f":"[1]Adulto!D23","v":"C.R.E.FUNDACAO"},{"$f":"[1]Adulto!E23","v":1902},{"$f":"[1]Adulto!F23","v":1266},{"$f":"[1]Adulto!G23","v":-39},16]
[{"$f":"[1]Adulto!A24","v":0},{"$f":"[1]Adulto!B24","v":17},{"$f":"[1]Adulto!C24","v":"MICHILIN"},{"$f":"[1]Adulto!D24","v":"S.E.PALMEIRAS"},{"$f":"[1]Adulto!E24","v":310},{"$f":"[1]Adulto!F24","v":1260},{"$f":"[1]Adulto!G24","v":-6},17]
[{"$f":"[1]Adulto!A25","v":0},{"$f":"[1]Adulto!B25","v":18},{"$f":"[1]Adulto!C25","v":"FACCIO"},{"$f":"[1]Adulto!D25","v":"MENINOS FC"},{"$f":"[1]Adulto!E25","v":1468},{"$f":"[1]Adulto!F25","v":1245},{"$f":"[1]Adulto!G25","v":-15},18]
[{"$f":"[1]Adulto!A26","v":0},{"$f":"[1]Adulto!B26","v":19},{"$f":"[1]Adulto!C26","v":"JOAO PEDRO"},{"$f":"[1]Adulto!D26","v":"BLOCO R-ITU/SEME-ITU"},{"$f":"[1]Adulto!E26","v":1899},{"$f":"[1]Adulto!F26","v":1233},{"$f":"[1]Adulto!G26","v":-12},19]
[{"$f":"[1]Adulto!A27","v":0},{"$f":"[1]Adulto!B27","v":20},{"$f":"[1]Adulto!C27","v":"DILE"},{"$f":"[1]Adulto!D27","v":"S.A.V.MARIA ZELIA"},{"$f":"[1]Adulto!E27","v":878},{"$f":"[1]Adulto!F27","v":1211},{"$f":"[1]Adulto!G27","v":-22},20]
[{"$f":"[1]Adulto!A28","v":0},{"$f":"[1]Adulto!B28","v":21},{"$f":"[1]Adulto!C28","v":"ESPEL"},{"$f":"[1]Adulto!D28","v":"CIRCULO MILITAR SP"},{"$f":"[1]Adulto!E28","v":1044},{"$f":"[1]Adulto!F28","v":1181},{"$f":"[1]Adulto!G28","v":-30},21]
[{"$f":"[1]Adulto!A29","v":0},{"$f":"[1]Adulto!B29","v":22},{"$f":"[1]Adulto!C29","v":"KLEBER"},{"$f":"[1]Adulto!D29","v":"S.C.CORINTHIANS PTA"},{"$f":"[1]Adulto!E29","v":666},{"$f":"[1]Adulto!F29","v":1115},{"$f":"[1]Adulto!G29","v":-66},22]
[{"$f":"[1]Adulto!A30","v":0},{"$f":"[1]Adulto!B30","v":23},{"$f":"[1]Adulto!C30","v":"GARCIA"},{"$f":"[1]Adulto!D30","v":"S.A.V.MARIA ZELIA"},{"$f":"[1]Adulto!E30","v":1407},{"$f":"[1]Adulto!F30","v":1115},{"$f":"[1]Adulto!G30","v":0},23]
[{"$f":"[1]Adulto!A31","v":0},{"$f":"[1]Adulto!B31","v":24},{"$f":"[1]Adulto!C31","v":"MURATORE"},{"$f":"[1]Adulto!D31","v":"CIRCULO MILITAR SP"},{"$f":"[1]Adulto!E31","v":2139},{"$f":"[1]Adulto!F31","v":1113},{"$f":"[1]Adulto!G31","v":-2},24]
[{"$f":"[1]Adulto!A32","v":0},{"$f":"[1]Adulto!B32","v":25},{"$f":"[1]Adulto!C32","v":"QUINHO"},{"$f":"[1]Adulto!D32","v":"S.E.PALMEIRAS"},{"$f":"[1]Adulto!E32","v":1360},{"$f":"[1]Adulto!F32","v":1095},{"$f":"[1]Adulto!G32","v":-18},25]
[{"$f":"[1]Adulto!A33","v":0},{"$f":"[1]Adulto!B33","v":26},{"$f":"[1]Adulto!C33","v":"ZERO"},{"$f":"[1]Adulto!D33","v":"S.C.CORINTHIANS PTA"},{"$f":"[1]Adulto!E33","v":260},{"$f":"[1]Adulto!F33","v":1086},{"$f":"[1]Adulto!G33","v":-9},26]
[{"$f":"[1]Adulto!A34","v":0},{"$f":"[1]Adulto!B34","v":27},{"$f":"[1]Adulto!C34","v":"FARINHA"},{"$f":"[1]Adulto!D34","v":"CIRCULO MILITAR SP"},{"$f":"[1]Adulto!E34","v":1460},{"$f":"[1]Adulto!F34","v":1065},{"$f":"[1]Adulto!G34","v":-21},27]
[{"$f":"[1]Adulto!A35","v":0},{"$f":"[1]Adulto!B35","v":28},{"$f":"[1]Adulto!C35","v":"EDU SANTOS"},{"$f":"[1]Adulto!D35","v":"SANTOS F.C."},{"$f":"[1]Adulto!E35","v":1086},{"$f":"[1]Adulto!F35","v":1030},{"$f":"[1]Adulto!G35","v":-35},28]
[{"$f":"[1]Adulto!A36","v":0},{"$f":"[1]Adulto!B36","v":29},{"$f":"[1]Adulto!C36","v":"SCHALKE"},{"$f":"[1]Adulto!D36","v":"MENINOS FC"},{"$f":"[1]Adulto!E36","v":241},{"$f":"[1]Adulto!F36","v":1021},{"$f":"[1]Adulto!G36","v":-9},29]
[{"$f":"[1]Adulto!A37","v":0},{"$f":"[1]Adulto!B37","v":30},{"$f":"[1]Adulto!C37","v":"TERUEL"},{"$f":"[1]Adulto!D37","v":"MENINOS FC"},{"$f":"[1]Adulto!E37","v":846},{"$f":"[1]Adulto!F37","v":993},{"$f":"[1]Adulto!G37","v":-28},30]
[{"$f":"[1]Adulto!A38","v":0},{"$f":"[1]Adulto!B38","v":31},{"$f":"[1]Adulto!C38","v":"TON"},{"$f":"[1]Adulto!D38","v":"E.C. NOROESTE"},{"$f":"[1]Adulto!E38","v":839},{"$f":"[1]Adulto!F38","v":981},{"$f":"[1]Adulto!G38","v":-12},31]
[{"$f":"[1]Adulto!A39","v":0},{"$f":"[1]Adulto!B39","v":32},{"$f":"[1]Adulto!C39","v":"MARCELO ARANHA"},{"$f":"[1]Adulto!D39","v":"E.C. NOROESTE"},{"$f":"[1]Adulto!E39","v":752},{"$f":"[1]Adulto!F39","v":967},{"$f":"[1]Adulto!G39","v":-14},32]
[{"$f":"[1]Adulto!A40","v":0},{"$f":"[1]Adulto!B40","v":33},{"$f":"[1]Adulto!C40","v":"VINICIUS RAMALHO"},{"$f":"[1]Adulto!D40","v":"MENINOS FC"},{"$f":"[1]Adulto!E40","v":1252},{"$f":"[1]Adulto!F40","v":965},{"$f":"[1]Adulto!G40","v":-2},33]
[{"$f":"[1]Adulto!A41","v":0},{"$f":"[1]Adulto!B41","v":34},{"$f":"[1]Adulto!C41","v":"RODRIGO MORO"},{"$f":"[1]Adulto!D41","v":"S.C.CORINTHIANS PTA"},{"$f":"[1]Adulto!E41","v":1684},{"$f":"[1]Adulto!F41","v":927},{"$f":"[1]Adulto!G41","v":-38},34]
[{"$f":"[1]Adulto!A42","v":0},{"$f":"[1]Adulto!B42","v":35},{"$f":"[1]Adulto!C42","v":"FABIO ROBERTO"},{"$f":"[1]Adulto!D42","v":"S.A.V.MARIA ZELIA"},{"$f":"[1]Adulto!E42","v":579},{"$f":"[1]Adulto!F42","v":906},{"$f":"[1]Adulto!G42","v":-21},35]
[{"$f":"[1]Adulto!A43","v":0},{"$f":"[1]Adulto!B43","v":36},{"$f":"[1]Adulto!C43","v":"SERGIO RICARDO"},{"$f":"[1]Adulto!D43","v":"SANTOS F.C."},{"$f":"[1]Adulto!E43","v":722},{"$f":"[1]Adulto!F43","v":905},{"$f":"[1]Adulto!G43","v":-1},36]
[{"$f":"[1]Adulto!A44","v":0},{"$f":"[1]Adulto!B44","v":37},{"$f":"[1]Adulto!C44","v":"TC"},{"$f":"[1]Adulto!D44","v":"CIRCULO MILITAR SP"},{"$f":"[1]Adulto!E44","v":2067},{"$f":"[1]Adulto!F44","v":903},{"$f":"[1]Adulto!G44","v":-2},37]
[{"$f":"[1]Adulto!A45","v":0},{"$f":"[1]Adulto!B45","v":38},{"$f":"[1]Adulto!C45","v":"PIETRO VAROLI"},{"$f":"[1]Adulto!D45","v":"BLOCO R-ITU/SEME-ITU"},{"$f":"[1]Adulto!E45","v":1956},{"$f":"[1]Adulto!F45","v":895},{"$f":"[1]Adulto!G45","v":-8},38]
[{"$f":"[1]Adulto!A46","v":0},{"$f":"[1]Adulto!B46","v":39},{"$f":"[1]Adulto!C46","v":"SCHON"},{"$f":"[1]Adulto!D46","v":"CLUBE DO BOTAO"},{"$f":"[1]Adulto!E46","v":2131},{"$f":"[1]Adulto!F46","v":894},{"$f":"[1]Adulto!G46","v":-1},39]
[{"$f":"[1]Adulto!A47","v":0},{"$f":"[1]Adulto!B47","v":40},{"$f":"[1]Adulto!C47","v":"SERGIO NENE"},{"$f":"[1]Adulto!D47","v":"S.A.V.MARIA ZELIA"},{"$f":"[1]Adulto!E47","v":509},{"$f":"[1]Adulto!F47","v":894},{"$f":"[1]Adulto!G47","v":0},40]
[{"$f":"[1]Adulto!A48","v":0},{"$f":"[1]Adulto!B48","v":41},{"$f":"[1]Adulto!C48","v":"GALDEANO"},{"$f":"[1]Adulto!D48","v":"S.C.CORINTHIANS PTA"},{"$f":"[1]Adulto!E48","v":1030},{"$f":"[1]Adulto!F48","v":850},{"$f":"[1]Adulto!G48","v":-44},41]
[{"$f":"[1]Adulto!A49","v":0},{"$f":"[1]Adulto!B49","v":42},{"$f":"[1]Adulto!C49","v":"ALBARELLO"},{"$f":"[1]Adulto!D49","v":"MENINOS FC"},{"$f":"[1]Adulto!E49","v":2119},{"$f":"[1]Adulto!F49","v":848},{"$f":"[1]Adulto!G49","v":-2},42]
[{"$f":"[1]Adulto!A50","v":0},{"$f":"[1]Adulto!B50","v":43},{"$f":"[1]Adulto!C50","v":"FABINHO ISRAEL"},{"$f":"[1]Adulto!D50","v":"CIRCULO MILITAR SP"},{"$f":"[1]Adulto!E50","v":2018},{"$f":"[1]Adulto!F50","v":846},{"$f":"[1]Adulto!G50","v":-2},43]
[{"$f":"[1]Adulto!A51","v":0},{"$f":"[1]Adulto!B51","v":44},{"$f":"[1]Adulto!C51","v":"RENAN"},{"$f":"[1]Adulto!D51","v":"S.C.CORINTHIANS PTA"},{"$f":"[1]Adulto!E51","v":48},{"$f":"[1]Adulto!F51","v":845},{"$f":"[1]Adulto!G51","v":-1},44]
[{"$f":"[1]Adulto!A52","v":0},{"$f":"[1]Adulto!B52","v":45},{"$f":"[1]Adulto!C52","v":"NILO"},{"$f":"[1]Adulto!D52","v":"S.C.CORINTHIANS PTA"},{"$f":"[1]Adulto!E52","v":2166},{"$f":"[1]Adulto!F52","v":838},{"$f":"[1]Adulto!G52","v":-7},45]
[{"$f":"[1]Adulto!A53","v":0},{"$f":"[1]Adulto!B53","v":46},{"$f":"[1]Adulto!C53","v":"MARCIO STIPP"},{"$f":"[1]Adulto!D53","v":"FLAMENGO F.C."},{"$f":"[1]Adulto!E53","v":1676},{"$f":"[1]Adulto!F53","v":831},{"$f":"[1]Adulto!G53","v":-7},46]
[{"$f":"[1]Adulto!A54","v":0},{"$f":"[1]Adulto!B54","v":47},{"$f":"[1]Adulto!C54","v":"FABIO JANUARIO"},{"$f":"[1]Adulto!D54","v":"BLOCO R-ITU/SEME-ITU"},{"$f":"[1]Adulto!E54","v":1282},{"$f":"[1]Adulto!F54","v":802},{"$f":"[1]Adulto!G54","v":-29},47]
[{"$f":"[1]Adulto!A55","v":0},{"$f":"[1]Adulto!B55","v":48},{"$f":"[1]Adulto!C55","v":"DENTINHO"},{"$f":"[1]Adulto!D55","v":"S.E.PALMEIRAS"},{"$f":"[1]Adulto!E55","v":996},{"$f":"[1]Adulto!F55","v":802},{"$f":"[1]Adulto!G55","v":0},48]
[{"$f":"[1]Adulto!A56","v":0},{"$f":"[1]Adulto!B56","v":49},{"$f":"[1]Adulto!C56","v":"HYLSON"},{"$f":"[1]Adulto!D56","v":"S.E.PALMEIRAS"},{"$f":"[1]Adulto!E56","v":935},{"$f":"[1]Adulto!F56","v":773},{"$f":"[1]Adulto!G56","v":-29},49]
[{"$f":"[1]Adulto!A57","v":0},{"$f":"[1]Adulto!B57","v":50},{"$f":"[1]Adulto!C57","v":"VELHO"},{"$f":"[1]Adulto!D57","v":"MENINOS FC"},{"$f":"[1]Adulto!E57","v":2099},{"$f":"[1]Adulto!F57","v":764},{"$f":"[1]Adulto!G57","v":-9},50]
[{"$f":"[1]Adulto!A58","v":0},{"$f":"[1]Adulto!B58","v":51},{"$f":"[1]Adulto!C58","v":"ROBSON MOTA"},{"$f":"[1]Adulto!D58","v":"BLOCO R-ITU/SEME-ITU"},{"$f":"[1]Adulto!E58","v":1426},{"$f":"[1]Adulto!F58","v":752},{"$f":"[1]Adulto!G58","v":-12},51]
[{"$f":"[1]Adulto!A59","v":0},{"$f":"[1]Adulto!B59","v":52},{"$f":"[1]Adulto!C59","v":"DE ASSIS"},{"$f":"[1]Adulto!D59","v":"FLAMENGO F.C."},{"$f":"[1]Adulto!E59","v":2115},{"$f":"[1]Adulto!F59","v":747},{"$f":"[1]Adulto!G59","v":-5},52]
[{"$f":"[1]Adulto!A60","v":0},{"$f":"[1]Adulto!B60","v":53},{"$f":"[1]Adulto!C60","v":"MARCIO RANGEL"},{"$f":"[1]Adulto!D60","v":"E.C. NOROESTE"},{"$f":"[1]Adulto!E60","v":2227},{"$f":"[1]Adulto!F60","v":741},{"$f":"[1]Adulto!G60","v":-6},53]
[{"$f":"[1]Adulto!A61","v":0},{"$f":"[1]Adulto!B61","v":54},{"$f":"[1]Adulto!C61","v":"ISMAEL"},{"$f":"[1]Adulto!D61","v":"FLAMENGO F.C."},{"$f":"[1]Adulto!E61","v":1489},{"$f":"[1]Adulto!F61","v":738},{"$f":"[1]Adulto!G61","v":-3},54]
[{"$f":"[1]Adulto!A62","v":0},{"$f":"[1]Adulto!B62","v":55},{"$f":"[1]Adulto!C62","v":"DANIEL DE SIMONI"},{"$f":"[1]Adulto!D62","v":"CIRCULO MILITAR SP"},{"$f":"[1]Adulto!E62","v":1857},{"$f":"[1]Adulto!F62","v":736},{"$f":"[1]Adulto!G62","v":-2},55]
[{"$f":"[1]Adulto!A63","v":0},{"$f":"[1]Adulto!B63","v":56},{"$f":"[1]Adulto!C63","v":"WILSON BENEVIDES"},{"$f":"[1]Adulto!D63","v":"CLUBE DO BOTAO"},{"$f":"[1]Adulto!E63","v":2192},{"$f":"[1]Adulto!F63","v":732},{"$f":"[1]Adulto!G63","v":-4},56]
[{"$f":"[1]Adulto!A64","v":0},{"$f":"[1]Adulto!B64","v":57},{"$f":"[1]Adulto!C64","v":"PUGA"},{"$f":"[1]Adulto!D64","v":"NACIONAL A.C."},{"$f":"[1]Adulto!E64","v":1294},{"$f":"[1]Adulto!F64","v":716},{"$f":"[1]Adulto!G64","v":-16},57]
[{"$f":"[1]Adulto!A65","v":0},{"$f":"[1]Adulto!B65","v":58},{"$f":"[1]Adulto!C65","v":"ZE MARIO"},{"$f":"[1]Adulto!D65","v":"BLOCO R-ITU/SEME-ITU"},{"$f":"[1]Adulto!E65","v":507},{"$f":"[1]Adulto!F65","v":712},{"$f":"[1]Adulto!G65","v":-4},58]
[{"$f":"[1]Adulto!A66","v":0},{"$f":"[1]Adulto!B66","v":59},{"$f":"[1]Adulto!C66","v":"CHICO ROJO"},{"$f":"[1]Adulto!D66","v":"CISPLATINA F.C."},{"$f":"[1]Adulto!E66","v":2184},{"$f":"[1]Adulto!F66","v":710},{"$f":"[1]Adulto!G66","v":-2},59]
[{"$f":"[1]Adulto!A67","v":0},{"$f":"[1]Adulto!B67","v":60},{"$f":"[1]Adulto!C67","v":"FERNANDO SANTOS"},{"$f":"[1]Adulto!D67","v":"S.A.V.MARIA ZELIA"},{"$f":"[1]Adulto!E67","v":92},{"$f":"[1]Adulto!F67","v":709},{"$f":"[1]Adulto!G67","v":-1},60]
[{"$f":"[1]Adulto!A68","v":0},{"$f":"[1]Adulto!B68","v":61},{"$f":"[1]Adulto!C68","v":"CELINHO SILVA"},{"$f":"[1]Adulto!D68","v":"BLOCO R-ITU/SEME-ITU"},{"$f":"[1]Adulto!E68","v":1863},{"$f":"[1]Adulto!F68","v":706},{"$f":"[1]Adulto!G68","v":-3},61]
[{"$f":"[1]Adulto!A69","v":0},{"$f":"[1]Adulto!B69","v":62},{"$f":"[1]Adulto!C69","v":"LIMAO"},{"$f":"[1]Adulto!D69","v":"SANTOS F.C."},{"$f":"[1]Adulto!E69","v":885},{"$f":"[1]Adulto!F69","v":656},{"$f":"[1]Adulto!G69","v":-50},62]
[{"$f":"[1]Adulto!A70","v":0},{"$f":"[1]Adulto!B70","v":63},{"$f":"[1]Adulto!C70","v":"BRUNO BLOIS"},{"$f":"[1]Adulto!D70","v":"LIGA JACAREIENSE"},{"$f":"[1]Adulto!E70","v":1836},{"$f":"[1]Adulto!F70","v":652},{"$f":"[1]Adulto!G70","v":-4},63]
[{"$f":"[1]Adulto!A71","v":0},{"$f":"[1]Adulto!B71","v":64},{"$f":"[1]Adulto!C71","v":"ICARO"},{"$f":"[1]Adulto!D71","v":"S.A.V.MARIA ZELIA"},{"$f":"[1]Adulto!E71","v":1509},{"$f":"[1]Adulto!F71","v":635},{"$f":"[1]Adulto!G71","v":-17},64]
[{"$f":"[1]Adulto!A72","v":0},{"$f":"[1]Adulto!B72","v":65},{"$f":"[1]Adulto!C72","v":"PAOLO"},{"$f":"[1]Adulto!D72","v":"S.E.PALMEIRAS"},{"$f":"[1]Adulto!E72","v":1433},{"$f":"[1]Adulto!F72","v":625},{"$f":"[1]Adulto!G72","v":-10},{"$f":"B66","v":65}]
[{"$f":"[1]Adulto!A73","v":0},{"$f":"[1]Adulto!B73","v":66},{"$f":"[1]Adulto!C73","v":"CARLOS ROBERTO"},{"$f":"[1]Adulto!D73","v":"CIRCULO MILITAR SP"},{"$f":"[1]Adulto!E73","v":1408},{"$f":"[1]Adulto!F73","v":623},{"$f":"[1]Adulto!G73","v":-2},66]
[{"$f":"[1]Adulto!A74","v":0},{"$f":"[1]Adulto!B74","v":67},{"$f":"[1]Adulto!C74","v":"LOPES"},{"$f":"[1]Adulto!D74","v":"S.C.CORINTHIANS PTA"},{"$f":"[1]Adulto!E74","v":665},{"$f":"[1]Adulto!F74","v":621},{"$f":"[1]Adulto!G74","v":-2},67]
[{"$f":"[1]Adulto!A75","v":0},{"$f":"[1]Adulto!B75","v":68},{"$f":"[1]Adulto!C75","v":"COSME"},{"$f":"[1]Adulto!D75","v":"FLAMENGO F.C."},{"$f":"[1]Adulto!E75","v":2205},{"$f":"[1]Adulto!F75","v":619},{"$f":"[1]Adulto!G75","v":-2},68]
[{"$f":"[1]Adulto!A76","v":0},{"$f":"[1]Adulto!B76","v":69},{"$f":"[1]Adulto!C76","v":"ALDECOA"},{"$f":"[1]Adulto!D76","v":"C.R.E.FUNDACAO"},{"$f":"[1]Adulto!E76","v":2004},{"$f":"[1]Adulto!F76","v":618},{"$f":"[1]Adulto!G76","v":-1},69]
[{"$f":"[1]Adulto!A77","v":0},{"$f":"[1]Adulto!B77","v":70},{"$f":"[1]Adulto!C77","v":"KIKO"},{"$f":"[1]Adulto!D77","v":"SANTOS F.C."},{"$f":"[1]Adulto!E77","v":33},{"$f":"[1]Adulto!F77","v":608},{"$f":"[1]Adulto!G77","v":-10},70]
[{"$f":"[1]Adulto!A78","v":0},{"$f":"[1]Adulto!B78","v":71},{"$f":"[1]Adulto!C78","v":"MOLINA"},{"$f":"[1]Adulto!D78","v":"E.C. NOROESTE"},{"$f":"[1]Adulto!E78","v":2209},{"$f":"[1]Adulto!F78","v":600},{"$f":"[1]Adulto!G78","v":-8},71]
[{"$f":"[1]Adulto!A79","v":0},{"$f":"[1]Adulto!B79","v":72},{"$f":"[1]Adulto!C79","v":"CHELIO"},{"$f":"[1]Adulto!D79","v":"CLUBE DO BOTAO"},{"$f":"[1]Adulto!E79","v":2193},{"$f":"[1]Adulto!F79","v":593},{"$f":"[1]Adulto!G79","v":-7},72]
[{"$f":"[1]Adulto!A80","v":0},{"$f":"[1]Adulto!B80","v":73},{"$f":"[1]Adulto!C80","v":"ARTHURZINHO"},{"$f":"[1]Adulto!D80","v":"C.R.E.FUNDACAO"},{"$f":"[1]Adulto!E80","v":2003},{"$f":"[1]Adulto!F80","v":583},{"$f":"[1]Adulto!G80","v":-10},73]
[{"$f":"[1]Adulto!A81","v":0},{"$f":"[1]Adulto!B81","v":74},{"$f":"[1]Adulto!C81","v":"CESAR REBECCA"},{"$f":"[1]Adulto!D81","v":"CLUBE DO BOTAO"},{"$f":"[1]Adulto!E81","v":2198},{"$f":"[1]Adulto!F81","v":578},{"$f":"[1]Adulto!G81","v":-5},74]
[{"$f":"[1]Adulto!A82","v":0},{"$f":"[1]Adulto!B82","v":75},{"$f":"[1]Adulto!C82","v":"TELE"},{"$f":"[1]Adulto!D82","v":"S.C.CORINTHIANS PTA"},{"$f":"[1]Adulto!E82","v":1255},{"$f":"[1]Adulto!F82","v":577},{"$f":"[1]Adulto!G82","v":-1},75]
[{"$f":"[1]Adulto!A83","v":0},{"$f":"[1]Adulto!B83","v":76},{"$f":"[1]Adulto!C83","v":"FERNANDO DEZIO"},{"$f":"[1]Adulto!D83","v":"CLUBE DO BOTAO"},{"$f":"[1]Adulto!E83","v":2218},{"$f":"[1]Adulto!F83","v":573},{"$f":"[1]Adulto!G83","v":-4},76]
[{"$f":"[1]Adulto!A84","v":0},{"$f":"[1]Adulto!B84","v":77},{"$f":"[1]Adulto!C84","v":"RAFAEL MELLO"},{"$f":"[1]Adulto!D84","v":"BLOCO R-ITU/SEME-ITU"},{"$f":"[1]Adulto!E84","v":738},{"$f":"[1]Adulto!F84","v":566},{"$f":"[1]Adulto!G84","v":-7},77]
[{"$f":"[1]Adulto!A85","v":0},{"$f":"[1]Adulto!B85","v":78},{"$f":"[1]Adulto!C85","v":"HACKMANN"},{"$f":"[1]Adulto!D85","v":"FLAMENGO F.C."},{"$f":"[1]Adulto!E85","v":1410},{"$f":"[1]Adulto!F85","v":560},{"$f":"[1]Adulto!G85","v":-6},78]
[{"$f":"[1]Adulto!A86","v":0},{"$f":"[1]Adulto!B86","v":79},{"$f":"[1]Adulto!C86","v":"ADILSON"},{"$f":"[1]Adulto!D86","v":"MENINOS FC"},{"$f":"[1]Adulto!E86","v":2040},{"$f":"[1]Adulto!F86","v":555},{"$f":"[1]Adulto!G86","v":-5},79]
[{"$f":"[1]Adulto!A87","v":0},{"$f":"[1]Adulto!B87","v":80},{"$f":"[1]Adulto!C87","v":"GUGA"},{"$f":"[1]Adulto!D87","v":"S.E.PALMEIRAS"},{"$f":"[1]Adulto!E87","v":1600},{"$f":"[1]Adulto!F87","v":545},{"$f":"[1]Adulto!G87","v":-10},80]
[{"$f":"[1]Adulto!A88","v":0},{"$f":"[1]Adulto!B88","v":81},{"$f":"[1]Adulto!C88","v":"OG GIRAO"},{"$f":"[1]Adulto!D88","v":"NACIONAL A.C."},{"$f":"[1]Adulto!E88","v":2211},{"$f":"[1]Adulto!F88","v":536},{"$f":"[1]Adulto!G88","v":-9},81]
[{"$f":"[1]Adulto!A89","v":0},{"$f":"[1]Adulto!B89","v":82},{"$f":"[1]Adulto!C89","v":"CARLOS"},{"$f":"[1]Adulto!D89","v":"XV DE AGOSTO"},{"$f":"[1]Adulto!E89","v":1161},{"$f":"[1]Adulto!F89","v":534},{"$f":"[1]Adulto!G89","v":-2},82]
[{"$f":"[1]Adulto!A90","v":0},{"$f":"[1]Adulto!B90","v":83},{"$f":"[1]Adulto!C90","v":"JUSTA"},{"$f":"[1]Adulto!D90","v":"S.C.CORINTHIANS PTA"},{"$f":"[1]Adulto!E90","v":522},{"$f":"[1]Adulto!F90","v":515},{"$f":"[1]Adulto!G90","v":-19},83]
[{"$f":"[1]Adulto!A91","v":0},{"$f":"[1]Adulto!B91","v":84},{"$f":"[1]Adulto!C91","v":"DENIS CONSTANTINO"},{"$f":"[1]Adulto!D91","v":"MENINOS FC"},{"$f":"[1]Adulto!E91","v":1766},{"$f":"[1]Adulto!F91","v":512},{"$f":"[1]Adulto!G91","v":-3},84]
[{"$f":"[1]Adulto!A92","v":0},{"$f":"[1]Adulto!B92","v":85},{"$f":"[1]Adulto!C92","v":"DANI"},{"$f":"[1]Adulto!D92","v":"S.C.CORINTHIANS PTA"},{"$f":"[1]Adulto!E92","v":1479},{"$f":"[1]Adulto!F92","v":512},{"$f":"[1]Adulto!G92","v":0},85]
[{"$f":"[1]Adulto!A93","v":0},{"$f":"[1]Adulto!B93","v":86},{"$f":"[1]Adulto!C93","v":"JEFFERSON"},{"$f":"[1]Adulto!D93","v":"S.A.V.MARIA ZELIA"},{"$f":"[1]Adulto!E93","v":71},{"$f":"[1]Adulto!F93","v":510},{"$f":"[1]Adulto!G93","v":-2},86]
[{"$f":"[1]Adulto!A94","v":0},{"$f":"[1]Adulto!B94","v":87},{"$f":"[1]Adulto!C94","v":"BARTHEZ"},{"$f":"[1]Adulto!D94","v":"S.A.V.MARIA ZELIA"},{"$f":"[1]Adulto!E94","v":1904},{"$f":"[1]Adulto!F94","v":498.9},{"$f":"[1]Adulto!G94","v":-11.100000000000023},87]
[{"$f":"[1]Adulto!A95","v":0},{"$f":"[1]Adulto!B95","v":88},{"$f":"[1]Adulto!C95","v":"ZUCCATO"},{"$f":"[1]Adulto!D95","v":"XV DE AGOSTO"},{"$f":"[1]Adulto!E95","v":1218},{"$f":"[1]Adulto!F95","v":491},{"$f":"[1]Adulto!G95","v":-7.8999999999999773},88]
[{"$f":"[1]Adulto!A96","v":0},{"$f":"[1]Adulto!B96","v":89},{"$f":"[1]Adulto!C96","v":"RODOLFO"},{"$f":"[1]Adulto!D96","v":"XV DE AGOSTO"},{"$f":"[1]Adulto!E96","v":2007},{"$f":"[1]Adulto!F96","v":491},{"$f":"[1]Adulto!G96","v":0},89]
[{"$f":"[1]Adulto!A97","v":0},{"$f":"[1]Adulto!B97","v":90},{"$f":"[1]Adulto!C97","v":"LEI"},{"$f":"[1]Adulto!D97","v":"XV DE AGOSTO"},{"$f":"[1]Adulto!E97","v":1216},{"$f":"[1]Adulto!F97","v":489},{"$f":"[1]Adulto!G97","v":-2},90]
[{"$f":"[1]Adulto!A98","v":0},{"$f":"[1]Adulto!B98","v":91},{"$f":"[1]Adulto!C98","v":"LUIZ MAB"},{"$f":"[1]Adulto!D98","v":"C.R.E.FUNDACAO"},{"$f":"[1]Adulto!E98","v":1937},{"$f":"[1]Adulto!F98","v":483},{"$f":"[1]Adulto!G98","v":-6},91]
[{"$f":"[1]Adulto!A99","v":0},{"$f":"[1]Adulto!B99","v":92},{"$f":"[1]Adulto!C99","v":"FLAVIO SIMPSONS"},{"$f":"[1]Adulto!D99","v":"E.C. NOROESTE"},{"$f":"[1]Adulto!E99","v":2232},{"$f":"[1]Adulto!F99","v":469},{"$f":"[1]Adulto!G99","v":-14},92]
[{"$f":"[1]Adulto!A100","v":0},{"$f":"[1]Adulto!B100","v":93},{"$f":"[1]Adulto!C100","v":"BELINI"},{"$f":"[1]Adulto!D100","v":"S.A.V.MARIA ZELIA"},{"$f":"[1]Adulto!E100","v":977},{"$f":"[1]Adulto!F100","v":465},{"$f":"[1]Adulto!G100","v":-4},93]
[{"$f":"[1]Adulto!A101","v":0},{"$f":"[1]Adulto!B101","v":94},{"$f":"[1]Adulto!C101","v":"ADEMARZINHO"},{"$f":"[1]Adulto!D101","v":"XV DE AGOSTO"},{"$f":"[1]Adulto!E101","v":976},{"$f":"[1]Adulto!F101","v":464},{"$f":"[1]Adulto!G101","v":-1},94]
[{"$f":"[1]Adulto!A102","v":0},{"$f":"[1]Adulto!B102","v":95},{"$f":"[1]Adulto!C102","v":"FRANCISCO JR"},{"$f":"[1]Adulto!D102","v":"SANTOS F.C."},{"$f":"[1]Adulto!E102","v":1905},{"$f":"[1]Adulto!F102","v":462.86},{"$f":"[1]Adulto!G102","v":-1.1399999999999864},95]
[{"$f":"[1]Adulto!A103","v":0},{"$f":"[1]Adulto!B103","v":96},{"$f":"[1]Adulto!C103","v":"SERGIO FILHO"},{"$f":"[1]Adulto!D103","v":"CLUBE DO BOTAO"},{"$f":"[1]Adulto!E103","v":10},{"$f":"[1]Adulto!F103","v":452},{"$f":"[1]Adulto!G103","v":-10.860000000000014},96]
[{"$f":"[1]Adulto!A104","v":0},{"$f":"[1]Adulto!B104","v":97},{"$f":"[1]Adulto!C104","v":"ALEX"},{"$f":"[1]Adulto!D104","v":"CISPLATINA F.C."},{"$f":"[1]Adulto!E104","v":1279},{"$f":"[1]Adulto!F104","v":451},{"$f":"[1]Adulto!G104","v":-1},97]
[{"$f":"[1]Adulto!A105","v":0},{"$f":"[1]Adulto!B105","v":98},{"$f":"[1]Adulto!C105","v":"FELIPE RAMOS"},{"$f":"[1]Adulto!D105","v":"S.A.V.MARIA ZELIA"},{"$f":"[1]Adulto!E105","v":1578},{"$f":"[1]Adulto!F105","v":446},{"$f":"[1]Adulto!G105","v":-5},98]
[{"$f":"[1]Adulto!A106","v":0},{"$f":"[1]Adulto!B106","v":99},{"$f":"[1]Adulto!C106","v":"CAPPELLI"},{"$f":"[1]Adulto!D106","v":"S.C.CORINTHIANS PTA"},{"$f":"[1]Adulto!E106","v":994},{"$f":"[1]Adulto!F106","v":439.3},{"$f":"[1]Adulto!G106","v":-6.6999999999999886},99]
[{"$f":"[1]Adulto!A107","v":0},{"$f":"[1]Adulto!B107","v":100},{"$f":"[1]Adulto!C107","v":"CRISTIANO"},{"$f":"[1]Adulto!D107","v":"CLUBE DO BOTAO"},{"$f":"[1]Adulto!E107","v":64},{"$f":"[1]Adulto!F107","v":432},{"$f":"[1]Adulto!G107","v":-7.3000000000000114},100]
[{"$f":"[1]Adulto!A108","v":0},{"$f":"[1]Adulto!B108","v":101},{"$f":"[1]Adulto!C108","v":"NANNINI"},{"$f":"[1]Adulto!D108","v":"CISPLATINA F.C."},{"$f":"[1]Adulto!E108","v":1828},{"$f":"[1]Adulto!F108","v":427},{"$f":"[1]Adulto!G108","v":-5},101]
[{"$f":"[1]Adulto!A109","v":0},{"$f":"[1]Adulto!B109","v":102},{"$f":"[1]Adulto!C109","v":"BOLLA"},{"$f":"[1]Adulto!D109","v":"S.E.PALMEIRAS"},{"$f":"[1]Adulto!E109","v":468},{"$f":"[1]Adulto!F109","v":425.54},{"$f":"[1]Adulto!G109","v":-1.4599999999999795},102]
[{"$f":"[1]Adulto!A110","v":0},{"$f":"[1]Adulto!B110","v":103},{"$f":"[1]Adulto!C110","v":"QUARTIM"},{"$f":"[1]Adulto!D110","v":"S.C.CORINTHIANS PTA"},{"$f":"[1]Adulto!E110","v":1000},{"$f":"[1]Adulto!F110","v":420},{"$f":"[1]Adulto!G110","v":-5.5400000000000205},103]
[{"$f":"[1]Adulto!A111","v":0},{"$f":"[1]Adulto!B111","v":104},{"$f":"[1]Adulto!C111","v":"WAGNER LUIZ"},{"$f":"[1]Adulto!D111","v":"SANTOS F.C."},{"$f":"[1]Adulto!E111","v":1773},{"$f":"[1]Adulto!F111","v":411},{"$f":"[1]Adulto!G111","v":-9},104]
[{"$f":"[1]Adulto!A112","v":0},{"$f":"[1]Adulto!B112","v":105},{"$f":"[1]Adulto!C112","v":"PAULO EDSON"},{"$f":"[1]Adulto!D112","v":"FLAMENGO F.C."},{"$f":"[1]Adulto!E112","v":28},{"$f":"[1]Adulto!F112","v":410.24},{"$f":"[1]Adulto!G112","v":-0.75999999999999091},105]
[{"$f":"[1]Adulto!A113","v":0},{"$f":"[1]Adulto!B113","v":106},{"$f":"[1]Adulto!C113","v":"MELLI"},{"$f":"[1]Adulto!D113","v":"S.E.PALMEIRAS"},{"$f":"[1]Adulto!E113","v":1017},{"$f":"[1]Adulto!F113","v":410},{"$f":"[1]Adulto!G113","v":-0.24000000000000909},106]
[{"$f":"[1]Adulto!A114","v":0},{"$f":"[1]Adulto!B114","v":107},{"$f":"[1]Adulto!C114","v":"GOLHV"},{"$f":"[1]Adulto!D114","v":"E.C. NOROESTE"},{"$f":"[1]Adulto!E114","v":2222},{"$f":"[1]Adulto!F114","v":408.25},{"$f":"[1]Adulto!G114","v":-1.75},107]
[{"$f":"[1]Adulto!A115","v":0},{"$f":"[1]Adulto!B115","v":108},{"$f":"[1]Adulto!C115","v":"PINNA"},{"$f":"[1]Adulto!D115","v":"CIRCULO MILITAR SP"},{"$f":"[1]Adulto!E115","v":455},{"$f":"[1]Adulto!F115","v":403},{"$f":"[1]Adulto!G115","v":-5.25},108]
[{"$f":"[1]Adulto!A116","v":0},{"$f":"[1]Adulto!B116","v":109},{"$f":"[1]Adulto!C116","v":"MIGUEL"},{"$f":"[1]Adulto!D116","v":"C.R.E.FUNDACAO"},{"$f":"[1]Adulto!E116","v":1887},{"$f":"[1]Adulto!F116","v":401},{"$f":"[1]Adulto!G116","v":-2},109]
[{"$f":"[1]Adulto!A117","v":0},{"$f":"[1]Adulto!B117","v":110},{"$f":"[1]Adulto!C117","v":"ZE GUSTAVO"},{"$f":"[1]Adulto!D117","v":"XV DE AGOSTO"},{"$f":"[1]Adulto!E117","v":1795},{"$f":"[1]Adulto!F117","v":396},{"$f":"[1]Adulto!G117","v":-5},110]
[{"$f":"[1]Adulto!A118","v":0},{"$f":"[1]Adulto!B118","v":111},{"$f":"[1]Adulto!C118","v":"TCHAKA"},{"$f":"[1]Adulto!D118","v":"BLOCO R-ITU/SEME-ITU"},{"$f":"[1]Adulto!E118","v":731},{"$f":"[1]Adulto!F118","v":390},{"$f":"[1]Adulto!G118","v":-6},111]
[{"$f":"[1]Adulto!A119","v":0},{"$f":"[1]Adulto!B119","v":112},{"$f":"[1]Adulto!C119","v":"DEMA"},{"$f":"[1]Adulto!D119","v":"S.E.PALMEIRAS"},{"$f":"[1]Adulto!E119","v":435},{"$f":"[1]Adulto!F119","v":390},{"$f":"[1]Adulto!G119","v":0},112]
[{"$f":"[1]Adulto!A120","v":0},{"$f":"[1]Adulto!B120","v":113},{"$f":"[1]Adulto!C120","v":"VITOR LUIZ"},{"$f":"[1]Adulto!D120","v":"SANTOS F.C."},{"$f":"[1]Adulto!E120","v":782},{"$f":"[1]Adulto!F120","v":388},{"$f":"[1]Adulto!G120","v":-2},113]
[{"$f":"[1]Adulto!A121","v":0},{"$f":"[1]Adulto!B121","v":114},{"$f":"[1]Adulto!C121","v":"LENNON"},{"$f":"[1]Adulto!D121","v":"S.A.V.MARIA ZELIA"},{"$f":"[1]Adulto!E121","v":487},{"$f":"[1]Adulto!F121","v":385},{"$f":"[1]Adulto!G121","v":-3},114]
[{"$f":"[1]Adulto!A122","v":0},{"$f":"[1]Adulto!B122","v":115},{"$f":"[1]Adulto!C122","v":"DANILO"},{"$f":"[1]Adulto!D122","v":"SANTOS F.C."},{"$f":"[1]Adulto!E122","v":1835},{"$f":"[1]Adulto!F122","v":383},{"$f":"[1]Adulto!G122","v":-2},115]
[{"$f":"[1]Adulto!A123","v":0},{"$f":"[1]Adulto!B123","v":116},{"$f":"[1]Adulto!C123","v":"PAULAO"},{"$f":"[1]Adulto!D123","v":"C.R.E.FUNDACAO"},{"$f":"[1]Adulto!E123","v":801},{"$f":"[1]Adulto!F123","v":383},{"$f":"[1]Adulto!G123","v":0},116]
[{"$f":"[1]Adulto!A124","v":0},{"$f":"[1]Adulto!B124","v":117},{"$f":"[1]Adulto!C124","v":"RODRIGO MUNHOZ"},{"$f":"[1]Adulto!D124","v":"MENINOS FC"},{"$f":"[1]Adulto!E124","v":1767},{"$f":"[1]Adulto!F124","v":382},{"$f":"[1]Adulto!G124","v":-1},117]
[{"$f":"[1]Adulto!A125","v":0},{"$f":"[1]Adulto!B125","v":118},{"$f":"[1]Adulto!C125","v":"RUSSO"},{"$f":"[1]Adulto!D125","v":"SANTOS F.C."},{"$f":"[1]Adulto!E125","v":2187},{"$f":"[1]Adulto!F125","v":378},{"$f":"[1]Adulto!G125","v":-4},118]
[{"$f":"[1]Adulto!A126","v":0},{"$f":"[1]Adulto!B126","v":119},{"$f":"[1]Adulto!C126","v":"CAMBRAIA"},{"$f":"[1]Adulto!D126","v":"CISPLATINA F.C."},{"$f":"[1]Adulto!E126","v":1191},{"$f":"[1]Adulto!F126","v":374},{"$f":"[1]Adulto!G126","v":-4},119]
[{"$f":"[1]Adulto!A127","v":0},{"$f":"[1]Adulto!B127","v":120},{"$f":"[1]Adulto!C127","v":"FABIO"},{"$f":"[1]Adulto!D127","v":"MENINOS FC"},{"$f":"[1]Adulto!E127","v":1068},{"$f":"[1]Adulto!F127","v":373},{"$f":"[1]Adulto!G127","v":-1},120]
[{"$f":"[1]Adulto!A128","v":0},{"$f":"[1]Adulto!B128","v":121},{"$f":"[1]Adulto!C128","v":"BRUNO VASKO"},{"$f":"[1]Adulto!D128","v":"S.A.V.MARIA ZELIA"},{"$f":"[1]Adulto!E128","v":2245},{"$f":"[1]Adulto!F128","v":368.51},{"$f":"[1]Adulto!G128","v":-4.4900000000000091},121]
[{"$f":"[1]Adulto!A129","v":0},{"$f":"[1]Adulto!B129","v":122},{"$f":"[1]Adulto!C129","v":"ANTONIO RIBEIRO"},{"$f":"[1]Adulto!D129","v":"CLUBE DO BOTAO"},{"$f":"[1]Adulto!E129","v":2196},{"$f":"[1]Adulto!F129","v":349},{"$f":"[1]Adulto!G129","v":-19.509999999999991},122]
[{"$f":"[1]Adulto!A130","v":0},{"$f":"[1]Adulto!B130","v":123},{"$f":"[1]Adulto!C130","v":"DAVINIR"},{"$f":"[1]Adulto!D130","v":"SANTOS F.C."},{"$f":"[1]Adulto!E130","v":1711},{"$f":"[1]Adulto!F130","v":348},{"$f":"[1]Adulto!G130","v":-1},123]
[{"$f":"[1]Adulto!A131","v":0},{"$f":"[1]Adulto!B131","v":124},{"$f":"[1]Adulto!C131","v":"BOLACHA"},{"$f":"[1]Adulto!D131","v":"FLAMENGO F.C."},{"$f":"[1]Adulto!E131","v":2029},{"$f":"[1]Adulto!F131","v":344},{"$f":"[1]Adulto!G131","v":-4},124]
[{"$f":"[1]Adulto!A132","v":0},{"$f":"[1]Adulto!B132","v":125},{"$f":"[1]Adulto!C132","v":"RENAN MELO"},{"$f":"[1]Adulto!D132","v":"MENINOS FC"},{"$f":"[1]Adulto!E132","v":1803},{"$f":"[1]Adulto!F132","v":342},{"$f":"[1]Adulto!G132","v":-2},125]
[{"$f":"[1]Adulto!A133","v":0},{"$f":"[1]Adulto!B133","v":126},{"$f":"[1]Adulto!C133","v":"PICOLINO"},{"$f":"[1]Adulto!D133","v":"CISPLATINA F.C."},{"$f":"[1]Adulto!E133","v":2129},{"$f":"[1]Adulto!F133","v":340},{"$f":"[1]Adulto!G133","v":-2},126]
[{"$f":"[1]Adulto!A134","v":0},{"$f":"[1]Adulto!B134","v":127},{"$f":"[1]Adulto!C134","v":"CLAUDIO ROBERTO"},{"$f":"[1]Adulto!D134","v":"C.R.E.FUNDACAO"},{"$f":"[1]Adulto!E134","v":934},{"$f":"[1]Adulto!F134","v":340},{"$f":"[1]Adulto!G134","v":0},127]
[{"$f":"[1]Adulto!A135","v":0},{"$f":"[1]Adulto!B135","v":128},{"$f":"[1]Adulto!C135","v":"BETARESSI"},{"$f":"[1]Adulto!D135","v":"LIGA JACAREIENSE"},{"$f":"[1]Adulto!E135","v":1313},{"$f":"[1]Adulto!F135","v":338},{"$f":"[1]Adulto!G135","v":-2},128]
[{"$f":"[1]Adulto!A136","v":0},{"$f":"[1]Adulto!B136","v":129},{"$f":"[1]Adulto!C136","v":"CHARLEAUX"},{"$f":"[1]Adulto!D136","v":"SANTOS F.C."},{"$f":"[1]Adulto!E136","v":171},{"$f":"[1]Adulto!F136","v":326},{"$f":"[1]Adulto!G136","v":-12},{"$f":"B130","v":129}]
[{"$f":"[1]Adulto!A137","v":0},{"$f":"[1]Adulto!B137","v":130},{"$f":"[1]Adulto!C137","v":"VANDIR"},{"$f":"[1]Adulto!D137","v":"E.C. NOROESTE"},{"$f":"[1]Adulto!E137","v":2228},{"$f":"[1]Adulto!F137","v":324},{"$f":"[1]Adulto!G137","v":-2},130]
[{"$f":"[1]Adulto!A138","v":0},{"$f":"[1]Adulto!B138","v":131},{"$f":"[1]Adulto!C138","v":"BARTOLO"},{"$f":"[1]Adulto!D138","v":"SANTOS F.C."},{"$f":"[1]Adulto!E138","v":639},{"$f":"[1]Adulto!F138","v":320},{"$f":"[1]Adulto!G138","v":-4},131]
[{"$f":"[1]Adulto!A139","v":0},{"$f":"[1]Adulto!B139","v":132},{"$f":"[1]Adulto!C139","v":"BETO MAGRINI"},{"$f":"[1]Adulto!D139","v":"CLUBE DO BOTAO"},{"$f":"[1]Adulto!E139","v":2165},{"$f":"[1]Adulto!F139","v":317},{"$f":"[1]Adulto!G139","v":-3},132]
[{"$f":"[1]Adulto!A140","v":0},{"$f":"[1]Adulto!B140","v":133},{"$f":"[1]Adulto!C140","v":"DOURADO"},{"$f":"[1]Adulto!D140","v":"S.A.V.MARIA ZELIA"},{"$f":"[1]Adulto!E140","v":2221},{"$f":"[1]Adulto!F140","v":314},{"$f":"[1]Adulto!G140","v":-3},133]
[{"$f":"[1]Adulto!A141","v":0},{"$f":"[1]Adulto!B141","v":134},{"$f":"[1]Adulto!C141","v":"FELICIANO"},{"$f":"[1]Adulto!D141","v":"C.R.E.FUNDACAO"},{"$f":"[1]Adulto!E141","v":162},{"$f":"[1]Adulto!F141","v":313},{"$f":"[1]Adulto!G141","v":-1},134]
[{"$f":"[1]Adulto!A142","v":0},{"$f":"[1]Adulto!B142","v":135},{"$f":"[1]Adulto!C142","v":"BRAMBILLA"},{"$f":"[1]Adulto!D142","v":"C.R.E.FUNDACAO"},{"$f":"[1]Adulto!E142","v":893},{"$f":"[1]Adulto!F142","v":311},{"$f":"[1]Adulto!G142","v":-2},135]
[{"$f":"[1]Adulto!A143","v":0},{"$f":"[1]Adulto!B143","v":136},{"$f":"[1]Adulto!C143","v":"MARIO"},{"$f":"[1]Adulto!D143","v":"SANTOS F.C."},{"$f":"[1]Adulto!E143","v":1833},{"$f":"[1]Adulto!F143","v":308},{"$f":"[1]Adulto!G143","v":-3},136]
[{"$f":"[1]Adulto!A144","v":0},{"$f":"[1]Adulto!B144","v":137},{"$f":"[1]Adulto!C144","v":"MARCIO COSTA"},{"$f":"[1]Adulto!D144","v":"CLUBE DO BOTAO"},{"$f":"[1]Adulto!E144","v":2030},{"$f":"[1]Adulto!F144","v":305},{"$f":"[1]Adulto!G144","v":-3},137]
[{"$f":"[1]Adulto!A145","v":0},{"$f":"[1]Adulto!B145","v":138},{"$f":"[1]Adulto!C145","v":"CEBOLA"},{"$f":"[1]Adulto!D145","v":"S.C.CORINTHIANS PTA"},{"$f":"[1]Adulto!E145","v":2083},{"$f":"[1]Adulto!F145","v":298},{"$f":"[1]Adulto!G145","v":-7},138]
[{"$f":"[1]Adulto!A146","v":0},{"$f":"[1]Adulto!B146","v":139},{"$f":"[1]Adulto!C146","v":"STAN"},{"$f":"[1]Adulto!D146","v":"S.C.CORINTHIANS PTA"},{"$f":"[1]Adulto!E146","v":1061},{"$f":"[1]Adulto!F146","v":298},{"$f":"[1]Adulto!G146","v":0},139]
[{"$f":"[1]Adulto!A147","v":0},{"$f":"[1]Adulto!B147","v":140},{"$f":"[1]Adulto!C147","v":"ROBLES"},{"$f":"[1]Adulto!D147","v":"CISPLATINA F.C."},{"$f":"[1]Adulto!E147","v":2224},{"$f":"[1]Adulto!F147","v":298},{"$f":"[1]Adulto!G147","v":0},140]
[{"$f":"[1]Adulto!A148","v":0},{"$f":"[1]Adulto!B148","v":141},{"$f":"[1]Adulto!C148","v":"MORETTI"},{"$f":"[1]Adulto!D148","v":"S.C.CORINTHIANS PTA"},{"$f":"[1]Adulto!E148","v":729},{"$f":"[1]Adulto!F148","v":296},{"$f":"[1]Adulto!G148","v":-2},141]
[{"$f":"[1]Adulto!A149","v":0},{"$f":"[1]Adulto!B149","v":142},{"$f":"[1]Adulto!C149","v":"MARIO REGINALDO"},{"$f":"[1]Adulto!D149","v":"SANTOS F.C."},{"$f":"[1]Adulto!E149","v":2011},{"$f":"[1]Adulto!F149","v":294},{"$f":"[1]Adulto!G149","v":-2},142]
[{"$f":"[1]Adulto!A150","v":0},{"$f":"[1]Adulto!B150","v":143},{"$f":"[1]Adulto!C150","v":"GUI MARCHESE"},{"$f":"[1]Adulto!D150","v":"XV DE AGOSTO"},{"$f":"[1]Adulto!E150","v":1788},{"$f":"[1]Adulto!F150","v":285.22000000000003},{"$f":"[1]Adulto!G150","v":-8.7799999999999727},143]
[{"$f":"[1]Adulto!A151","v":0},{"$f":"[1]Adulto!B151","v":144},{"$f":"[1]Adulto!C151","v":"AGRA"},{"$f":"[1]Adulto!D151","v":"CISPLATINA F.C."},{"$f":"[1]Adulto!E151","v":1305},{"$f":"[1]Adulto!F151","v":283},{"$f":"[1]Adulto!G151","v":-2.2200000000000273},144]
[{"$f":"[1]Adulto!A152","v":0},{"$f":"[1]Adulto!B152","v":145},{"$f":"[1]Adulto!C152","v":"PIRIQUITO"},{"$f":"[1]Adulto!D152","v":"S.C.CORINTHIANS PTA"},{"$f":"[1]Adulto!E152","v":1608},{"$f":"[1]Adulto!F152","v":280},{"$f":"[1]Adulto!G152","v":-3},145]
[{"$f":"[1]Adulto!A153","v":0},{"$f":"[1]Adulto!B153","v":146},{"$f":"[1]Adulto!C153","v":"GUERRA"},{"$f":"[1]Adulto!D153","v":"CISPLATINA F.C."},{"$f":"[1]Adulto!E153","v":466},{"$f":"[1]Adulto!F153","v":280},{"$f":"[1]Adulto!G153","v":0},146]
[{"$f":"[1]Adulto!A154","v":0},{"$f":"[1]Adulto!B154","v":147},{"$f":"[1]Adulto!C154","v":"ZE OLIVEIRA"},{"$f":"[1]Adulto!D154","v":"LIGA JACAREIENSE"},{"$f":"[1]Adulto!E154","v":1764},{"$f":"[1]Adulto!F154","v":276},{"$f":"[1]Adulto!G154","v":-4},147]
[{"$f":"[1]Adulto!A155","v":0},{"$f":"[1]Adulto!B155","v":148},{"$f":"[1]Adulto!C155","v":"MAURO"},{"$f":"[1]Adulto!D155","v":"S.E.PALMEIRAS"},{"$f":"[1]Adulto!E155","v":298},{"$f":"[1]Adulto!F155","v":275},{"$f":"[1]Adulto!G155","v":-1},148]
[{"$f":"[1]Adulto!A156","v":0},{"$f":"[1]Adulto!B156","v":149},{"$f":"[1]Adulto!C156","v":"BERGAMINI"},{"$f":"[1]Adulto!D156","v":"SANTOS F.C."},{"$f":"[1]Adulto!E156","v":1843},{"$f":"[1]Adulto!F156","v":271},{"$f":"[1]Adulto!G156","v":-4},149]
[{"$f":"[1]Adulto!A157","v":0},{"$f":"[1]Adulto!B157","v":150},{"$f":"[1]Adulto!C157","v":"GIL HACKMANN"},{"$f":"[1]Adulto!D157","v":"FLAMENGO F.C."},{"$f":"[1]Adulto!E157","v":1409},{"$f":"[1]Adulto!F157","v":268},{"$f":"[1]Adulto!G157","v":-3},150]
[{"$f":"[1]Adulto!A158","v":0},{"$f":"[1]Adulto!B158","v":151},{"$f":"[1]Adulto!C158","v":"CRISTIANO SANTOS"},{"$f":"[1]Adulto!D158","v":"CIRCULO MILITAR SP"},{"$f":"[1]Adulto!E158","v":1119},{"$f":"[1]Adulto!F158","v":268},{"$f":"[1]Adulto!G158","v":0},151]
[{"$f":"[1]Adulto!A159","v":0},{"$f":"[1]Adulto!B159","v":152},{"$f":"[1]Adulto!C159","v":"ALEXANDRE RUBAO"},{"$f":"[1]Adulto!D159","v":"E.C. NOROESTE"},{"$f":"[1]Adulto!E159","v":2041},{"$f":"[1]Adulto!F159","v":266},{"$f":"[1]Adulto!G159","v":-2},152]
[{"$f":"[1]Adulto!A160","v":0},{"$f":"[1]Adulto!B160","v":153},{"$f":"[1]Adulto!C160","v":"SPINELLI"},{"$f":"[1]Adulto!D160","v":"BLOCO R-ITU/SEME-ITU"},{"$f":"[1]Adulto!E160","v":2148},{"$f":"[1]Adulto!F160","v":262},{"$f":"[1]Adulto!G160","v":-4},153]
[{"$f":"[1]Adulto!A161","v":0},{"$f":"[1]Adulto!B161","v":154},{"$f":"[1]Adulto!C161","v":"LEANDRO SANTOS"},{"$f":"[1]Adulto!D161","v":"S.C.CORINTHIANS PTA"},{"$f":"[1]Adulto!E161","v":1045},{"$f":"[1]Adulto!F161","v":261},{"$f":"[1]Adulto!G161","v":-1},154]
[{"$f":"[1]Adulto!A162","v":0},{"$f":"[1]Adulto!B162","v":155},{"$f":"[1]Adulto!C162","v":"NOVAES"},{"$f":"[1]Adulto!D162","v":"SANTOS F.C."},{"$f":"[1]Adulto!E162","v":167},{"$f":"[1]Adulto!F162","v":256},{"$f":"[1]Adulto!G162","v":-5},155]
[{"$f":"[1]Adulto!A163","v":0},{"$f":"[1]Adulto!B163","v":156},{"$f":"[1]Adulto!C163","v":"FERREIRA"},{"$f":"[1]Adulto!D163","v":"SANTOS F.C."},{"$f":"[1]Adulto!E163","v":2203},{"$f":"[1]Adulto!F163","v":256},{"$f":"[1]Adulto!G163","v":0},156]
[{"$f":"[1]Adulto!A164","v":0},{"$f":"[1]Adulto!B164","v":157},{"$f":"[1]Adulto!C164","v":"MICHELACCI"},{"$f":"[1]Adulto!D164","v":"C.R.E.FUNDACAO"},{"$f":"[1]Adulto!E164","v":1889},{"$f":"[1]Adulto!F164","v":253},{"$f":"[1]Adulto!G164","v":-3},157]
[{"$f":"[1]Adulto!A165","v":0},{"$f":"[1]Adulto!B165","v":158},{"$f":"[1]Adulto!C165","v":"ELVIO"},{"$f":"[1]Adulto!D165","v":"NACIONAL A.C."},{"$f":"[1]Adulto!E165","v":1635},{"$f":"[1]Adulto!F165","v":244},{"$f":"[1]Adulto!G165","v":-9},158]
[{"$f":"[1]Adulto!A166","v":0},{"$f":"[1]Adulto!B166","v":159},{"$f":"[1]Adulto!C166","v":"LEO CARIOCA"},{"$f":"[1]Adulto!D166","v":"S.A.V.MARIA ZELIA"},{"$f":"[1]Adulto!E166","v":2238},{"$f":"[1]Adulto!F166","v":242.93},{"$f":"[1]Adulto!G166","v":-1.0699999999999932},159]
[{"$f":"[1]Adulto!A167","v":0},{"$f":"[1]Adulto!B167","v":160},{"$f":"[1]Adulto!C167","v":"JULINHO"},{"$f":"[1]Adulto!D167","v":"CISPLATINA F.C."},{"$f":"[1]Adulto!E167","v":2127},{"$f":"[1]Adulto!F167","v":240},{"$f":"[1]Adulto!G167","v":-2.9300000000000068},160]
[{"$f":"[1]Adulto!A168","v":0},{"$f":"[1]Adulto!B168","v":161},{"$f":"[1]Adulto!C168","v":"PERROTTI"},{"$f":"[1]Adulto!D168","v":"CIRCULO MILITAR SP"},{"$f":"[1]Adulto!E168","v":274},{"$f":"[1]Adulto!F168","v":240},{"$f":"[1]Adulto!G168","v":0},161]
[{"$f":"[1]Adulto!A169","v":0},{"$f":"[1]Adulto!B169","v":162},{"$f":"[1]Adulto!C169","v":"CELANDRONI"},{"$f":"[1]Adulto!D169","v":"CISPLATINA F.C."},{"$f":"[1]Adulto!E169","v":2162},{"$f":"[1]Adulto!F169","v":240},{"$f":"[1]Adulto!G169","v":0},162]
[{"$f":"[1]Adulto!A170","v":0},{"$f":"[1]Adulto!B170","v":163},{"$f":"[1]Adulto!C170","v":"MARCELO CHAGAS"},{"$f":"[1]Adulto!D170","v":"SANTOS F.C."},{"$f":"[1]Adulto!E170","v":2207},{"$f":"[1]Adulto!F170","v":240},{"$f":"[1]Adulto!G170","v":0},163]
[{"$f":"[1]Adulto!A171","v":0},{"$f":"[1]Adulto!B171","v":164},{"$f":"[1]Adulto!C171","v":"ANDRE FELIPE"},{"$f":"[1]Adulto!D171","v":"CIRCULO MILITAR SP"},{"$f":"[1]Adulto!E171","v":452},{"$f":"[1]Adulto!F171","v":238},{"$f":"[1]Adulto!G171","v":-2},164]
[{"$f":"[1]Adulto!A172","v":0},{"$f":"[1]Adulto!B172","v":165},{"$f":"[1]Adulto!C172","v":"GUSTAVO GB"},{"$f":"[1]Adulto!D172","v":"E.C. NOROESTE"},{"$f":"[1]Adulto!E172","v":2230},{"$f":"[1]Adulto!F172","v":236},{"$f":"[1]Adulto!G172","v":-2},165]
[{"$f":"[1]Adulto!A173","v":0},{"$f":"[1]Adulto!B173","v":166},{"$f":"[1]Adulto!C173","v":"SERGIO BULHOES"},{"$f":"[1]Adulto!D173","v":"CISPLATINA F.C."},{"$f":"[1]Adulto!E173","v":2202},{"$f":"[1]Adulto!F173","v":230},{"$f":"[1]Adulto!G173","v":-6},166]
[{"$f":"[1]Adulto!A174","v":0},{"$f":"[1]Adulto!B174","v":167},{"$f":"[1]Adulto!C174","v":"MARCELLO RINI"},{"$f":"[1]Adulto!D174","v":"XV DE AGOSTO"},{"$f":"[1]Adulto!E174","v":1696},{"$f":"[1]Adulto!F174","v":227},{"$f":"[1]Adulto!G174","v":-3},167]
[{"$f":"[1]Adulto!A175","v":0},{"$f":"[1]Adulto!B175","v":168},{"$f":"[1]Adulto!C175","v":"ELIAS"},{"$f":"[1]Adulto!D175","v":"CIRCULO MILITAR SP"},{"$f":"[1]Adulto!E175","v":268},{"$f":"[1]Adulto!F175","v":225},{"$f":"[1]Adulto!G175","v":-2},168]
[{"$f":"[1]Adulto!A176","v":0},{"$f":"[1]Adulto!B176","v":169},{"$f":"[1]Adulto!C176","v":"BOY"},{"$f":"[1]Adulto!D176","v":"LIGA JACAREIENSE"},{"$f":"[1]Adulto!E176","v":1761},{"$f":"[1]Adulto!F176","v":224},{"$f":"[1]Adulto!G176","v":-1},169]
[{"$f":"[1]Adulto!A177","v":0},{"$f":"[1]Adulto!B177","v":170},{"$f":"[1]Adulto!C177","v":"JORGE LUIS"},{"$f":"[1]Adulto!D177","v":"S.A.V.MARIA ZELIA"},{"$f":"[1]Adulto!E177","v":1396},{"$f":"[1]Adulto!F177","v":221.23},{"$f":"[1]Adulto!G177","v":-2.7700000000000102},170]
[{"$f":"[1]Adulto!A178","v":0},{"$f":"[1]Adulto!B178","v":171},{"$f":"[1]Adulto!C178","v":"MILTON"},{"$f":"[1]Adulto!D178","v":"NACIONAL A.C."},{"$f":"[1]Adulto!E178","v":1950},{"$f":"[1]Adulto!F178","v":220},{"$f":"[1]Adulto!G178","v":-1.2299999999999898},171]
[{"$f":"[1]Adulto!A179","v":0},{"$f":"[1]Adulto!B179","v":172},{"$f":"[1]Adulto!C179","v":"DINHO"},{"$f":"[1]Adulto!D179","v":"SANTOS F.C."},{"$f":"[1]Adulto!E179","v":830},{"$f":"[1]Adulto!F179","v":217},{"$f":"[1]Adulto!G179","v":-3},172]
[{"$f":"[1]Adulto!A180","v":0},{"$f":"[1]Adulto!B180","v":173},{"$f":"[1]Adulto!C180","v":"VINICIUS CAICARA"},{"$f":"[1]Adulto!D180","v":"FLAMENGO F.C."},{"$f":"[1]Adulto!E180","v":1970},{"$f":"[1]Adulto!F180","v":211},{"$f":"[1]Adulto!G180","v":-6},173]
[{"$f":"[1]Adulto!A181","v":0},{"$f":"[1]Adulto!B181","v":174},{"$f":"[1]Adulto!C181","v":"MOISES"},{"$f":"[1]Adulto!D181","v":"FLAMENGO F.C."},{"$f":"[1]Adulto!E181","v":1478},{"$f":"[1]Adulto!F181","v":206},{"$f":"[1]Adulto!G181","v":-5},174]
[{"$f":"[1]Adulto!A182","v":0},{"$f":"[1]Adulto!B182","v":175},{"$f":"[1]Adulto!C182","v":"CINCOTTO"},{"$f":"[1]Adulto!D182","v":"CISPLATINA F.C."},{"$f":"[1]Adulto!E182","v":2186},{"$f":"[1]Adulto!F182","v":205},{"$f":"[1]Adulto!G182","v":-1},175]
[{"$f":"[1]Adulto!A183","v":0},{"$f":"[1]Adulto!B183","v":176},{"$f":"[1]Adulto!C183","v":"CAFU"},{"$f":"[1]Adulto!D183","v":"NACIONAL A.C."},{"$f":"[1]Adulto!E183","v":1250},{"$f":"[1]Adulto!F183","v":197},{"$f":"[1]Adulto!G183","v":-8},176]
[{"$f":"[1]Adulto!A184","v":0},{"$f":"[1]Adulto!B184","v":177},{"$f":"[1]Adulto!C184","v":"FLAVIO REDONDO"},{"$f":"[1]Adulto!D184","v":"LIGA JACAREIENSE"},{"$f":"[1]Adulto!E184","v":1762},{"$f":"[1]Adulto!F184","v":194},{"$f":"[1]Adulto!G184","v":-3},177]
[{"$f":"[1]Adulto!A185","v":0},{"$f":"[1]Adulto!B185","v":178},{"$f":"[1]Adulto!C185","v":"RINALDO"},{"$f":"[1]Adulto!D185","v":"NACIONAL A.C."},{"$f":"[1]Adulto!E185","v":1067},{"$f":"[1]Adulto!F185","v":194},{"$f":"[1]Adulto!G185","v":0},178]
[{"$f":"[1]Adulto!A186","v":0},{"$f":"[1]Adulto!B186","v":179},{"$f":"[1]Adulto!C186","v":"SERGIO MORO"},{"$f":"[1]Adulto!D186","v":"S.C.CORINTHIANS PTA"},{"$f":"[1]Adulto!E186","v":1683},{"$f":"[1]Adulto!F186","v":192},{"$f":"[1]Adulto!G186","v":-2},179]
[{"$f":"[1]Adulto!A187","v":0},{"$f":"[1]Adulto!B187","v":180},{"$f":"[1]Adulto!C187","v":"FRANCA"},{"$f":"[1]Adulto!D187","v":"CISPLATINA F.C."},{"$f":"[1]Adulto!E187","v":975},{"$f":"[1]Adulto!F187","v":180},{"$f":"[1]Adulto!G187","v":-12},180]
[{"$f":"[1]Adulto!A188","v":0},{"$f":"[1]Adulto!B188","v":181},{"$f":"[1]Adulto!C188","v":"HELIO"},{"$f":"[1]Adulto!D188","v":"C.R.E.FUNDACAO"},{"$f":"[1]Adulto!E188","v":1734},{"$f":"[1]Adulto!F188","v":174},{"$f":"[1]Adulto!G188","v":-6},181]
[{"$f":"[1]Adulto!A189","v":0},{"$f":"[1]Adulto!B189","v":182},{"$f":"[1]Adulto!C189","v":"HALAS"},{"$f":"[1]Adulto!D189","v":"C.R.E.FUNDACAO"},{"$f":"[1]Adulto!E189","v":941},{"$f":"[1]Adulto!F189","v":173},{"$f":"[1]Adulto!G189","v":-1},182]
[{"$f":"[1]Adulto!A190","v":0},{"$f":"[1]Adulto!B190","v":183},{"$f":"[1]Adulto!C190","v":"RAFA"},{"$f":"[1]Adulto!D190","v":"SANTOS F.C."},{"$f":"[1]Adulto!E190","v":1211},{"$f":"[1]Adulto!F190","v":170},{"$f":"[1]Adulto!G190","v":-3},183]
[{"$f":"[1]Adulto!A191","v":0},{"$f":"[1]Adulto!B191","v":184},{"$f":"[1]Adulto!C191","v":"RENATO FERREIRA"},{"$f":"[1]Adulto!D191","v":"FLAMENGO F.C."},{"$f":"[1]Adulto!E191","v":1893},{"$f":"[1]Adulto!F191","v":156},{"$f":"[1]Adulto!G191","v":-14},184]
[{"$f":"[1]Adulto!A192","v":0},{"$f":"[1]Adulto!B192","v":185},{"$f":"[1]Adulto!C192","v":"PAULO PINTO"},{"$f":"[1]Adulto!D192","v":"E.C. NOROESTE"},{"$f":"[1]Adulto!E192","v":2240},{"$f":"[1]Adulto!F192","v":153},{"$f":"[1]Adulto!G192","v":-3},185]
[{"$f":"[1]Adulto!A193","v":0},{"$f":"[1]Adulto!B193","v":186},{"$f":"[1]Adulto!C193","v":"MARCELO VILHENA"},{"$f":"[1]Adulto!D193","v":"CISPLATINA F.C."},{"$f":"[1]Adulto!E193","v":917},{"$f":"[1]Adulto!F193","v":150},{"$f":"[1]Adulto!G193","v":-3},186]
[{"$f":"[1]Adulto!A194","v":0},{"$f":"[1]Adulto!B194","v":187},{"$f":"[1]Adulto!C194","v":"GUSTAVO RAMALHO"},{"$f":"[1]Adulto!D194","v":"MENINOS FC"},{"$f":"[1]Adulto!E194","v":1416},{"$f":"[1]Adulto!F194","v":150},{"$f":"[1]Adulto!G194","v":0},187]
[{"$f":"[1]Adulto!A195","v":0},{"$f":"[1]Adulto!B195","v":188},{"$f":"[1]Adulto!C195","v":"ELDER GUIDOLIM"},{"$f":"[1]Adulto!D195","v":"FLAMENGO F.C."},{"$f":"[1]Adulto!E195","v":1971},{"$f":"[1]Adulto!F195","v":149},{"$f":"[1]Adulto!G195","v":-1},188]
[{"$f":"[1]Adulto!A196","v":0},{"$f":"[1]Adulto!B196","v":189},{"$f":"[1]Adulto!C196","v":"EDSON FORTUNA"},{"$f":"[1]Adulto!D196","v":"CLUBE DO BOTAO"},{"$f":"[1]Adulto!E196","v":2123},{"$f":"[1]Adulto!F196","v":144},{"$f":"[1]Adulto!G196","v":-5},189]
[{"$f":"[1]Adulto!A197","v":0},{"$f":"[1]Adulto!B197","v":190},{"$f":"[1]Adulto!C197","v":"NARDY"},{"$f":"[1]Adulto!D197","v":"CLUBE DO BOTAO"},{"$f":"[1]Adulto!E197","v":2113},{"$f":"[1]Adulto!F197","v":144},{"$f":"[1]Adulto!G197","v":0},190]
[{"$f":"[1]Adulto!A198","v":0},{"$f":"[1]Adulto!B198","v":191},{"$f":"[1]Adulto!C198","v":"ZACHARIAS"},{"$f":"[1]Adulto!D198","v":"SANTOS F.C."},{"$f":"[1]Adulto!E198","v":1166},{"$f":"[1]Adulto!F198","v":141},{"$f":"[1]Adulto!G198","v":-3},191]
[{"$f":"[1]Adulto!A199","v":0},{"$f":"[1]Adulto!B199","v":192},{"$f":"[1]Adulto!C199","v":"REPI"},{"$f":"[1]Adulto!D199","v":"SANTOS F.C."},{"$f":"[1]Adulto!E199","v":1687},{"$f":"[1]Adulto!F199","v":140},{"$f":"[1]Adulto!G199","v":-1},192]
[{"$f":"[1]Adulto!A200","v":0},{"$f":"[1]Adulto!B200","v":193},{"$f":"[1]Adulto!C200","v":"LOURO"},{"$f":"[1]Adulto!D200","v":"C.R.E.FUNDACAO"},{"$f":"[1]Adulto!E200","v":843},{"$f":"[1]Adulto!F200","v":131},{"$f":"[1]Adulto!G200","v":-9},{"$f":"B194","v":193}]
[{"$f":"[1]Adulto!A201","v":0},{"$f":"[1]Adulto!B201","v":194},{"$f":"[1]Adulto!C201","v":"RAFAEL SANTOS"},{"$f":"[1]Adulto!D201","v":"CIRCULO MILITAR SP"},{"$f":"[1]Adulto!E201","v":1210},{"$f":"[1]Adulto!F201","v":130},{"$f":"[1]Adulto!G201","v":-1},194]
[{"$f":"[1]Adulto!A202","v":0},{"$f":"[1]Adulto!B202","v":195},{"$f":"[1]Adulto!C202","v":"VINICIUS SOUZA"},{"$f":"[1]Adulto!D202","v":"SANTOS F.C."},{"$f":"[1]Adulto!E202","v":1865},{"$f":"[1]Adulto!F202","v":126},{"$f":"[1]Adulto!G202","v":-4},195]
[{"$f":"[1]Adulto!A203","v":0},{"$f":"[1]Adulto!B203","v":196},{"$f":"[1]Adulto!C203","v":"CELSO LUIZ"},{"$f":"[1]Adulto!D203","v":"CISPLATINA F.C."},{"$f":"[1]Adulto!E203","v":711},{"$f":"[1]Adulto!F203","v":120},{"$f":"[1]Adulto!G203","v":-6},196]
[{"$f":"[1]Adulto!A204","v":0},{"$f":"[1]Adulto!B204","v":197},{"$f":"[1]Adulto!C204","v":"MONTANHA"},{"$f":"[1]Adulto!D204","v":"CIRCULO MILITAR SP"},{"$f":"[1]Adulto!E204","v":2043},{"$f":"[1]Adulto!F204","v":119},{"$f":"[1]Adulto!G204","v":-1},197]
[{"$f":"[1]Adulto!A205","v":0},{"$f":"[1]Adulto!B205","v":198},{"$f":"[1]Adulto!C205","v":"PICA PAU"},{"$f":"[1]Adulto!D205","v":"S.A.V.MARIA ZELIA"},{"$f":"[1]Adulto!E205","v":1192},{"$f":"[1]Adulto!F205","v":115},{"$f":"[1]Adulto!G205","v":-4},198]
[{"$f":"[1]Adulto!A206","v":0},{"$f":"[1]Adulto!B206","v":199},{"$f":"[1]Adulto!C206","v":"IVAN"},{"$f":"[1]Adulto!D206","v":"MENINOS FC"},{"$f":"[1]Adulto!E206","v":1498},{"$f":"[1]Adulto!F206","v":115},{"$f":"[1]Adulto!G206","v":0},199]
[{"$f":"[1]Adulto!A207","v":0},{"$f":"[1]Adulto!B207","v":200},{"$f":"[1]Adulto!C207","v":"VITOR HUGO"},{"$f":"[1]Adulto!D207","v":"S.A.V.MARIA ZELIA"},{"$f":"[1]Adulto!E207","v":1569},{"$f":"[1]Adulto!F207","v":112},{"$f":"[1]Adulto!G207","v":-3},200]
[{"$f":"[1]Adulto!A208","v":0},{"$f":"[1]Adulto!B208","v":201},{"$f":"[1]Adulto!C208","v":"MARCOS ALMEIDA"},{"$f":"[1]Adulto!D208","v":"E.C. NOROESTE"},{"$f":"[1]Adulto!E208","v":2239},{"$f":"[1]Adulto!F208","v":112},{"$f":"[1]Adulto!G208","v":0},201]
[{"$f":"[1]Adulto!A209","v":0},{"$f":"[1]Adulto!B209","v":202},{"$f":"[1]Adulto!C209","v":"ARTUR"},{"$f":"[1]Adulto!D209","v":"S.E.PALMEIRAS"},{"$f":"[1]Adulto!E209","v":657},{"$f":"[1]Adulto!F209","v":110},{"$f":"[1]Adulto!G209","v":-2},202]
[{"$f":"[1]Adulto!A210","v":0},{"$f":"[1]Adulto!B210","v":203},{"$f":"[1]Adulto!C210","v":"RUBETTA"},{"$f":"[1]Adulto!D210","v":"MENINOS FC"},{"$f":"[1]Adulto!E210","v":803},{"$f":"[1]Adulto!F210","v":105},{"$f":"[1]Adulto!G210","v":-5},203]
[{"$f":"[1]Adulto!A211","v":0},{"$f":"[1]Adulto!B211","v":204},{"$f":"[1]Adulto!C211","v":"CESAR CANUTTI"},{"$f":"[1]Adulto!D211","v":"CISPLATINA F.C."},{"$f":"[1]Adulto!E211","v":185},{"$f":"[1]Adulto!F211","v":99},{"$f":"[1]Adulto!G211","v":-6},204]
[{"$f":"[1]Adulto!A212","v":0},{"$f":"[1]Adulto!B212","v":205},{"$f":"[1]Adulto!C212","v":"MOLINEIRO"},{"$f":"[1]Adulto!D212","v":"S.A.V.MARIA ZELIA"},{"$f":"[1]Adulto!E212","v":2254},{"$f":"[1]Adulto!F212","v":97.59},{"$f":"[1]Adulto!G212","v":-1.4099999999999966},205]
[{"$f":"[1]Adulto!A213","v":0},{"$f":"[1]Adulto!B213","v":206},{"$f":"[1]Adulto!C213","v":"MARCELO AMORIM"},{"$f":"[1]Adulto!D213","v":"S.A.V.MARIA ZELIA"},{"$f":"[1]Adulto!E213","v":2170},{"$f":"[1]Adulto!F213","v":96},{"$f":"[1]Adulto!G213","v":-1.5900000000000034},206]
[{"$f":"[1]Adulto!A214","v":0},{"$f":"[1]Adulto!B214","v":207},{"$f":"[1]Adulto!C214","v":"FABIO GODINHO"},{"$f":"[1]Adulto!D214","v":"E.C. NOROESTE"},{"$f":"[1]Adulto!E214","v":2229},{"$f":"[1]Adulto!F214","v":91},{"$f":"[1]Adulto!G214","v":-5},207]
[{"$f":"[1]Adulto!A215","v":0},{"$f":"[1]Adulto!B215","v":208},{"$f":"[1]Adulto!C215","v":"VALINI"},{"$f":"[1]Adulto!D215","v":"SANTOS F.C."},{"$f":"[1]Adulto!E215","v":863},{"$f":"[1]Adulto!F215","v":90},{"$f":"[1]Adulto!G215","v":-1},208]
[{"$f":"[1]Adulto!A216","v":0},{"$f":"[1]Adulto!B216","v":209},{"$f":"[1]Adulto!C216","v":"THIAGO ROMAN"},{"$f":"[1]Adulto!D216","v":"S.A.V.MARIA ZELIA"},{"$f":"[1]Adulto!E216","v":1394},{"$f":"[1]Adulto!F216","v":90},{"$f":"[1]Adulto!G216","v":0},209]
[{"$f":"[1]Adulto!A217","v":0},{"$f":"[1]Adulto!B217","v":210},{"$f":"[1]Adulto!C217","v":"CESAR MORADEI"},{"$f":"[1]Adulto!D217","v":"MENINOS FC"},{"$f":"[1]Adulto!E217","v":2049},{"$f":"[1]Adulto!F217","v":74},{"$f":"[1]Adulto!G217","v":-16},210]
[{"$f":"[1]Adulto!A218","v":0},{"$f":"[1]Adulto!B218","v":211},{"$f":"[1]Adulto!C218","v":"ALBERTO"},{"$f":"[1]Adulto!D218","v":"MENINOS FC"},{"$f":"[1]Adulto!E218","v":842},{"$f":"[1]Adulto!F218","v":68},{"$f":"[1]Adulto!G218","v":-6},211]
[{"$f":"[1]Adulto!A219","v":0},{"$f":"[1]Adulto!B219","v":212},{"$f":"[1]Adulto!C219","v":"CORUJA"},{"$f":"[1]Adulto!D219","v":"C.R.E.FUNDACAO"},{"$f":"[1]Adulto!E219","v":909},{"$f":"[1]Adulto!F219","v":62},{"$f":"[1]Adulto!G219","v":-6},212]
[{"$f":"[1]Adulto!A220","v":0},{"$f":"[1]Adulto!B220","v":213},{"$f":"[1]Adulto!C220","v":"MARCANTE"},{"$f":"[1]Adulto!D220","v":"CISPLATINA F.C."},{"$f":"[1]Adulto!E220","v":1377},{"$f":"[1]Adulto!F220","v":60},{"$f":"[1]Adulto!G220","v":-2},213]
[{"$f":"[1]Adulto!A221","v":0},{"$f":"[1]Adulto!B221","v":214},{"$f":"[1]Adulto!C221","v":"ALCANTARA"},{"$f":"[1]Adulto!D221","v":"NACIONAL A.C."},{"$f":"[1]Adulto!E221","v":749},{"$f":"[1]Adulto!F221","v":60},{"$f":"[1]Adulto!G221","v":0},214]
[{"$f":"[1]Adulto!A222","v":0},{"$f":"[1]Adulto!B222","v":215},{"$f":"[1]Adulto!C222","v":"DA SILVA"},{"$f":"[1]Adulto!D222","v":"S.C.CORINTHIANS PTA"},{"$f":"[1]Adulto!E222","v":828},{"$f":"[1]Adulto!F222","v":57},{"$f":"[1]Adulto!G222","v":-3},215]
[{"$f":"[1]Adulto!A223","v":0},{"$f":"[1]Adulto!B223","v":216},{"$f":"[1]Adulto!C223","v":"NARDUCHE"},{"$f":"[1]Adulto!D223","v":"S.E.PALMEIRAS"},{"$f":"[1]Adulto!E223","v":998},{"$f":"[1]Adulto!F223","v":55},{"$f":"[1]Adulto!G223","v":-2},216]
[{"$f":"[1]Adulto!A224","v":0},{"$f":"[1]Adulto!B224","v":217},{"$f":"[1]Adulto!C224","v":"VICTOR VAROLI"},{"$f":"[1]Adulto!D224","v":"CIRCULO MILITAR SP"},{"$f":"[1]Adulto!E224","v":1955},{"$f":"[1]Adulto!F224","v":50},{"$f":"[1]Adulto!G224","v":-5},217]
[{"$f":"[1]Adulto!A225","v":0},{"$f":"[1]Adulto!B225","v":218},{"$f":"[1]Adulto!C225","v":"CEZZARETTI"},{"$f":"[1]Adulto!D225","v":"CISPLATINA F.C."},{"$f":"[1]Adulto!E225","v":2082},{"$f":"[1]Adulto!F225","v":50},{"$f":"[1]Adulto!G225","v":0},218]
[{"$f":"[1]Adulto!A226","v":0},{"$f":"[1]Adulto!B226","v":219},{"$f":"[1]Adulto!C226","v":"MARIO FIORE"},{"$f":"[1]Adulto!D226","v":"CIRCULO MILITAR SP"},{"$f":"[1]Adulto!E226","v":2253},{"$f":"[1]Adulto!F226","v":50},{"$f":"[1]Adulto!G226","v":0},219]
[{"$f":"[1]Adulto!A227","v":0},{"$f":"[1]Adulto!B227","v":220},{"$f":"[1]Adulto!C227","v":"RYCARDO"},{"$f":"[1]Adulto!D227","v":"XV DE AGOSTO"},{"$f":"[1]Adulto!E227","v":2009},{"$f":"[1]Adulto!F227","v":45},{"$f":"[1]Adulto!G227","v":-5},220]
[{"$f":"[1]Adulto!A228","v":0},{"$f":"[1]Adulto!B228","v":221},{"$f":"[1]Adulto!C228","v":"ALMEIDA"},{"$f":"[1]Adulto!D228","v":"C.R.E.FUNDACAO"},{"$f":"[1]Adulto!E228","v":2244},{"$f":"[1]Adulto!F228","v":45},{"$f":"[1]Adulto!G228","v":0},221]
[{"$f":"[1]Adulto!A229","v":0},{"$f":"[1]Adulto!B229","v":222},{"$f":"[1]Adulto!C229","v":"PIERRI"},{"$f":"[1]Adulto!D229","v":"SAO JUDAS"},{"$f":"[1]Adulto!E229","v":1105},{"$f":"[1]Adulto!F229","v":40},{"$f":"[1]Adulto!G229","v":-5},222]
[{"$f":"[1]Adulto!A230","v":0},{"$f":"[1]Adulto!B230","v":223},{"$f":"[1]Adulto!C230","v":"ASSI"},{"$f":"[1]Adulto!D230","v":"MENINOS FC"},{"$f":"[1]Adulto!E230","v":1812},{"$f":"[1]Adulto!F230","v":40},{"$f":"[1]Adulto!G230","v":0},223]
[{"$f":"[1]Adulto!A231","v":0},{"$f":"[1]Adulto!B231","v":224},{"$f":"[1]Adulto!C231","v":"MAURO LUIZ"},{"$f":"[1]Adulto!D231","v":"NACIONAL A.C."},{"$f":"[1]Adulto!E231","v":2250},{"$f":"[1]Adulto!F231","v":37},{"$f":"[1]Adulto!G231","v":-3},224]
[{"$f":"[1]Adulto!A232","v":0},{"$f":"[1]Adulto!B232","v":225},{"$f":"[1]Adulto!C232","v":"GORDO"},{"$f":"[1]Adulto!D232","v":"AUFM"},{"$f":"[1]Adulto!E232","v":1776},{"$f":"[1]Adulto!F232","v":37},{"$f":"[1]Adulto!G232","v":0},225]
[{"$f":"[1]Adulto!A233","v":0},{"$f":"[1]Adulto!B233","v":226},{"$f":"[1]Adulto!C233","v":"RENE CASTRO"},{"$f":"[1]Adulto!D233","v":"C.R.E.FUNDACAO"},{"$f":"[1]Adulto!E233","v":1888},{"$f":"[1]Adulto!F233","v":31},{"$f":"[1]Adulto!G233","v":-6},226]
[{"$f":"[1]Adulto!A234","v":0},{"$f":"[1]Adulto!B234","v":227},{"$f":"[1]Adulto!C234","v":"RUI DIAS"},{"$f":"[1]Adulto!D234","v":"LIGA JACAREIENSE"},{"$f":"[1]Adulto!E234","v":2045},{"$f":"[1]Adulto!F234","v":25},{"$f":"[1]Adulto!G234","v":-6},227]
[{"$f":"[1]Adulto!A235","v":0},{"$f":"[1]Adulto!B235","v":228},{"$f":"[1]Adulto!C235","v":"FESTA"},{"$f":"[1]Adulto!D235","v":"S.A.V.MARIA ZELIA"},{"$f":"[1]Adulto!E235","v":2171},{"$f":"[1]Adulto!F235","v":25},{"$f":"[1]Adulto!G235","v":0},228]
[{"$f":"[1]Adulto!A236","v":0},{"$f":"[1]Adulto!B236","v":229},{"$f":"[1]Adulto!C236","v":"LEO"},{"$f":"[1]Adulto!D236","v":"XV DE AGOSTO"},{"$f":"[1]Adulto!E236","v":"SNo6"},{"$f":"[1]Adulto!F236","v":25},{"$f":"[1]Adulto!G236","v":0},229]
[{"$f":"[1]Adulto!A237","v":0},{"$f":"[1]Adulto!B237","v":230},{"$f":"[1]Adulto!C237","v":"CAHUE"},{"$f":"[1]Adulto!D237","v":"MENINOS FC"},{"$f":"[1]Adulto!E237","v":1251},{"$f":"[1]Adulto!F237","v":25},{"$f":"[1]Adulto!G237","v":0},230]
[{"$f":"[1]Adulto!A238","v":0},{"$f":"[1]Adulto!B238","v":231},{"$f":"[1]Adulto!C238","v":"TIAGO DA PAZ"},{"$f":"[1]Adulto!D238","v":"LIGA JACAREIENSE"},{"$f":"[1]Adulto!E238","v":"SNo3"},{"$f":"[1]Adulto!F238","v":20},{"$f":"[1]Adulto!G238","v":-5},231]
[{"$f":"[1]Adulto!A239","v":0},{"$f":"[1]Adulto!B239","v":232},{"$f":"[1]Adulto!C239","v":"VINICIUS ANDREUCCI"},{"$f":"[1]Adulto!D239","v":"XV DE AGOSTO"},{"$f":"[1]Adulto!E239","v":2106},{"$f":"[1]Adulto!F239","v":20},{"$f":"[1]Adulto!G239","v":0},232]
[{"$f":"[1]Adulto!A240","v":0},{"$f":"[1]Adulto!B240","v":0},{"$f":"[1]Adulto!C240","v":0},{"$f":"[1]Adulto!D240","v":0},{"$f":"[1]Adulto!E240","v":0},{"$f":"[1]Adulto!F240","v":0},{"$f":"[1]Adulto!G240","v":0},0]
[{"$f":"[1]Adulto!A241","v":0},{"$f":"[1]Adulto!B241","v":0},{"$f":"[1]Adulto!C241","v":0},{"$f":"[1]Adulto!D241","v":0},{"$f":"[1]Adulto!E241","v":0},{"$f":"[1]Adulto!F241","v":0},{"$f":"[1]Adulto!G241","v":0},0]
[{"$f":"[1]Adulto!A242","v":0},{"$f":"[1]Adulto!B242","v":0},{"$f":"[1]Adulto!C242","v":0},{"$f":"[1]Adulto!D242","v":0},{"$f":"[1]Adulto!E242","v":0},{"$f":"[1]Adulto!F242","v":0},{"$f":"[1]Adulto!G242","v":0},0]
[{"$f":"[1]Adulto!A243","v":0},{"$f":"[1]Adulto!B243","v":0},{"$f":"[1]Adulto!C243","v":0},{"$f":"[1]Adulto!D243","v":0},{"$f":"[1]Adulto!E243","v":0},{"$f":"[1]Adulto!F243","v":0},{"$f":"[1]Adulto!G243","v":0},0]
[{"$f":"[1]Adulto!A244","v":0},{"$f":"[1]Adulto!B244","v":0},{"$f":"[1]Adulto!C244","v":0},{"$f":"[1]Adulto!D244","v":0},{"$f":"[1]Adulto!E244","v":0},{"$f":"[1]Adulto!F244","v":0},{"$f":"[1]Adulto!G244","v":0},0]
[{"$f":"[1]Adulto!A245","v":0},{"$f":"[1]Adulto!B245","v":0},{"$f":"[1]Adulto!C245","v":0},{"$f":"[1]Adulto!D245","v":0},{"$f":"[1]Adulto!E245","v":0},{"$f":"[1]Adulto!F245","v":0},{"$f":"[1]Adulto!G245","v":0},0]
[{"$f":"[1]Adulto!A246","v":0},{"$f":"[1]Adulto!B246","v":0},{"$f":"[1]Adulto!C246","v":0},{"$f":"[1]Adulto!D246","v":0},{"$f":"[1]Adulto!E246","v":0},{"$f":"[1]Adulto!F246","v":0},{"$f":"[1]Adulto!G246","v":0},0]
[{"$f":"[1]Adulto!A247","v":0},{"$f":"[1]Adulto!B247","v":0},{"$f":"[1]Adulto!C247","v":0},{"$f":"[1]Adulto!D247","v":0},{"$f":"[1]Adulto!E247","v":0},{"$f":"[1]Adulto!F247","v":0},{"$f":"[1]Adulto!G247","v":0},0]
[{"$f":"[1]Adulto!A248","v":0},{"$f":"[1]Adulto!B248","v":0},{"$f":"[1]Adulto!C248","v":0},{"$f":"[1]Adulto!D248","v":0},{"$f":"[1]Adulto!E248","v":0},{"$f":"[1]Adulto!F248","v":0},{"$f":"[1]Adulto!G248","v":0},0]
[{"$f":"[1]Adulto!A249","v":0},{"$f":"[1]Adulto!B249","v":0},{"$f":"[1]Adulto!C249","v":0},{"$f":"[1]Adulto!D249","v":0},{"$f":"[1]Adulto!E249","v":0},{"$f":"[1]Adulto!F249","v":0},{"$f":"[1]Adulto!G249","v":0},0]
[{"$f":"[1]Adulto!A250","v":0},{"$f":"[1]Adulto!B250","v":0},{"$f":"[1]Adulto!C250","v":0},{"$f":"[1]Adulto!D250","v":0},{"$f":"[1]Adulto!E250","v":0},{"$f":"[1]Adulto!F250","v":0},{"$f":"[1]Adulto!G250","v":0},0]
[{"$f":"[1]Adulto!A251","v":0},{"$f":"[1]Adulto!B251","v":0},{"$f":"[1]Adulto!C251","v":0},{"$f":"[1]Adulto!D251","v":0},{"$f":"[1]Adulto!E251","v":0},{"$f":"[1]Adulto!F251","v":0},{"$f":"[1]Adulto!G251","v":0},0]
[{"$f":"[1]Adulto!A252","v":0},{"$f":"[1]Adulto!B252","v":0},{"$f":"[1]Adulto!C252","v":0},{"$f":"[1]Adulto!D252","v":0},{"$f":"[1]Adulto!E252","v":0},{"$f":"[1]Adulto!F252","v":0},{"$f":"[1]Adulto!G252","v":0},0]
[{"$f":"[1]Adulto!A253","v":0},{"$f":"[1]Adulto!B253","v":0},{"$f":"[1]Adulto!C253","v":0},{"$f":"[1]Adulto!D253","v":0},{"$f":"[1]Adulto!E253","v":0},{"$f":"[1]Adulto!F253","v":0},{"$f":"[1]Adulto!G253","v":0},0]
[{"$f":"[1]Adulto!A254","v":0},{"$f":"[1]Adulto!B254","v":0},{"$f":"[1]Adulto!C254","v":0},{"$f":"[1]Adulto!D254","v":0},{"$f":"[1]Adulto!E254","v":0},{"$f":"[1]Adulto!F254","v":0},{"$f":"[1]Adulto!G254","v":0},0]
[{"$f":"[1]Adulto!A255","v":0},{"$f":"[1]Adulto!B255","v":0},{"$f":"[1]Adulto!C255","v":0},{"$f":"[1]Adulto!D255","v":0},{"$f":"[1]Adulto!E255","v":0},{"$f":"[1]Adulto!F255","v":0},{"$f":"[1]Adulto!G255","v":0},0]
[{"$f":"[1]Adulto!A256","v":0},{"$f":"[1]Adulto!B256","v":0},{"$f":"[1]Adulto!C256","v":0},{"$f":"[1]Adulto!D256","v":0},{"$f":"[1]Adulto!E256","v":0},{"$f":"[1]Adulto!F256","v":0},{"$f":"[1]Adulto!G256","v":0},0]
[{"$f":"[1]Adulto!A257","v":0},{"$f":"[1]Adulto!B257","v":0},{"$f":"[1]Adulto!C257","v":0},{"$f":"[1]Adulto!D257","v":0},{"$f":"[1]Adulto!E257","v":0},{"$f":"[1]Adulto!F257","v":0},{"$f":"[1]Adulto!G257","v":0},0]
[{"$f":"[1]Adulto!A258","v":0},{"$f":"[1]Adulto!B258","v":0},{"$f":"[1]Adulto!C258","v":0},{"$f":"[1]Adulto!D258","v":0},{"$f":"[1]Adulto!E258","v":0},{"$f":"[1]Adulto!F258","v":0},{"$f":"[1]Adulto!G258","v":0},0]
[{"$f":"[1]Adulto!A259","v":0},{"$f":"[1]Adulto!B259","v":0},{"$f":"[1]Adulto!C259","v":0},{"$f":"[1]Adulto!D259","v":0},{"$f":"[1]Adulto!E259","v":0},{"$f":"[1]Adulto!F259","v":0},{"$f":"[1]Adulto!G259","v":0},0]
[{"$f":"[1]Adulto!A260","v":0},{"$f":"[1]Adulto!B260","v":0},{"$f":"[1]Adulto!C260","v":0},{"$f":"[1]Adulto!D260","v":0},{"$f":"[1]Adulto!E260","v":0},{"$f":"[1]Adulto!F260","v":0},{"$f":"[1]Adulto!G260","v":0},0]
[{"$f":"[1]Adulto!A261","v":0},{"$f":"[1]Adulto!B261","v":0},{"$f":"[1]Adulto!C261","v":0},{"$f":"[1]Adulto!D261","v":0},{"$f":"[1]Adulto!E261","v":0},{"$f":"[1]Adulto!F261","v":0},{"$f":"[1]Adulto!G261","v":0},0]
[{"$f":"[1]Adulto!A262","v":0},{"$f":"[1]Adulto!B262","v":0},{"$f":"[1]Adulto!C262","v":0},{"$f":"[1]Adulto!D262","v":0},{"$f":"[1]Adulto!E262","v":0},{"$f":"[1]Adulto!F262","v":0},{"$f":"[1]Adulto!G262","v":0},0]
[{"$f":"[1]Adulto!A263","v":0},{"$f":"[1]Adulto!B263","v":0},{"$f":"[1]Adulto!C263","v":0},{"$f":"[1]Adulto!D263","v":0},{"$f":"[1]Adulto!E263","v":0},{"$f":"[1]Adulto!F263","v":0},{"$f":"[1]Adulto!G263","v":0},0]
[{"$f":"[1]Adulto!A264","v":0},{"$f":"[1]Adulto!B264","v":0},{"$f":"[1]Adulto!C264","v":0},{"$f":"[1]Adulto!D264","v":0},{"$f":"[1]Adulto!E264","v":0},{"$f":"[1]Adulto!F264","v":0},{"$f":"[1]Adulto!G264","v":0},{"$f":"B258","v":0}]
[{"$f":"[1]Adulto!A265","v":0},{"$f":"[1]Adulto!B265","v":0},{"$f":"[1]Adulto!C265","v":0},{"$f":"[1]Adulto!D265","v":0},{"$f":"[1]Adulto!E265","v":0},{"$f":"[1]Adulto!F265","v":0},{"$f":"[1]Adulto!G265","v":0},0]
[{"$f":"[1]Adulto!A266","v":0},{"$f":"[1]Adulto!B266","v":0},{"$f":"[1]Adulto!C266","v":0},{"$f":"[1]Adulto!D266","v":0},{"$f":"[1]Adulto!E266","v":0},{"$f":"[1]Adulto!F266","v":0},{"$f":"[1]Adulto!G266","v":0},0]
[{"$f":"[1]Adulto!A267","v":0},{"$f":"[1]Adulto!B267","v":0},{"$f":"[1]Adulto!C267","v":0},{"$f":"[1]Adulto!D267","v":0},{"$f":"[1]Adulto!E267","v":0},{"$f":"[1]Adulto!F267","v":0},{"$f":"[1]Adulto!G267","v":0},0]
[{"$f":"[1]Adulto!A268","v":0},{"$f":"[1]Adulto!B268","v":0},{"$f":"[1]Adulto!C268","v":0},{"$f":"[1]Adulto!D268","v":0},{"$f":"[1]Adulto!E268","v":0},{"$f":"[1]Adulto!F268","v":0},{"$f":"[1]Adulto!G268","v":0},0]
[{"$f":"[1]Adulto!A269","v":0},{"$f":"[1]Adulto!B269","v":0},{"$f":"[1]Adulto!C269","v":0},{"$f":"[1]Adulto!D269","v":0},{"$f":"[1]Adulto!E269","v":0},{"$f":"[1]Adulto!F269","v":0},{"$f":"[1]Adulto!G269","v":0},0]
[{"$f":"[1]Adulto!A270","v":0},{"$f":"[1]Adulto!B270","v":0},{"$f":"[1]Adulto!C270","v":0},{"$f":"[1]Adulto!D270","v":0},{"$f":"[1]Adulto!E270","v":0},{"$f":"[1]Adulto!F270","v":0},{"$f":"[1]Adulto!G270","v":0},0]
[{"$f":"[1]Adulto!A271","v":0},{"$f":"[1]Adulto!B271","v":0},{"$f":"[1]Adulto!C271","v":0},{"$f":"[1]Adulto!D271","v":0},{"$f":"[1]Adulto!E271","v":0},{"$f":"[1]Adulto!F271","v":0},{"$f":"[1]Adulto!G271","v":0},0]
[{"$f":"[1]Adulto!A272","v":0},{"$f":"[1]Adulto!B272","v":0},{"$f":"[1]Adulto!C272","v":0},{"$f":"[1]Adulto!D272","v":0},{"$f":"[1]Adulto!E272","v":0},{"$f":"[1]Adulto!F272","v":0},{"$f":"[1]Adulto!G272","v":0},0]
[{"$f":"[1]Adulto!A273","v":0},{"$f":"[1]Adulto!B273","v":0},{"$f":"[1]Adulto!C273","v":0},{"$f":"[1]Adulto!D273","v":0},{"$f":"[1]Adulto!E273","v":0},{"$f":"[1]Adulto!F273","v":0},{"$f":"[1]Adulto!G273","v":0},0]
[{"$f":"[1]Adulto!A274","v":0},{"$f":"[1]Adulto!B274","v":0},{"$f":"[1]Adulto!C274","v":0},{"$f":"[1]Adulto!D274","v":0},{"$f":"[1]Adulto!E274","v":0},{"$f":"[1]Adulto!F274","v":0},{"$f":"[1]Adulto!G274","v":0},0]
[{"$f":"[1]Adulto!A275","v":0},{"$f":"[1]Adulto!B275","v":0},{"$f":"[1]Adulto!C275","v":0},{"$f":"[1]Adulto!D275","v":0},{"$f":"[1]Adulto!E275","v":0},{"$f":"[1]Adulto!F275","v":0},{"$f":"[1]Adulto!G275","v":0},0]
[{"$f":"[1]Adulto!A276","v":0},{"$f":"[1]Adulto!B276","v":0},{"$f":"[1]Adulto!C276","v":0},{"$f":"[1]Adulto!D276","v":0},{"$f":"[1]Adulto!E276","v":0},{"$f":"[1]Adulto!F276","v":0},{"$f":"[1]Adulto!G276","v":0},0]
[{"$f":"[1]Adulto!A277","v":0},{"$f":"[1]Adulto!B277","v":0},{"$f":"[1]Adulto!C277","v":0},{"$f":"[1]Adulto!D277","v":0},{"$f":"[1]Adulto!E277","v":0},{"$f":"[1]Adulto!F277","v":0},{"$f":"[1]Adulto!G277","v":0},0]
[{"$f":"[1]Adulto!A278","v":0},{"$f":"[1]Adulto!B278","v":0},{"$f":"[1]Adulto!C278","v":0},{"$f":"[1]Adulto!D278","v":0},{"$f":"[1]Adulto!E278","v":0},{"$f":"[1]Adulto!F278","v":0},{"$f":"[1]Adulto!G278","v":0},0]
[{"$f":"[1]Adulto!A279","v":0},{"$f":"[1]Adulto!B279","v":0},{"$f":"[1]Adulto!C279","v":0},{"$f":"[1]Adulto!D279","v":0},{"$f":"[1]Adulto!E279","v":0},{"$f":"[1]Adulto!F279","v":0},{"$f":"[1]Adulto!G279","v":0},0]
[{"$f":"[1]Adulto!A280","v":0},{"$f":"[1]Adulto!B280","v":0},{"$f":"[1]Adulto!C280","v":0},{"$f":"[1]Adulto!D280","v":0},{"$f":"[1]Adulto!E280","v":0},{"$f":"[1]Adulto!F280","v":0},{"$f":"[1]Adulto!G280","v":0},0]
[{"$f":"[1]Adulto!A281","v":0},{"$f":"[1]Adulto!B281","v":0},{"$f":"[1]Adulto!C281","v":0},{"$f":"[1]Adulto!D281","v":0},{"$f":"[1]Adulto!E281","v":0},{"$f":"[1]Adulto!F281","v":0},{"$f":"[1]Adulto!G281","v":0},0]
[{"$f":"[1]Adulto!A282","v":0},{"$f":"[1]Adulto!B282","v":0},{"$f":"[1]Adulto!C282","v":0},{"$f":"[1]Adulto!D282","v":0},{"$f":"[1]Adulto!E282","v":0},{"$f":"[1]Adulto!F282","v":0},{"$f":"[1]Adulto!G282","v":0},0]
[{"$f":"[1]Adulto!A283","v":0},{"$f":"[1]Adulto!B283","v":0},{"$f":"[1]Adulto!C283","v":0},{"$f":"[1]Adulto!D283","v":0},{"$f":"[1]Adulto!E283","v":0},{"$f":"[1]Adulto!F283","v":0},{"$f":"[1]Adulto!G283","v":0},0]
[{"$f":"[1]Adulto!A284","v":0},{"$f":"[1]Adulto!B284","v":0},{"$f":"[1]Adulto!C284","v":0},{"$f":"[1]Adulto!D284","v":0},{"$f":"[1]Adulto!E284","v":0},{"$f":"[1]Adulto!F284","v":0},{"$f":"[1]Adulto!G284","v":0},0]
[{"$f":"[1]Adulto!A285","v":0},{"$f":"[1]Adulto!B285","v":0},{"$f":"[1]Adulto!C285","v":0},{"$f":"[1]Adulto!D285","v":0},{"$f":"[1]Adulto!E285","v":0},{"$f":"[1]Adulto!F285","v":0},{"$f":"[1]Adulto!G285","v":0},0]
[{"$f":"[1]Adulto!A286","v":0},{"$f":"[1]Adulto!B286","v":0},{"$f":"[1]Adulto!C286","v":0},{"$f":"[1]Adulto!D286","v":0},{"$f":"[1]Adulto!E286","v":0},{"$f":"[1]Adulto!F286","v":0},{"$f":"[1]Adulto!G286","v":0},0]
[{"$f":"[1]Adulto!A287","v":0},{"$f":"[1]Adulto!B287","v":0},{"$f":"[1]Adulto!C287","v":0},{"$f":"[1]Adulto!D287","v":0},{"$f":"[1]Adulto!E287","v":0},{"$f":"[1]Adulto!F287","v":0},{"$f":"[1]Adulto!G287","v":0},0]
[{"$f":"[1]Adulto!A288","v":0},{"$f":"[1]Adulto!B288","v":0},{"$f":"[1]Adulto!C288","v":0},{"$f":"[1]Adulto!D288","v":0},{"$f":"[1]Adulto!E288","v":0},{"$f":"[1]Adulto!F288","v":0},{"$f":"[1]Adulto!G288","v":0},0]
[{"$f":"[1]Adulto!A289","v":0},{"$f":"[1]Adulto!B289","v":0},{"$f":"[1]Adulto!C289","v":0},{"$f":"[1]Adulto!D289","v":0},{"$f":"[1]Adulto!E289","v":0},{"$f":"[1]Adulto!F289","v":0},{"$f":"[1]Adulto!G289","v":0},0]
[{"$f":"[1]Adulto!A290","v":0},{"$f":"[1]Adulto!B290","v":0},{"$f":"[1]Adulto!C290","v":0},{"$f":"[1]Adulto!D290","v":0},{"$f":"[1]Adulto!E290","v":0},{"$f":"[1]Adulto!F290","v":0},{"$f":"[1]Adulto!G290","v":0},0]
[{"$f":"[1]Adulto!A291","v":0},{"$f":"[1]Adulto!B291","v":0},{"$f":"[1]Adulto!C291","v":0},{"$f":"[1]Adulto!D291","v":0},{"$f":"[1]Adulto!E291","v":0},{"$f":"[1]Adulto!F291","v":0},{"$f":"[1]Adulto!G291","v":0},0]
[{"$f":"[1]Adulto!A292","v":0},{"$f":"[1]Adulto!B292","v":0},{"$f":"[1]Adulto!C292","v":0},{"$f":"[1]Adulto!D292","v":0},{"$f":"[1]Adulto!E292","v":0},{"$f":"[1]Adulto!F292","v":0},{"$f":"[1]Adulto!G292","v":0},0]
[{"$f":"[1]Adulto!A293","v":0},{"$f":"[1]Adulto!B293","v":0},{"$f":"[1]Adulto!C293","v":0},{"$f":"[1]Adulto!D293","v":0},{"$f":"[1]Adulto!E293","v":0},{"$f":"[1]Adulto!F293","v":0},{"$f":"[1]Adulto!G293","v":0},0]
[{"$f":"[1]Adulto!A294","v":0},{"$f":"[1]Adulto!B294","v":0},{"$f":"[1]Adulto!C294","v":0},{"$f":"[1]Adulto!D294","v":0},{"$f":"[1]Adulto!E294","v":0},{"$f":"[1]Adulto!F294","v":0},{"$f":"[1]Adulto!G294","v":0},0]
[{"$f":"[1]Adulto!A295","v":0},{"$f":"[1]Adulto!B295","v":0},{"$f":"[1]Adulto!C295","v":0},{"$f":"[1]Adulto!D295","v":0},{"$f":"[1]Adulto!E295","v":0},{"$f":"[1]Adulto!F295","v":0},{"$f":"[1]Adulto!G295","v":0},0]
[{"$f":"[1]Adulto!A296","v":0},{"$f":"[1]Adulto!B296","v":0},{"$f":"[1]Adulto!C296","v":0},{"$f":"[1]Adulto!D296","v":0},{"$f":"[1]Adulto!E296","v":0},{"$f":"[1]Adulto!F296","v":0},{"$f":"[1]Adulto!G296","v":0},0]
[{"$f":"[1]Adulto!A297","v":0},{"$f":"[1]Adulto!B297","v":0},{"$f":"[1]Adulto!C297","v":0},{"$f":"[1]Adulto!D297","v":0},{"$f":"[1]Adulto!E297","v":0},{"$f":"[1]Adulto!F297","v":0},{"$f":"[1]Adulto!G297","v":0},0]
[{"$f":"[1]Adulto!A298","v":0},{"$f":"[1]Adulto!B298","v":0},{"$f":"[1]Adulto!C298","v":0},{"$f":"[1]Adulto!D298","v":0},{"$f":"[1]Adulto!E298","v":0},{"$f":"[1]Adulto!F298","v":0},{"$f":"[1]Adulto!G298","v":0},0]
[{"$f":"[1]Adulto!A299","v":0},{"$f":"[1]Adulto!B299","v":0},{"$f":"[1]Adulto!C299","v":0},{"$f":"[1]Adulto!D299","v":0},{"$f":"[1]Adulto!E299","v":0},{"$f":"[1]Adulto!F299","v":0},{"$f":"[1]Adulto!G299","v":0},0]
[{"$f":"[1]Adulto!A300","v":0},{"$f":"[1]Adulto!B300","v":0},{"$f":"[1]Adulto!C300","v":0},{"$f":"[1]Adulto!D300","v":0},{"$f":"[1]Adulto!E300","v":0},{"$f":"[1]Adulto!F300","v":0},{"$f":"[1]Adulto!G300","v":0},0]
[{"$f":"[1]Adulto!A301","v":0},{"$f":"[1]Adulto!B301","v":0},{"$f":"[1]Adulto!C301","v":0},{"$f":"[1]Adulto!D301","v":0},{"$f":"[1]Adulto!E301","v":0},{"$f":"[1]Adulto!F301","v":0},{"$f":"[1]Adulto!G301","v":0},0]
[{"$f":"[1]Adulto!A302","v":0},{"$f":"[1]Adulto!B302","v":0},{"$f":"[1]Adulto!C302","v":0},{"$f":"[1]Adulto!D302","v":0},{"$f":"[1]Adulto!E302","v":0},{"$f":"[1]Adulto!F302","v":0},{"$f":"[1]Adulto!G302","v":0},0]
[{"$f":"[1]Adulto!A303","v":0},{"$f":"[1]Adulto!B303","v":0},{"$f":"[1]Adulto!C303","v":0},{"$f":"[1]Adulto!D303","v":0},{"$f":"[1]Adulto!E303","v":0},{"$f":"[1]Adulto!F303","v":0},{"$f":"[1]Adulto!G303","v":0},0]
[{"$f":"[1]Adulto!A304","v":0},{"$f":"[1]Adulto!B304","v":0},{"$f":"[1]Adulto!C304","v":0},{"$f":"[1]Adulto!D304","v":0},{"$f":"[1]Adulto!E304","v":0},{"$f":"[1]Adulto!F304","v":0},{"$f":"[1]Adulto!G304","v":0},0]
[{"$f":"[1]Adulto!A305","v":0},{"$f":"[1]Adulto!B305","v":0},{"$f":"[1]Adulto!C305","v":0},{"$f":"[1]Adulto!D305","v":0},{"$f":"[1]Adulto!E305","v":0},{"$f":"[1]Adulto!F305","v":0},{"$f":"[1]Adulto!G305","v":0},0]
[{"$f":"[1]Adulto!A306","v":0},{"$f":"[1]Adulto!B306","v":0},{"$f":"[1]Adulto!C306","v":0},{"$f":"[1]Adulto!D306","v":0},{"$f":"[1]Adulto!E306","v":0},{"$f":"[1]Adulto!F306","v":0},{"$f":"[1]Adulto!G306","v":0},0]
[{"$f":"[1]Adulto!A307","v":0},{"$f":"[1]Adulto!B307","v":0},{"$f":"[1]Adulto!C307","v":0},{"$f":"[1]Adulto!D307","v":0},{"$f":"[1]Adulto!E307","v":0},{"$f":"[1]Adulto!F307","v":0},{"$f":"[1]Adulto!G307","v":0},0]
[{"$f":"[1]Adulto!A308","v":0},{"$f":"[1]Adulto!B308","v":0},{"$f":"[1]Adulto!C308","v":0},{"$f":"[1]Adulto!D308","v":0},{"$f":"[1]Adulto!E308","v":0},{"$f":"[1]Adulto!F308","v":0},{"$f":"[1]Adulto!G308","v":0},0]
[{"$f":"[1]Adulto!A309","v":0},{"$f":"[1]Adulto!B309","v":0},{"$f":"[1]Adulto!C309","v":0},{"$f":"[1]Adulto!D309","v":0},{"$f":"[1]Adulto!E309","v":0},{"$f":"[1]Adulto!F309","v":0},{"$f":"[1]Adulto!G309","v":0},0]
[{"$f":"[1]Adulto!A310","v":0},{"$f":"[1]Adulto!B310","v":0},{"$f":"[1]Adulto!C310","v":0},{"$f":"[1]Adulto!D310","v":0},{"$f":"[1]Adulto!E310","v":0},{"$f":"[1]Adulto!F310","v":0},{"$f":"[1]Adulto!G310","v":0},0]
[{"$f":"[1]Adulto!A311","v":0},{"$f":"[1]Adulto!B311","v":0},{"$f":"[1]Adulto!C311","v":0},{"$f":"[1]Adulto!D311","v":0},{"$f":"[1]Adulto!E311","v":0},{"$f":"[1]Adulto!F311","v":0},{"$f":"[1]Adulto!G311","v":0},0]
[{"$f":"[1]Adulto!A312","v":0},{"$f":"[1]Adulto!B312","v":0},{"$f":"[1]Adulto!C312","v":0},{"$f":"[1]Adulto!D312","v":0},{"$f":"[1]Adulto!E312","v":0},{"$f":"[1]Adulto!F312","v":0},{"$f":"[1]Adulto!G312","v":0},0]
[{"$f":"[1]Adulto!A313","v":0},{"$f":"[1]Adulto!B313","v":0},{"$f":"[1]Adulto!C313","v":0},{"$f":"[1]Adulto!D313","v":0},{"$f":"[1]Adulto!E313","v":0},{"$f":"[1]Adulto!F313","v":0},{"$f":"[1]Adulto!G313","v":0},0]
[{"$f":"[1]Adulto!A314","v":0},{"$f":"[1]Adulto!B314","v":0},{"$f":"[1]Adulto!C314","v":0},{"$f":"[1]Adulto!D314","v":0},{"$f":"[1]Adulto!E314","v":0},{"$f":"[1]Adulto!F314","v":0},{"$f":"[1]Adulto!G314","v":0},0]
[{"$f":"[1]Adulto!A315","v":0},{"$f":"[1]Adulto!B315","v":0},{"$f":"[1]Adulto!C315","v":0},{"$f":"[1]Adulto!D315","v":0},{"$f":"[1]Adulto!E315","v":0},{"$f":"[1]Adulto!F315","v":0},{"$f":"[1]Adulto!G315","v":0},0]
[{"$f":"[1]Adulto!A316","v":0},{"$f":"[1]Adulto!B316","v":0},{"$f":"[1]Adulto!C316","v":0},{"$f":"[1]Adulto!D316","v":0},{"$f":"[1]Adulto!E316","v":0},{"$f":"[1]Adulto!F316","v":0},{"$f":"[1]Adulto!G316","v":0},0]
[{"$f":"[1]Adulto!A317","v":0},{"$f":"[1]Adulto!B317","v":0},{"$f":"[1]Adulto!C317","v":0},{"$f":"[1]Adulto!D317","v":0},{"$f":"[1]Adulto!E317","v":0},{"$f":"[1]Adulto!F317","v":0},{"$f":"[1]Adulto!G317","v":0},0]
[{"$f":"[1]Adulto!A318","v":0},{"$f":"[1]Adulto!B318","v":0},{"$f":"[1]Adulto!C318","v":0},{"$f":"[1]Adulto!D318","v":0},{"$f":"[1]Adulto!E318","v":0},{"$f":"[1]Adulto!F318","v":0},{"$f":"[1]Adulto!G318","v":0},0]
[{"$f":"[1]Adulto!A319","v":0},{"$f":"[1]Adulto!B319","v":0},{"$f":"[1]Adulto!C319","v":0},{"$f":"[1]Adulto!D319","v":0},{"$f":"[1]Adulto!E319","v":0},{"$f":"[1]Adulto!F319","v":0},{"$f":"[1]Adulto!G319","v":0},0]
[{"$f":"[1]Adulto!A320","v":0},{"$f":"[1]Adulto!B320","v":0},{"$f":"[1]Adulto!C320","v":0},{"$f":"[1]Adulto!D320","v":0},{"$f":"[1]Adulto!E320","v":0},{"$f":"[1]Adulto!F320","v":0},{"$f":"[1]Adulto!G320","v":0},0]
[{"$f":"[1]Adulto!A321","v":0},{"$f":"[1]Adulto!B321","v":0},{"$f":"[1]Adulto!C321","v":0},{"$f":"[1]Adulto!D321","v":0},{"$f":"[1]Adulto!E321","v":0},{"$f":"[1]Adulto!F321","v":0},{"$f":"[1]Adulto!G321","v":0},0]
[{"$f":"[1]Adulto!A322","v":0},{"$f":"[1]Adulto!B322","v":0},{"$f":"[1]Adulto!C322","v":0},{"$f":"[1]Adulto!D322","v":0},{"$f":"[1]Adulto!E322","v":0},{"$f":"[1]Adulto!F322","v":0},{"$f":"[1]Adulto!G322","v":0},0]
[{"$f":"[1]Adulto!A323","v":0},{"$f":"[1]Adulto!B323","v":0},{"$f":"[1]Adulto!C323","v":0},{"$f":"[1]Adulto!D323","v":0},{"$f":"[1]Adulto!E323","v":0},{"$f":"[1]Adulto!F323","v":0},{"$f":"[1]Adulto!G323","v":0},0]
[{"$f":"[1]Adulto!A324","v":0},{"$f":"[1]Adulto!B324","v":0},{"$f":"[1]Adulto!C324","v":0},{"$f":"[1]Adulto!D324","v":0},{"$f":"[1]Adulto!E324","v":0},{"$f":"[1]Adulto!F324","v":0},{"$f":"[1]Adulto!G324","v":0},0]
[{"$f":"[1]Adulto!A325","v":0},{"$f":"[1]Adulto!B325","v":0},{"$f":"[1]Adulto!C325","v":0},{"$f":"[1]Adulto!D325","v":0},{"$f":"[1]Adulto!E325","v":0},{"$f":"[1]Adulto!F325","v":0},{"$f":"[1]Adulto!G325","v":0},0]
[{"$f":"[1]Adulto!A326","v":0},{"$f":"[1]Adulto!B326","v":0},{"$f":"[1]Adulto!C326","v":0},{"$f":"[1]Adulto!D326","v":0},{"$f":"[1]Adulto!E326","v":0},{"$f":"[1]Adulto!F326","v":0},{"$f":"[1]Adulto!G326","v":0},0]
[{"$f":"[1]Adulto!A327","v":0},{"$f":"[1]Adulto!B327","v":0},{"$f":"[1]Adulto!C327","v":0},{"$f":"[1]Adulto!D327","v":0},{"$f":"[1]Adulto!E327","v":0},{"$f":"[1]Adulto!F327","v":0},{"$f":"[1]Adulto!G327","v":0},0]
[{"$f":"[1]Adulto!A328","v":0},{"$f":"[1]Adulto!B328","v":0},{"$f":"[1]Adulto!C328","v":0},{"$f":"[1]Adulto!D328","v":0},{"$f":"[1]Adulto!E328","v":0},{"$f":"[1]Adulto!F328","v":0},{"$f":"[1]Adulto!G328","v":0},{"$f":"B322","v":0}]
[{"$f":"[1]Adulto!A329","v":0},{"$f":"[1]Adulto!B329","v":0},{"$f":"[1]Adulto!C329","v":0},{"$f":"[1]Adulto!D329","v":0},{"$f":"[1]Adulto!E329","v":0},{"$f":"[1]Adulto!F329","v":0},{"$f":"[1]Adulto!G329","v":0},0]
[{"$f":"[1]Adulto!A330","v":0},{"$f":"[1]Adulto!B330","v":0},{"$f":"[1]Adulto!C330","v":0},{"$f":"[1]Adulto!D330","v":0},{"$f":"[1]Adulto!E330","v":0},{"$f":"[1]Adulto!F330","v":0},{"$f":"[1]Adulto!G330","v":0},0]
[{"$f":"[1]Adulto!A331","v":0},{"$f":"[1]Adulto!B331","v":0},{"$f":"[1]Adulto!C331","v":0},{"$f":"[1]Adulto!D331","v":0},{"$f":"[1]Adulto!E331","v":0},{"$f":"[1]Adulto!F331","v":0},{"$f":"[1]Adulto!G331","v":0},0]
[{"$f":"[1]Adulto!A332","v":0},{"$f":"[1]Adulto!B332","v":0},{"$f":"[1]Adulto!C332","v":0},{"$f":"[1]Adulto!D332","v":0},{"$f":"[1]Adulto!E332","v":0},{"$f":"[1]Adulto!F332","v":0},{"$f":"[1]Adulto!G332","v":0},0]
[{"$f":"[1]Adulto!A333","v":0},{"$f":"[1]Adulto!B333","v":0},{"$f":"[1]Adulto!C333","v":0},{"$f":"[1]Adulto!D333","v":0},{"$f":"[1]Adulto!E333","v":0},{"$f":"[1]Adulto!F333","v":0},{"$f":"[1]Adulto!G333","v":0},0]
[{"$f":"[1]Adulto!A334","v":0},{"$f":"[1]Adulto!B334","v":0},{"$f":"[1]Adulto!C334","v":0},{"$f":"[1]Adulto!D334","v":0},{"$f":"[1]Adulto!E334","v":0},{"$f":"[1]Adulto!F334","v":0},{"$f":"[1]Adulto!G334","v":0},0]
[{"$f":"[1]Adulto!A335","v":0},{"$f":"[1]Adulto!B335","v":0},{"$f":"[1]Adulto!C335","v":0},{"$f":"[1]Adulto!D335","v":0},{"$f":"[1]Adulto!E335","v":0},{"$f":"[1]Adulto!F335","v":0},{"$f":"[1]Adulto!G335","v":0},0]
[{"$f":"[1]Adulto!A336","v":0},{"$f":"[1]Adulto!B336","v":0},{"$f":"[1]Adulto!C336","v":0},{"$f":"[1]Adulto!D336","v":0},{"$f":"[1]Adulto!E336","v":0},{"$f":"[1]Adulto!F336","v":0},{"$f":"[1]Adulto!G336","v":0},0]
[{"$f":"[1]Adulto!A337","v":0},{"$f":"[1]Adulto!B337","v":0},{"$f":"[1]Adulto!C337","v":0},{"$f":"[1]Adulto!D337","v":0},{"$f":"[1]Adulto!E337","v":0},{"$f":"[1]Adulto!F337","v":0},{"$f":"[1]Adulto!G337","v":0},0]
[{"$f":"[1]Adulto!A338","v":0},{"$f":"[1]Adulto!B338","v":0},{"$f":"[1]Adulto!C338","v":0},{"$f":"[1]Adulto!D338","v":0},{"$f":"[1]Adulto!E338","v":0},{"$f":"[1]Adulto!F338","v":0},{"$f":"[1]Adulto!G338","v":0},0]
[{"$f":"[1]Adulto!A339","v":0},{"$f":"[1]Adulto!B339","v":0},{"$f":"[1]Adulto!C339","v":0},{"$f":"[1]Adulto!D339","v":0},{"$f":"[1]Adulto!E339","v":0},{"$f":"[1]Adulto!F339","v":0},{"$f":"[1]Adulto!G339","v":0},0]
[{"$f":"[1]Adulto!A340","v":0},{"$f":"[1]Adulto!B340","v":0},{"$f":"[1]Adulto!C340","v":0},{"$f":"[1]Adulto!D340","v":0},{"$f":"[1]Adulto!E340","v":0},{"$f":"[1]Adulto!F340","v":0},{"$f":"[1]Adulto!G340","v":0},0]
[{"$f":"[1]Adulto!A341","v":0},{"$f":"[1]Adulto!B341","v":0},{"$f":"[1]Adulto!C341","v":0},{"$f":"[1]Adulto!D341","v":0},{"$f":"[1]Adulto!E341","v":0},{"$f":"[1]Adulto!F341","v":0},{"$f":"[1]Adulto!G341","v":0},0]
[{"$f":"[1]Adulto!A342","v":0},{"$f":"[1]Adulto!B342","v":0},{"$f":"[1]Adulto!C342","v":0},{"$f":"[1]Adulto!D342","v":0},{"$f":"[1]Adulto!E342","v":0},{"$f":"[1]Adulto!F342","v":0},{"$f":"[1]Adulto!G342","v":0},0]
[{"$f":"[1]Adulto!A343","v":0},{"$f":"[1]Adulto!B343","v":0},{"$f":"[1]Adulto!C343","v":0},{"$f":"[1]Adulto!D343","v":0},{"$f":"[1]Adulto!E343","v":0},{"$f":"[1]Adulto!F343","v":0},{"$f":"[1]Adulto!G343","v":0},0]
[{"$f":"[1]Adulto!A344","v":0},{"$f":"[1]Adulto!B344","v":0},{"$f":"[1]Adulto!C344","v":0},{"$f":"[1]Adulto!D344","v":0},{"$f":"[1]Adulto!E344","v":0},{"$f":"[1]Adulto!F344","v":0},{"$f":"[1]Adulto!G344","v":0},0]
[{"$f":"[1]Adulto!A345","v":0},{"$f":"[1]Adulto!B345","v":0},{"$f":"[1]Adulto!C345","v":0},{"$f":"[1]Adulto!D345","v":0},{"$f":"[1]Adulto!E345","v":0},{"$f":"[1]Adulto!F345","v":0},{"$f":"[1]Adulto!G345","v":0},0]
[{"$f":"[1]Adulto!A346","v":0},{"$f":"[1]Adulto!B346","v":0},{"$f":"[1]Adulto!C346","v":0},{"$f":"[1]Adulto!D346","v":0},{"$f":"[1]Adulto!E346","v":0},{"$f":"[1]Adulto!F346","v":0},{"$f":"[1]Adulto!G346","v":0},0]
[{"$f":"[1]Adulto!A347","v":0},{"$f":"[1]Adulto!B347","v":0},{"$f":"[1]Adulto!C347","v":0},{"$f":"[1]Adulto!D347","v":0},{"$f":"[1]Adulto!E347","v":0},{"$f":"[1]Adulto!F347","v":0},{"$f":"[1]Adulto!G347","v":0},0]
[{"$f":"[1]Adulto!A348","v":0},{"$f":"[1]Adulto!B348","v":0},{"$f":"[1]Adulto!C348","v":0},{"$f":"[1]Adulto!D348","v":0},{"$f":"[1]Adulto!E348","v":0},{"$f":"[1]Adulto!F348","v":0},{"$f":"[1]Adulto!G348","v":0},0]
[{"$f":"[1]Adulto!A349","v":0},{"$f":"[1]Adulto!B349","v":0},{"$f":"[1]Adulto!C349","v":0},{"$f":"[1]Adulto!D349","v":0},{"$f":"[1]Adulto!E349","v":0},{"$f":"[1]Adulto!F349","v":0},{"$f":"[1]Adulto!G349","v":0},0]
[{"$f":"[1]Adulto!A350","v":0},{"$f":"[1]Adulto!B350","v":0},{"$f":"[1]Adulto!C350","v":0},{"$f":"[1]Adulto!D350","v":0},{"$f":"[1]Adulto!E350","v":0},{"$f":"[1]Adulto!F350","v":0},{"$f":"[1]Adulto!G350","v":0},0]
[{"$f":"[1]Adulto!A351","v":0},{"$f":"[1]Adulto!B351","v":0},{"$f":"[1]Adulto!C351","v":0},{"$f":"[1]Adulto!D351","v":0},{"$f":"[1]Adulto!E351","v":0},{"$f":"[1]Adulto!F351","v":0},{"$f":"[1]Adulto!G351","v":0},0]
[{"$f":"[1]Adulto!A352","v":0},{"$f":"[1]Adulto!B352","v":0},{"$f":"[1]Adulto!C352","v":0},{"$f":"[1]Adulto!D352","v":0},{"$f":"[1]Adulto!E352","v":0},{"$f":"[1]Adulto!F352","v":0},{"$f":"[1]Adulto!G352","v":0},0]
[{"$f":"[1]Adulto!A353","v":0},{"$f":"[1]Adulto!B353","v":0},{"$f":"[1]Adulto!C353","v":0},{"$f":"[1]Adulto!D353","v":0},{"$f":"[1]Adulto!E353","v":0},{"$f":"[1]Adulto!F353","v":0},{"$f":"[1]Adulto!G353","v":0},0]
[{"$f":"[1]Adulto!A354","v":0},{"$f":"[1]Adulto!B354","v":0},{"$f":"[1]Adulto!C354","v":0},{"$f":"[1]Adulto!D354","v":0},{"$f":"[1]Adulto!E354","v":0},{"$f":"[1]Adulto!F354","v":0},{"$f":"[1]Adulto!G354","v":0},0]
[{"$f":"[1]Adulto!A355","v":0},{"$f":"[1]Adulto!B355","v":0},{"$f":"[1]Adulto!C355","v":0},{"$f":"[1]Adulto!D355","v":0},{"$f":"[1]Adulto!E355","v":0},{"$f":"[1]Adulto!F355","v":0},{"$f":"[1]Adulto!G355","v":0},0]
[{"$f":"[1]Adulto!A356","v":0},{"$f":"[1]Adulto!B356","v":0},{"$f":"[1]Adulto!C356","v":0},{"$f":"[1]Adulto!D356","v":0},{"$f":"[1]Adulto!E356","v":0},{"$f":"[1]Adulto!F356","v":0},{"$f":"[1]Adulto!G356","v":0},0]
[{"$f":"[1]Adulto!A357","v":0},{"$f":"[1]Adulto!B357","v":0},{"$f":"[1]Adulto!C357","v":0},{"$f":"[1]Adulto!D357","v":0},{"$f":"[1]Adulto!E357","v":0},{"$f":"[1]Adulto!F357","v":0},{"$f":"[1]Adulto!G357","v":0},0]
[{"$f":"[1]Adulto!A358","v":0},{"$f":"[1]Adulto!B358","v":0},{"$f":"[1]Adulto!C358","v":0},{"$f":"[1]Adulto!D358","v":0},{"$f":"[1]Adulto!E358","v":0},{"$f":"[1]Adulto!F358","v":0},{"$f":"[1]Adulto!G358","v":0},0]
[{"$f":"[1]Adulto!A359","v":0},{"$f":"[1]Adulto!B359","v":0},{"$f":"[1]Adulto!C359","v":0},{"$f":"[1]Adulto!D359","v":0},{"$f":"[1]Adulto!E359","v":0},{"$f":"[1]Adulto!F359","v":0},{"$f":"[1]Adulto!G359","v":0},0]
[{"$f":"[1]Adulto!A360","v":0},{"$f":"[1]Adulto!B360","v":0},{"$f":"[1]Adulto!C360","v":0},{"$f":"[1]Adulto!D360","v":0},{"$f":"[1]Adulto!E360","v":0},{"$f":"[1]Adulto!F360","v":0},{"$f":"[1]Adulto!G360","v":0},0]
[{"$f":"[1]Adulto!A361","v":0},{"$f":"[1]Adulto!B361","v":0},{"$f":"[1]Adulto!C361","v":0},{"$f":"[1]Adulto!D361","v":0},{"$f":"[1]Adulto!E361","v":0},{"$f":"[1]Adulto!F361","v":0},{"$f":"[1]Adulto!G361","v":0},0]
[{"$f":"[1]Adulto!A362","v":0},{"$f":"[1]Adulto!B362","v":0},{"$f":"[1]Adulto!C362","v":0},{"$f":"[1]Adulto!D362","v":0},{"$f":"[1]Adulto!E362","v":0},{"$f":"[1]Adulto!F362","v":0},{"$f":"[1]Adulto!G362","v":0},0]
[{"$f":"[1]Adulto!A363","v":0},{"$f":"[1]Adulto!B363","v":0},{"$f":"[1]Adulto!C363","v":0},{"$f":"[1]Adulto!D363","v":0},{"$f":"[1]Adulto!E363","v":0},{"$f":"[1]Adulto!F363","v":0},{"$f":"[1]Adulto!G363","v":0},0]
[{"$f":"[1]Adulto!A364","v":0},{"$f":"[1]Adulto!B364","v":0},{"$f":"[1]Adulto!C364","v":0},{"$f":"[1]Adulto!D364","v":0},{"$f":"[1]Adulto!E364","v":0},{"$f":"[1]Adulto!F364","v":0},{"$f":"[1]Adulto!G364","v":0},0]
[{"$f":"[1]Adulto!A365","v":0},{"$f":"[1]Adulto!B365","v":0},{"$f":"[1]Adulto!C365","v":0},{"$f":"[1]Adulto!D365","v":0},{"$f":"[1]Adulto!E365","v":0},{"$f":"[1]Adulto!F365","v":0},{"$f":"[1]Adulto!G365","v":0},0]
[{"$f":"[1]Adulto!A366","v":0},{"$f":"[1]Adulto!B366","v":0},{"$f":"[1]Adulto!C366","v":0},{"$f":"[1]Adulto!D366","v":0},{"$f":"[1]Adulto!E366","v":0},{"$f":"[1]Adulto!F366","v":0},{"$f":"[1]Adulto!G366","v":0},0]
[{"$f":"[1]Adulto!A367","v":0},{"$f":"[1]Adulto!B367","v":0},{"$f":"[1]Adulto!C367","v":0},{"$f":"[1]Adulto!D367","v":0},{"$f":"[1]Adulto!E367","v":0},{"$f":"[1]Adulto!F367","v":0},{"$f":"[1]Adulto!G367","v":0},0]
[{"$f":"[1]Adulto!A368","v":0},{"$f":"[1]Adulto!B368","v":0},{"$f":"[1]Adulto!C368","v":0},{"$f":"[1]Adulto!D368","v":0},{"$f":"[1]Adulto!E368","v":0},{"$f":"[1]Adulto!F368","v":0},{"$f":"[1]Adulto!G368","v":0},0]
[{"$f":"[1]Adulto!A369","v":0},{"$f":"[1]Adulto!B369","v":0},{"$f":"[1]Adulto!C369","v":0},{"$f":"[1]Adulto!D369","v":0},{"$f":"[1]Adulto!E369","v":0},{"$f":"[1]Adulto!F369","v":0},{"$f":"[1]Adulto!G369","v":0},0]
[{"$f":"[1]Adulto!A370","v":0},{"$f":"[1]Adulto!B370","v":0},{"$f":"[1]Adulto!C370","v":0},{"$f":"[1]Adulto!D370","v":0},{"$f":"[1]Adulto!E370","v":0},{"$f":"[1]Adulto!F370","v":0},{"$f":"[1]Adulto!G370","v":0},0]
[{"$f":"[1]Adulto!A371","v":0},{"$f":"[1]Adulto!B371","v":0},{"$f":"[1]Adulto!C371","v":0},{"$f":"[1]Adulto!D371","v":0},{"$f":"[1]Adulto!E371","v":0},{"$f":"[1]Adulto!F371","v":0},{"$f":"[1]Adulto!G371","v":0},0]
[{"$f":"[1]Adulto!A372","v":0},{"$f":"[1]Adulto!B372","v":0},{"$f":"[1]Adulto!C372","v":0},{"$f":"[1]Adulto!D372","v":0},{"$f":"[1]Adulto!E372","v":0},{"$f":"[1]Adulto!F372","v":0},{"$f":"[1]Adulto!G372","v":0},0]
[{"$f":"[1]Adulto!A373","v":0},{"$f":"[1]Adulto!B373","v":0},{"$f":"[1]Adulto!C373","v":0},{"$f":"[1]Adulto!D373","v":0},{"$f":"[1]Adulto!E373","v":0},{"$f":"[1]Adulto!F373","v":0},{"$f":"[1]Adulto!G373","v":0},0]
[{"$f":"[1]Adulto!A374","v":0},{"$f":"[1]Adulto!B374","v":0},{"$f":"[1]Adulto!C374","v":0},{"$f":"[1]Adulto!D374","v":0},{"$f":"[1]Adulto!E374","v":0},{"$f":"[1]Adulto!F374","v":0},{"$f":"[1]Adulto!G374","v":0},0]
[{"$f":"[1]Adulto!A375","v":0},{"$f":"[1]Adulto!B375","v":0},{"$f":"[1]Adulto!C375","v":0},{"$f":"[1]Adulto!D375","v":0},{"$f":"[1]Adulto!E375","v":0},{"$f":"[1]Adulto!F375","v":0},{"$f":"[1]Adulto!G375","v":0},0]
[{"$f":"[1]Adulto!A376","v":0},{"$f":"[1]Adulto!B376","v":0},{"$f":"[1]Adulto!C376","v":0},{"$f":"[1]Adulto!D376","v":0},{"$f":"[1]Adulto!E376","v":0},{"$f":"[1]Adulto!F376","v":0},{"$f":"[1]Adulto!G376","v":0},0]
[{"$f":"[1]Adulto!A377","v":0},{"$f":"[1]Adulto!B377","v":0},{"$f":"[1]Adulto!C377","v":0},{"$f":"[1]Adulto!D377","v":0},{"$f":"[1]Adulto!E377","v":0},{"$f":"[1]Adulto!F377","v":0},{"$f":"[1]Adulto!G377","v":0},0]
[{"$f":"[1]Adulto!A378","v":0},{"$f":"[1]Adulto!B378","v":0},{"$f":"[1]Adulto!C378","v":0},{"$f":"[1]Adulto!D378","v":0},{"$f":"[1]Adulto!E378","v":0},{"$f":"[1]Adulto!F378","v":0},{"$f":"[1]Adulto!G378","v":0},0]
[{"$f":"[1]Adulto!A379","v":0},{"$f":"[1]Adulto!B379","v":0},{"$f":"[1]Adulto!C379","v":0},{"$f":"[1]Adulto!D379","v":0},{"$f":"[1]Adulto!E379","v":0},{"$f":"[1]Adulto!F379","v":0},{"$f":"[1]Adulto!G379","v":0},0]
[{"$f":"[1]Adulto!A380","v":0},{"$f":"[1]Adulto!B380","v":0},{"$f":"[1]Adulto!C380","v":0},{"$f":"[1]Adulto!D380","v":0},{"$f":"[1]Adulto!E380","v":0},{"$f":"[1]Adulto!F380","v":0},{"$f":"[1]Adulto!G380","v":0},0]
[{"$f":"[1]Adulto!A381","v":0},{"$f":"[1]Adulto!B381","v":0},{"$f":"[1]Adulto!C381","v":0},{"$f":"[1]Adulto!D381","v":0},{"$f":"[1]Adulto!E381","v":0},{"$f":"[1]Adulto!F381","v":0},{"$f":"[1]Adulto!G381","v":0},0]
[{"$f":"[1]Adulto!A382","v":0},{"$f":"[1]Adulto!B382","v":0},{"$f":"[1]Adulto!C382","v":0},{"$f":"[1]Adulto!D382","v":0},{"$f":"[1]Adulto!E382","v":0},{"$f":"[1]Adulto!F382","v":0},{"$f":"[1]Adulto!G382","v":0},0]
[{"$f":"[1]Adulto!A383","v":0},{"$f":"[1]Adulto!B383","v":0},{"$f":"[1]Adulto!C383","v":0},{"$f":"[1]Adulto!D383","v":0},{"$f":"[1]Adulto!E383","v":0},{"$f":"[1]Adulto!F383","v":0},{"$f":"[1]Adulto!G383","v":0},0]
[{"$f":"[1]Adulto!A384","v":0},{"$f":"[1]Adulto!B384","v":0},{"$f":"[1]Adulto!C384","v":0},{"$f":"[1]Adulto!D384","v":0},{"$f":"[1]Adulto!E384","v":0},{"$f":"[1]Adulto!F384","v":0},{"$f":"[1]Adulto!G384","v":0},0]
[{"$f":"[1]Adulto!A385","v":0},{"$f":"[1]Adulto!B385","v":0},{"$f":"[1]Adulto!C385","v":0},{"$f":"[1]Adulto!D385","v":0},{"$f":"[1]Adulto!E385","v":0},{"$f":"[1]Adulto!F385","v":0},{"$f":"[1]Adulto!G385","v":0},0]
[{"$f":"[1]Adulto!A386","v":0},{"$f":"[1]Adulto!B386","v":0},{"$f":"[1]Adulto!C386","v":0},{"$f":"[1]Adulto!D386","v":0},{"$f":"[1]Adulto!E386","v":0},{"$f":"[1]Adulto!F386","v":0},{"$f":"[1]Adulto!G386","v":0},0]
[{"$f":"[1]Adulto!A387","v":0},{"$f":"[1]Adulto!B387","v":0},{"$f":"[1]Adulto!C387","v":0},{"$f":"[1]Adulto!D387","v":0},{"$f":"[1]Adulto!E387","v":0},{"$f":"[1]Adulto!F387","v":0},{"$f":"[1]Adulto!G387","v":0},0]
[{"$f":"[1]Adulto!A388","v":0},{"$f":"[1]Adulto!B388","v":0},{"$f":"[1]Adulto!C388","v":0},{"$f":"[1]Adulto!D388","v":0},{"$f":"[1]Adulto!E388","v":0},{"$f":"[1]Adulto!F388","v":0},{"$f":"[1]Adulto!G388","v":0},0]
[{"$f":"[1]Adulto!A389","v":0},{"$f":"[1]Adulto!B389","v":0},{"$f":"[1]Adulto!C389","v":0},{"$f":"[1]Adulto!D389","v":0},{"$f":"[1]Adulto!E389","v":0},{"$f":"[1]Adulto!F389","v":0},{"$f":"[1]Adulto!G389","v":0},0]
[{"$f":"[1]Adulto!A390","v":0},{"$f":"[1]Adulto!B390","v":0},{"$f":"[1]Adulto!C390","v":0},{"$f":"[1]Adulto!D390","v":0},{"$f":"[1]Adulto!E390","v":0},{"$f":"[1]Adulto!F390","v":0},{"$f":"[1]Adulto!G390","v":0},0]
[{"$f":"[1]Adulto!A391","v":0},{"$f":"[1]Adulto!B391","v":0},{"$f":"[1]Adulto!C391","v":0},{"$f":"[1]Adulto!D391","v":0},{"$f":"[1]Adulto!E391","v":0},{"$f":"[1]Adulto!F391","v":0},{"$f":"[1]Adulto!G391","v":0},0]
[{"$f":"[1]Adulto!A392","v":0},{"$f":"[1]Adulto!B392","v":0},{"$f":"[1]Adulto!C392","v":0},{"$f":"[1]Adulto!D392","v":0},{"$f":"[1]Adulto!E392","v":0},{"$f":"[1]Adulto!F392","v":0},{"$f":"[1]Adulto!G392","v":0},{"$f":"B386","v":0}]
[{"$f":"[1]Adulto!A393","v":0},{"$f":"[1]Adulto!B393","v":0},{"$f":"[1]Adulto!C393","v":0},{"$f":"[1]Adulto!D393","v":0},{"$f":"[1]Adulto!E393","v":0},{"$f":"[1]Adulto!F393","v":0},{"$f":"[1]Adulto!G393","v":0},0]
[{"$f":"[1]Adulto!A394","v":0},{"$f":"[1]Adulto!B394","v":0},{"$f":"[1]Adulto!C394","v":0},{"$f":"[1]Adulto!D394","v":0},{"$f":"[1]Adulto!E394","v":0},{"$f":"[1]Adulto!F394","v":0},{"$f":"[1]Adulto!G394","v":0},0]
[{"$f":"[1]Adulto!A395","v":0},{"$f":"[1]Adulto!B395","v":0},{"$f":"[1]Adulto!C395","v":0},{"$f":"[1]Adulto!D395","v":0},{"$f":"[1]Adulto!E395","v":0},{"$f":"[1]Adulto!F395","v":0},{"$f":"[1]Adulto!G395","v":0},0]
[{"$f":"[1]Adulto!A396","v":0},{"$f":"[1]Adulto!B396","v":0},{"$f":"[1]Adulto!C396","v":0},{"$f":"[1]Adulto!D396","v":0},{"$f":"[1]Adulto!E396","v":0},{"$f":"[1]Adulto!F396","v":0},{"$f":"[1]Adulto!G396","v":0},0]
[{"$f":"[1]Adulto!A397","v":0},{"$f":"[1]Adulto!B397","v":0},{"$f":"[1]Adulto!C397","v":0},{"$f":"[1]Adulto!D397","v":0},{"$f":"[1]Adulto!E397","v":0},{"$f":"[1]Adulto!F397","v":0},{"$f":"[1]Adulto!G397","v":0},0]
[{"$f":"[1]Adulto!A398","v":0},{"$f":"[1]Adulto!B398","v":0},{"$f":"[1]Adulto!C398","v":0},{"$f":"[1]Adulto!D398","v":0},{"$f":"[1]Adulto!E398","v":0},{"$f":"[1]Adulto!F398","v":0},{"$f":"[1]Adulto!G398","v":0},0]
[{"$f":"[1]Adulto!A399","v":0},{"$f":"[1]Adulto!B399","v":0},{"$f":"[1]Adulto!C399","v":0},{"$f":"[1]Adulto!D399","v":0},{"$f":"[1]Adulto!E399","v":0},{"$f":"[1]Adulto!F399","v":0},{"$f":"[1]Adulto!G399","v":0},0]
[{"$f":"[1]Adulto!A400","v":0},{"$f":"[1]Adulto!B400","v":0},{"$f":"[1]Adulto!C400","v":0},{"$f":"[1]Adulto!D400","v":0},{"$f":"[1]Adulto!E400","v":0},{"$f":"[1]Adulto!F400","v":0},{"$f":"[1]Adulto!G400","v":0},0]
[]
[]
[]
[]
[]
[{"$f":"[1]Sub18!A7","v":0},{"$f":"[1]Sub18!B7","v":"Atu"},{"$f":"[1]Sub18!C7","v":"Botonista"},{"$f":"[1]Sub18!D7","v":"Clube  "},{"$f":"[1]Sub18!E7","v":"FPFM"},{"$f":"[1]Sub18!F7","v":"Total"},{"$f":"[1]Sub18!G7","v":0}]
[{"$f":"[1]Sub18!A8","v":0},{"$f":"[1]Sub18!B8","v":1},{"$f":"[1]Sub18!C8","v":"LEO RODRIGUES"},{"$f":"[1]Sub18!D8","v":"NACIONAL A.C."},{"$f":"[1]Sub18!E8","v":1066},{"$f":"[1]Sub18!F8","v":1724},{"$f":"[1]Sub18!G8","v":"#"},{"$f":"B401","v":1}]
[{"$f":"[1]Sub18!A9","v":0},{"$f":"[1]Sub18!B9","v":2},{"$f":"[1]Sub18!C9","v":"GUILHERME"},{"$f":"[1]Sub18!D9","v":"NACIONAL A.C."},{"$f":"[1]Sub18!E9","v":2133},{"$f":"[1]Sub18!F9","v":1534},{"$f":"[1]Sub18!G9","v":-190},2]
[{"$f":"[1]Sub18!A10","v":0},{"$f":"[1]Sub18!B10","v":3},{"$f":"[1]Sub18!C10","v":"YUAN"},{"$f":"[1]Sub18!D10","v":"S.C.CORINTHIANS PTA"},{"$f":"[1]Sub18!E10","v":414},{"$f":"[1]Sub18!F10","v":1350},{"$f":"[1]Sub18!G10","v":-184},3]
[{"$f":"[1]Sub18!A11","v":0},{"$f":"[1]Sub18!B11","v":4},{"$f":"[1]Sub18!C11","v":"LEO ARMANI"},{"$f":"[1]Sub18!D11","v":"E.C. NOROESTE"},{"$f":"[1]Sub18!E11","v":2208},{"$f":"[1]Sub18!F11","v":1277},{"$f":"[1]Sub18!G11","v":-73},4]
[{"$f":"[1]Sub18!A12","v":0},{"$f":"[1]Sub18!B12","v":5},{"$f":"[1]Sub18!C12","v":"FULVIO"},{"$f":"[1]Sub18!D12","v":"NACIONAL A.C."},{"$f":"[1]Sub18!E12","v":1458},{"$f":"[1]Sub18!F12","v":1132},{"$f":"[1]Sub18!G12","v":-145},5]
[{"$f":"[1]Sub18!A13","v":0},{"$f":"[1]Sub18!B13","v":6},{"$f":"[1]Sub18!C13","v":"JOAO PEDRO GALL"},{"$f":"[1]Sub18!D13","v":"CLUBE DO BOTAO"},{"$f":"[1]Sub18!E13","v":2225},{"$f":"[1]Sub18!F13","v":1104},{"$f":"[1]Sub18!G13","v":-28},6]
[{"$f":"[1]Sub18!A14","v":0},{"$f":"[1]Sub18!B14","v":7},{"$f":"[1]Sub18!C14","v":"PEDRO NETO"},{"$f":"[1]Sub18!D14","v":"CLUBE DO BOTAO"},{"$f":"[1]Sub18!E14","v":2234},{"$f":"[1]Sub18!F14","v":835},{"$f":"[1]Sub18!G14","v":-269},7]
[{"$f":"[1]Sub18!A15","v":0},{"$f":"[1]Sub18!B15","v":8},{"$f":"[1]Sub18!C15","v":"DAN"},{"$f":"[1]Sub18!D15","v":"AUFM"},{"$f":"[1]Sub18!E15","v":1190},{"$f":"[1]Sub18!F15","v":750},{"$f":"[1]Sub18!G15","v":-85},8]
[{"$f":"[1]Sub18!A16","v":0},{"$f":"[1]Sub18!B16","v":9},{"$f":"[1]Sub18!C16","v":"VICTOR"},{"$f":"[1]Sub18!D16","v":"CIRCULO MILITAR SP"},{"$f":"[1]Sub18!E16","v":2168},{"$f":"[1]Sub18!F16","v":647},{"$f":"[1]Sub18!G16","v":-103},9]
[{"$f":"[1]Sub18!A17","v":0},{"$f":"[1]Sub18!B17","v":10},{"$f":"[1]Sub18!C17","v":"DEDE SIRIO"},{"$f":"[1]Sub18!D17","v":"AUFM"},{"$f":"[1]Sub18!E17","v":387},{"$f":"[1]Sub18!F17","v":540},{"$f":"[1]Sub18!G17","v":-107},10]
[{"$f":"[1]Sub18!A18","v":0},{"$f":"[1]Sub18!B18","v":11},{"$f":"[1]Sub18!C18","v":"DANTE"},{"$f":"[1]Sub18!D18","v":"S.C.CORINTHIANS PTA"},{"$f":"[1]Sub18!E18","v":1982},{"$f":"[1]Sub18!F18","v":520},{"$f":"[1]Sub18!G18","v":-20},11]
[{"$f":"[1]Sub18!A19","v":0},{"$f":"[1]Sub18!B19","v":12},{"$f":"[1]Sub18!C19","v":"ADLER"},{"$f":"[1]Sub18!D19","v":"XV DE AGOSTO"},{"$f":"[1]Sub18!E19","v":1280},{"$f":"[1]Sub18!F19","v":485},{"$f":"[1]Sub18!G19","v":-35},12]
[{"$f":"[1]Sub18!A20","v":0},{"$f":"[1]Sub18!B20","v":13},{"$f":"[1]Sub18!C20","v":"GIULIANO"},{"$f":"[1]Sub18!D20","v":"XV DE AGOSTO"},{"$f":"[1]Sub18!E20","v":2098},{"$f":"[1]Sub18!F20","v":315},{"$f":"[1]Sub18!G20","v":-170},13]
[{"$f":"[1]Sub18!A21","v":0},{"$f":"[1]Sub18!B21","v":14},{"$f":"[1]Sub18!C21","v":"AMAURI JR"},{"$f":"[1]Sub18!D21","v":"XV DE AGOSTO"},{"$f":"[1]Sub18!E21","v":2097},{"$f":"[1]Sub18!F21","v":295},{"$f":"[1]Sub18!G21","v":-20},14]
[{"$f":"[1]Sub18!A22","v":0},{"$f":"[1]Sub18!B22","v":15},{"$f":"[1]Sub18!C22","v":"BILIKO"},{"$f":"[1]Sub18!D22","v":"AUFM"},{"$f":"[1]Sub18!E22","v":2247},{"$f":"[1]Sub18!F22","v":255},{"$f":"[1]Sub18!G22","v":-40},15]
[{"$f":"[1]Sub18!A23","v":0},{"$f":"[1]Sub18!B23","v":16},{"$f":"[1]Sub18!C23","v":"FELIPE RANGEL"},{"$f":"[1]Sub18!D23","v":"AUFM"},{"$f":"[1]Sub18!E23","v":2248},{"$f":"[1]Sub18!F23","v":240},{"$f":"[1]Sub18!G23","v":-15},16]
[{"$f":"[1]Sub18!A24","v":0},{"$f":"[1]Sub18!B24","v":17},{"$f":"[1]Sub18!C24","v":"JOAO VICTOR"},{"$f":"[1]Sub18!D24","v":"E.C. NOROESTE"},{"$f":"[1]Sub18!E24","v":2231},{"$f":"[1]Sub18!F24","v":211},{"$f":"[1]Sub18!G24","v":-29},17]
[{"$f":"[1]Sub18!A25","v":0},{"$f":"[1]Sub18!B25","v":18},{"$f":"[1]Sub18!C25","v":"LEO MELLO"},{"$f":"[1]Sub18!D25","v":"XV DE AGOSTO"},{"$f":"[1]Sub18!E25","v":2246},{"$f":"[1]Sub18!F25","v":190},{"$f":"[1]Sub18!G25","v":-21},18]
[{"$f":"[1]Sub18!A26","v":0},{"$f":"[1]Sub18!B26","v":19},{"$f":"[1]Sub18!C26","v":"DYLON"},{"$f":"[1]Sub18!D26","v":"CISPLATINA F.C."},{"$f":"[1]Sub18!E26","v":2249},{"$f":"[1]Sub18!F26","v":155},{"$f":"[1]Sub18!G26","v":-35},19]
[{"$f":"[1]Sub18!A27","v":0},{"$f":"[1]Sub18!B27","v":20},{"$f":"[1]Sub18!C27","v":"LAARY CUSTODIO"},{"$f":"[1]Sub18!D27","v":"AUFM"},{"$f":"[1]Sub18!E27","v":2241},{"$f":"[1]Sub18!F27","v":140},{"$f":"[1]Sub18!G27","v":-15},20]
[{"$f":"[1]Sub18!A28","v":0},{"$f":"[1]Sub18!B28","v":21},{"$f":"[1]Sub18!C28","v":"GUILHERME GOMES"},{"$f":"[1]Sub18!D28","v":"S.A.V.MARIA ZELIA"},{"$f":"[1]Sub18!E28","v":2255},{"$f":"[1]Sub18!F28","v":74},{"$f":"[1]Sub18!G28","v":-66},21]
[{"$f":"[1]Sub18!A29","v":0},{"$f":"[1]Sub18!B29","v":22},{"$f":"[1]Sub18!C29","v":"RENAN PEREIRA"},{"$f":"[1]Sub18!D29","v":"NACIONAL A.C."},{"$f":"[1]Sub18!E29","v":1681},{"$f":"[1]Sub18!F29","v":25},{"$f":"[1]Sub18!G29","v":-49},22]
[{"$f":"[1]Sub18!A30","v":0},{"$f":"[1]Sub18!B30","v":23},{"$f":"[1]Sub18!C30","v":"VINICIUS MURATORE"},{"$f":"[1]Sub18!D30","v":"CIRCULO MILITAR SP"},{"$f":"[1]Sub18!E30","v":2149},{"$f":"[1]Sub18!F30","v":0},{"$f":"[1]Sub18!G30","v":-25},23]
[{"$f":"[1]Sub18!A31","v":0},{"$f":"[1]Sub18!B31","v":0},{"$f":"[1]Sub18!C31","v":0},{"$f":"[1]Sub18!D31","v":0},{"$f":"[1]Sub18!E31","v":0},{"$f":"[1]Sub18!F31","v":0},{"$f":"[1]Sub18!G31","v":0},0]
[{"$f":"[1]Sub18!A32","v":0},{"$f":"[1]Sub18!B32","v":0},{"$f":"[1]Sub18!C32","v":0},{"$f":"[1]Sub18!D32","v":0},{"$f":"[1]Sub18!E32","v":0},{"$f":"[1]Sub18!F32","v":0},{"$f":"[1]Sub18!G32","v":0},0]
[{"$f":"[1]Sub18!A33","v":0},{"$f":"[1]Sub18!B33","v":0},{"$f":"[1]Sub18!C33","v":0},{"$f":"[1]Sub18!D33","v":0},{"$f":"[1]Sub18!E33","v":0},{"$f":"[1]Sub18!F33","v":0},{"$f":"[1]Sub18!G33","v":0},0]
[{"$f":"[1]Sub18!A34","v":0},{"$f":"[1]Sub18!B34","v":0},{"$f":"[1]Sub18!C34","v":0},{"$f":"[1]Sub18!D34","v":0},{"$f":"[1]Sub18!E34","v":0},{"$f":"[1]Sub18!F34","v":0},{"$f":"[1]Sub18!G34","v":0},0]
[{"$f":"[1]Sub18!A35","v":0},{"$f":"[1]Sub18!B35","v":0},{"$f":"[1]Sub18!C35","v":0},{"$f":"[1]Sub18!D35","v":0},{"$f":"[1]Sub18!E35","v":0},{"$f":"[1]Sub18!F35","v":0},{"$f":"[1]Sub18!G35","v":0},0]
[{"$f":"[1]Sub18!A36","v":0},{"$f":"[1]Sub18!B36","v":0},{"$f":"[1]Sub18!C36","v":0},{"$f":"[1]Sub18!D36","v":0},{"$f":"[1]Sub18!E36","v":0},{"$f":"[1]Sub18!F36","v":0},{"$f":"[1]Sub18!G36","v":0},0]
[{"$f":"[1]Sub18!A37","v":0},{"$f":"[1]Sub18!B37","v":0},{"$f":"[1]Sub18!C37","v":0},{"$f":"[1]Sub18!D37","v":0},{"$f":"[1]Sub18!E37","v":0},{"$f":"[1]Sub18!F37","v":0},{"$f":"[1]Sub18!G37","v":0},0]
[{"$f":"[1]Sub18!A38","v":0},{"$f":"[1]Sub18!B38","v":0},{"$f":"[1]Sub18!C38","v":0},{"$f":"[1]Sub18!D38","v":0},{"$f":"[1]Sub18!E38","v":0},{"$f":"[1]Sub18!F38","v":0},{"$f":"[1]Sub18!G38","v":0},0]
[{"$f":"[1]Sub18!A39","v":0},{"$f":"[1]Sub18!B39","v":0},{"$f":"[1]Sub18!C39","v":0},{"$f":"[1]Sub18!D39","v":0},{"$f":"[1]Sub18!E39","v":0},{"$f":"[1]Sub18!F39","v":0},{"$f":"[1]Sub18!G39","v":0},0]
[{"$f":"[1]Sub18!A40","v":0},{"$f":"[1]Sub18!B40","v":0},{"$f":"[1]Sub18!C40","v":0},{"$f":"[1]Sub18!D40","v":0},{"$f":"[1]Sub18!E40","v":0},{"$f":"[1]Sub18!F40","v":0},{"$f":"[1]Sub18!G40","v":0},0]
[{"$f":"[1]Sub18!A41","v":0},{"$f":"[1]Sub18!B41","v":0},{"$f":"[1]Sub18!C41","v":0},{"$f":"[1]Sub18!D41","v":0},{"$f":"[1]Sub18!E41","v":0},{"$f":"[1]Sub18!F41","v":0},{"$f":"[1]Sub18!G41","v":0},0]
[{"$f":"[1]Sub18!A42","v":0},{"$f":"[1]Sub18!B42","v":0},{"$f":"[1]Sub18!C42","v":0},{"$f":"[1]Sub18!D42","v":0},{"$f":"[1]Sub18!E42","v":0},{"$f":"[1]Sub18!F42","v":0},{"$f":"[1]Sub18!G42","v":0},0]
[{"$f":"[1]Sub18!A43","v":0},{"$f":"[1]Sub18!B43","v":0},{"$f":"[1]Sub18!C43","v":0},{"$f":"[1]Sub18!D43","v":0},{"$f":"[1]Sub18!E43","v":0},{"$f":"[1]Sub18!F43","v":0},{"$f":"[1]Sub18!G43","v":0},0]
[{"$f":"[1]Sub18!A44","v":0},{"$f":"[1]Sub18!B44","v":0},{"$f":"[1]Sub18!C44","v":0},{"$f":"[1]Sub18!D44","v":0},{"$f":"[1]Sub18!E44","v":0},{"$f":"[1]Sub18!F44","v":0},{"$f":"[1]Sub18!G44","v":0},0]
[{"$f":"[1]Sub18!A45","v":0},{"$f":"[1]Sub18!B45","v":0},{"$f":"[1]Sub18!C45","v":0},{"$f":"[1]Sub18!D45","v":0},{"$f":"[1]Sub18!E45","v":0},{"$f":"[1]Sub18!F45","v":0},{"$f":"[1]Sub18!G45","v":0},0]
[{"$f":"[1]Sub18!A46","v":0},{"$f":"[1]Sub18!B46","v":0},{"$f":"[1]Sub18!C46","v":0},{"$f":"[1]Sub18!D46","v":0},{"$f":"[1]Sub18!E46","v":0},{"$f":"[1]Sub18!F46","v":0},{"$f":"[1]Sub18!G46","v":0},0]
[{"$f":"[1]Sub18!A47","v":0},{"$f":"[1]Sub18!B47","v":0},{"$f":"[1]Sub18!C47","v":0},{"$f":"[1]Sub18!D47","v":0},{"$f":"[1]Sub18!E47","v":0},{"$f":"[1]Sub18!F47","v":0},{"$f":"[1]Sub18!G47","v":0},0]
[{"$f":"[1]Sub18!A48","v":0},{"$f":"[1]Sub18!B48","v":0},{"$f":"[1]Sub18!C48","v":0},{"$f":"[1]Sub18!D48","v":0},{"$f":"[1]Sub18!E48","v":0},{"$f":"[1]Sub18!F48","v":0},{"$f":"[1]Sub18!G48","v":0},0]
[{"$f":"[1]Sub18!A49","v":0},{"$f":"[1]Sub18!B49","v":0},{"$f":"[1]Sub18!C49","v":0},{"$f":"[1]Sub18!D49","v":0},{"$f":"[1]Sub18!E49","v":0},{"$f":"[1]Sub18!F49","v":0},{"$f":"[1]Sub18!G49","v":0},0]
[{"$f":"[1]Sub18!A50","v":0},{"$f":"[1]Sub18!B50","v":0},{"$f":"[1]Sub18!C50","v":0},{"$f":"[1]Sub18!D50","v":0},{"$f":"[1]Sub18!E50","v":0},{"$f":"[1]Sub18!F50","v":0},{"$f":"[1]Sub18!G50","v":0},0]
[{"$f":"[1]Sub18!A51","v":0},{"$f":"[1]Sub18!B51","v":0},{"$f":"[1]Sub18!C51","v":0},{"$f":"[1]Sub18!D51","v":0},{"$f":"[1]Sub18!E51","v":0},{"$f":"[1]Sub18!F51","v":0},{"$f":"[1]Sub18!G51","v":0},0]
[{"$f":"[1]Sub18!A52","v":0},{"$f":"[1]Sub18!B52","v":0},{"$f":"[1]Sub18!C52","v":0},{"$f":"[1]Sub18!D52","v":0},{"$f":"[1]Sub18!E52","v":0},{"$f":"[1]Sub18!F52","v":0},{"$f":"[1]Sub18!G52","v":0},0]
[{"$f":"[1]Sub18!A53","v":0},{"$f":"[1]Sub18!B53","v":0},{"$f":"[1]Sub18!C53","v":0},{"$f":"[1]Sub18!D53","v":0},{"$f":"[1]Sub18!E53","v":0},{"$f":"[1]Sub18!F53","v":0},{"$f":"[1]Sub18!G53","v":0},0]
[{"$f":"[1]Sub18!A54","v":0},{"$f":"[1]Sub18!B54","v":0},{"$f":"[1]Sub18!C54","v":0},{"$f":"[1]Sub18!D54","v":0},{"$f":"[1]Sub18!E54","v":0},{"$f":"[1]Sub18!F54","v":0},{"$f":"[1]Sub18!G54","v":0},0]
[{"$f":"[1]Sub18!A55","v":0},{"$f":"[1]Sub18!B55","v":0},{"$f":"[1]Sub18!C55","v":0},{"$f":"[1]Sub18!D55","v":0},{"$f":"[1]Sub18!E55","v":0},{"$f":"[1]Sub18!F55","v":0},{"$f":"[1]Sub18!G55","v":0},0]
[{"$f":"[1]Sub18!A56","v":0},{"$f":"[1]Sub18!B56","v":0},{"$f":"[1]Sub18!C56","v":0},{"$f":"[1]Sub18!D56","v":0},{"$f":"[1]Sub18!E56","v":0},{"$f":"[1]Sub18!F56","v":0},{"$f":"[1]Sub18!G56","v":0},0]
[{"$f":"[1]Sub18!A57","v":0},{"$f":"[1]Sub18!B57","v":0},{"$f":"[1]Sub18!C57","v":0},{"$f":"[1]Sub18!D57","v":0},{"$f":"[1]Sub18!E57","v":0},{"$f":"[1]Sub18!F57","v":0},{"$f":"[1]Sub18!G57","v":0},0]
[{"$f":"[1]Sub18!A58","v":0},{"$f":"[1]Sub18!B58","v":0},{"$f":"[1]Sub18!C58","v":0},{"$f":"[1]Sub18!D58","v":0},{"$f":"[1]Sub18!E58","v":0},{"$f":"[1]Sub18!F58","v":0},{"$f":"[1]Sub18!G58","v":0},0]
[{"$f":"[1]Sub18!A59","v":0},{"$f":"[1]Sub18!B59","v":0},{"$f":"[1]Sub18!C59","v":0},{"$f":"[1]Sub18!D59","v":0},{"$f":"[1]Sub18!E59","v":0},{"$f":"[1]Sub18!F59","v":0},{"$f":"[1]Sub18!G59","v":0},0]
[{"$f":"[1]Sub18!A60","v":0},{"$f":"[1]Sub18!B60","v":0},{"$f":"[1]Sub18!C60","v":0},{"$f":"[1]Sub18!D60","v":0},{"$f":"[1]Sub18!E60","v":0},{"$f":"[1]Sub18!F60","v":0},{"$f":"[1]Sub18!G60","v":0},0]
[{"$f":"[1]Sub18!A61","v":0},{"$f":"[1]Sub18!B61","v":0},{"$f":"[1]Sub18!C61","v":0},{"$f":"[1]Sub18!D61","v":0},{"$f":"[1]Sub18!E61","v":0},{"$f":"[1]Sub18!F61","v":0},{"$f":"[1]Sub18!G61","v":0},0]
[{"$f":"[1]Sub18!A62","v":0},{"$f":"[1]Sub18!B62","v":0},{"$f":"[1]Sub18!C62","v":0},{"$f":"[1]Sub18!D62","v":0},{"$f":"[1]Sub18!E62","v":0},{"$f":"[1]Sub18!F62","v":0},{"$f":"[1]Sub18!G62","v":0},0]
[{"$f":"[1]Sub18!A63","v":0},{"$f":"[1]Sub18!B63","v":0},{"$f":"[1]Sub18!C63","v":0},{"$f":"[1]Sub18!D63","v":0},{"$f":"[1]Sub18!E63","v":0},{"$f":"[1]Sub18!F63","v":0},{"$f":"[1]Sub18!G63","v":0},0]
[{"$f":"[1]Sub18!A64","v":0},{"$f":"[1]Sub18!B64","v":0},{"$f":"[1]Sub18!C64","v":0},{"$f":"[1]Sub18!D64","v":0},{"$f":"[1]Sub18!E64","v":0},{"$f":"[1]Sub18!F64","v":0},{"$f":"[1]Sub18!G64","v":0},0]
[{"$f":"[1]Sub18!A65","v":0},{"$f":"[1]Sub18!B65","v":0},{"$f":"[1]Sub18!C65","v":0},{"$f":"[1]Sub18!D65","v":0},{"$f":"[1]Sub18!E65","v":0},{"$f":"[1]Sub18!F65","v":0},{"$f":"[1]Sub18!G65","v":0},0]
[{"$f":"[1]Sub18!A66","v":0},{"$f":"[1]Sub18!B66","v":0},{"$f":"[1]Sub18!C66","v":0},{"$f":"[1]Sub18!D66","v":0},{"$f":"[1]Sub18!E66","v":0},{"$f":"[1]Sub18!F66","v":0},{"$f":"[1]Sub18!G66","v":0},0]
[{"$f":"[1]Sub18!A67","v":0},{"$f":"[1]Sub18!B67","v":0},{"$f":"[1]Sub18!C67","v":0},{"$f":"[1]Sub18!D67","v":0},{"$f":"[1]Sub18!E67","v":0},{"$f":"[1]Sub18!F67","v":0},{"$f":"[1]Sub18!G67","v":0},0]
[{"$f":"[1]Sub18!A68","v":0},{"$f":"[1]Sub18!B68","v":0},{"$f":"[1]Sub18!C68","v":0},{"$f":"[1]Sub18!D68","v":0},{"$f":"[1]Sub18!E68","v":0},{"$f":"[1]Sub18!F68","v":0},{"$f":"[1]Sub18!G68","v":0},0]
[{"$f":"[1]Sub18!A69","v":0},{"$f":"[1]Sub18!B69","v":0},{"$f":"[1]Sub18!C69","v":0},{"$f":"[1]Sub18!D69","v":0},{"$f":"[1]Sub18!E69","v":0},{"$f":"[1]Sub18!F69","v":0},{"$f":"[1]Sub18!G69","v":0},0]
[{"$f":"[1]Sub18!A70","v":0},{"$f":"[1]Sub18!B70","v":0},{"$f":"[1]Sub18!C70","v":0},{"$f":"[1]Sub18!D70","v":0},{"$f":"[1]Sub18!E70","v":0},{"$f":"[1]Sub18!F70","v":0},{"$f":"[1]Sub18!G70","v":0},0]
[{"$f":"[1]Sub18!A71","v":0},{"$f":"[1]Sub18!B71","v":0},{"$f":"[1]Sub18!C71","v":0},{"$f":"[1]Sub18!D71","v":0},{"$f":"[1]Sub18!E71","v":0},{"$f":"[1]Sub18!F71","v":0},{"$f":"[1]Sub18!G71","v":0},0]
[{"$f":"[1]Sub18!A72","v":0},{"$f":"[1]Sub18!B72","v":0},{"$f":"[1]Sub18!C72","v":0},{"$f":"[1]Sub18!D72","v":0},{"$f":"[1]Sub18!E72","v":0},{"$f":"[1]Sub18!F72","v":0},{"$f":"[1]Sub18!G72","v":0},{"$f":"B465","v":0}]
[{"$f":"[1]Sub18!A73","v":0},{"$f":"[1]Sub18!B73","v":0},{"$f":"[1]Sub18!C73","v":0},{"$f":"[1]Sub18!D73","v":0},{"$f":"[1]Sub18!E73","v":0},{"$f":"[1]Sub18!F73","v":0},{"$f":"[1]Sub18!G73","v":0},0]
[{"$f":"[1]Sub18!A74","v":0},{"$f":"[1]Sub18!B74","v":0},{"$f":"[1]Sub18!C74","v":0},{"$f":"[1]Sub18!D74","v":0},{"$f":"[1]Sub18!E74","v":0},{"$f":"[1]Sub18!F74","v":0},{"$f":"[1]Sub18!G74","v":0},0]
[{"$f":"[1]Sub18!A75","v":0},{"$f":"[1]Sub18!B75","v":0},{"$f":"[1]Sub18!C75","v":0},{"$f":"[1]Sub18!D75","v":0},{"$f":"[1]Sub18!E75","v":0},{"$f":"[1]Sub18!F75","v":0},{"$f":"[1]Sub18!G75","v":0},0]
[{"$f":"[1]Sub18!A76","v":0},{"$f":"[1]Sub18!B76","v":0},{"$f":"[1]Sub18!C76","v":0},{"$f":"[1]Sub18!D76","v":0},{"$f":"[1]Sub18!E76","v":0},{"$f":"[1]Sub18!F76","v":0},{"$f":"[1]Sub18!G76","v":0},0]
[{"$f":"[1]Sub18!A77","v":0},{"$f":"[1]Sub18!B77","v":0},{"$f":"[1]Sub18!C77","v":0},{"$f":"[1]Sub18!D77","v":0},{"$f":"[1]Sub18!E77","v":0},{"$f":"[1]Sub18!F77","v":0},{"$f":"[1]Sub18!G77","v":0},0]
[{"$f":"[1]Sub18!A78","v":0},{"$f":"[1]Sub18!B78","v":0},{"$f":"[1]Sub18!C78","v":0},{"$f":"[1]Sub18!D78","v":0},{"$f":"[1]Sub18!E78","v":0},{"$f":"[1]Sub18!F78","v":0},{"$f":"[1]Sub18!G78","v":0},0]
[{"$f":"[1]Sub18!A79","v":0},{"$f":"[1]Sub18!B79","v":0},{"$f":"[1]Sub18!C79","v":0},{"$f":"[1]Sub18!D79","v":0},{"$f":"[1]Sub18!E79","v":0},{"$f":"[1]Sub18!F79","v":0},{"$f":"[1]Sub18!G79","v":0},0]
[{"$f":"[1]Sub18!A80","v":0},{"$f":"[1]Sub18!B80","v":0},{"$f":"[1]Sub18!C80","v":0},{"$f":"[1]Sub18!D80","v":0},{"$f":"[1]Sub18!E80","v":0},{"$f":"[1]Sub18!F80","v":0},{"$f":"[1]Sub18!G80","v":0},0]
[{"$f":"[1]Sub18!A81","v":0},{"$f":"[1]Sub18!B81","v":0},{"$f":"[1]Sub18!C81","v":0},{"$f":"[1]Sub18!D81","v":0},{"$f":"[1]Sub18!E81","v":0},{"$f":"[1]Sub18!F81","v":0},{"$f":"[1]Sub18!G81","v":0},0]
[{"$f":"[1]Sub18!A82","v":0},{"$f":"[1]Sub18!B82","v":0},{"$f":"[1]Sub18!C82","v":0},{"$f":"[1]Sub18!D82","v":0},{"$f":"[1]Sub18!E82","v":0},{"$f":"[1]Sub18!F82","v":0},{"$f":"[1]Sub18!G82","v":0},0]
[{"$f":"[1]Sub18!A83","v":0},{"$f":"[1]Sub18!B83","v":0},{"$f":"[1]Sub18!C83","v":0},{"$f":"[1]Sub18!D83","v":0},{"$f":"[1]Sub18!E83","v":0},{"$f":"[1]Sub18!F83","v":0},{"$f":"[1]Sub18!G83","v":0},0]
[{"$f":"[1]Sub18!A84","v":0},{"$f":"[1]Sub18!B84","v":0},{"$f":"[1]Sub18!C84","v":0},{"$f":"[1]Sub18!D84","v":0},{"$f":"[1]Sub18!E84","v":0},{"$f":"[1]Sub18!F84","v":0},{"$f":"[1]Sub18!G84","v":0},0]
[{"$f":"[1]Sub18!A85","v":0},{"$f":"[1]Sub18!B85","v":0},{"$f":"[1]Sub18!C85","v":0},{"$f":"[1]Sub18!D85","v":0},{"$f":"[1]Sub18!E85","v":0},{"$f":"[1]Sub18!F85","v":0},{"$f":"[1]Sub18!G85","v":0},0]
[{"$f":"[1]Sub18!A86","v":0},{"$f":"[1]Sub18!B86","v":0},{"$f":"[1]Sub18!C86","v":0},{"$f":"[1]Sub18!D86","v":0},{"$f":"[1]Sub18!E86","v":0},{"$f":"[1]Sub18!F86","v":0},{"$f":"[1]Sub18!G86","v":0},0]
[{"$f":"[1]Sub18!A87","v":0},{"$f":"[1]Sub18!B87","v":0},{"$f":"[1]Sub18!C87","v":0},{"$f":"[1]Sub18!D87","v":0},{"$f":"[1]Sub18!E87","v":0},{"$f":"[1]Sub18!F87","v":0},{"$f":"[1]Sub18!G87","v":0},0]
[{"$f":"[1]Sub18!A88","v":0},{"$f":"[1]Sub18!B88","v":0},{"$f":"[1]Sub18!C88","v":0},{"$f":"[1]Sub18!D88","v":0},{"$f":"[1]Sub18!E88","v":0},{"$f":"[1]Sub18!F88","v":0},{"$f":"[1]Sub18!G88","v":0},0]
[{"$f":"[1]Sub18!A89","v":0},{"$f":"[1]Sub18!B89","v":0},{"$f":"[1]Sub18!C89","v":0},{"$f":"[1]Sub18!D89","v":0},{"$f":"[1]Sub18!E89","v":0},{"$f":"[1]Sub18!F89","v":0},{"$f":"[1]Sub18!G89","v":0},0]
[{"$f":"[1]Sub18!A90","v":0},{"$f":"[1]Sub18!B90","v":0},{"$f":"[1]Sub18!C90","v":0},{"$f":"[1]Sub18!D90","v":0},{"$f":"[1]Sub18!E90","v":0},{"$f":"[1]Sub18!F90","v":0},{"$f":"[1]Sub18!G90","v":0},0]
[{"$f":"[1]Sub18!A91","v":0},{"$f":"[1]Sub18!B91","v":0},{"$f":"[1]Sub18!C91","v":0},{"$f":"[1]Sub18!D91","v":0},{"$f":"[1]Sub18!E91","v":0},{"$f":"[1]Sub18!F91","v":0},{"$f":"[1]Sub18!G91","v":0},0]
[{"$f":"[1]Sub18!A92","v":0},{"$f":"[1]Sub18!B92","v":0},{"$f":"[1]Sub18!C92","v":0},{"$f":"[1]Sub18!D92","v":0},{"$f":"[1]Sub18!E92","v":0},{"$f":"[1]Sub18!F92","v":0},{"$f":"[1]Sub18!G92","v":0},0]
[{"$f":"[1]Sub18!A93","v":0},{"$f":"[1]Sub18!B93","v":0},{"$f":"[1]Sub18!C93","v":0},{"$f":"[1]Sub18!D93","v":0},{"$f":"[1]Sub18!E93","v":0},{"$f":"[1]Sub18!F93","v":0},{"$f":"[1]Sub18!G93","v":0},0]
[{"$f":"[1]Sub18!A94","v":0},{"$f":"[1]Sub18!B94","v":0},{"$f":"[1]Sub18!C94","v":0},{"$f":"[1]Sub18!D94","v":0},{"$f":"[1]Sub18!E94","v":0},{"$f":"[1]Sub18!F94","v":0},{"$f":"[1]Sub18!G94","v":0},0]
[{"$f":"[1]Sub18!A95","v":0},{"$f":"[1]Sub18!B95","v":0},{"$f":"[1]Sub18!C95","v":0},{"$f":"[1]Sub18!D95","v":0},{"$f":"[1]Sub18!E95","v":0},{"$f":"[1]Sub18!F95","v":0},{"$f":"[1]Sub18!G95","v":0},0]
[{"$f":"[1]Sub18!A96","v":0},{"$f":"[1]Sub18!B96","v":0},{"$f":"[1]Sub18!C96","v":0},{"$f":"[1]Sub18!D96","v":0},{"$f":"[1]Sub18!E96","v":0},{"$f":"[1]Sub18!F96","v":0},{"$f":"[1]Sub18!G96","v":0},0]
[{"$f":"[1]Sub18!A97","v":0},{"$f":"[1]Sub18!B97","v":0},{"$f":"[1]Sub18!C97","v":0},{"$f":"[1]Sub18!D97","v":0},{"$f":"[1]Sub18!E97","v":0},{"$f":"[1]Sub18!F97","v":0},{"$f":"[1]Sub18!G97","v":0},0]
[{"$f":"[1]Sub18!A98","v":0},{"$f":"[1]Sub18!B98","v":0},{"$f":"[1]Sub18!C98","v":0},{"$f":"[1]Sub18!D98","v":0},{"$f":"[1]Sub18!E98","v":0},{"$f":"[1]Sub18!F98","v":0},{"$f":"[1]Sub18!G98","v":0},0]
[{"$f":"[1]Sub18!A99","v":0},{"$f":"[1]Sub18!B99","v":0},{"$f":"[1]Sub18!C99","v":0},{"$f":"[1]Sub18!D99","v":0},{"$f":"[1]Sub18!E99","v":0},{"$f":"[1]Sub18!F99","v":0},{"$f":"[1]Sub18!G99","v":0},0]
[{"$f":"[1]Sub18!A100","v":0},{"$f":"[1]Sub18!B100","v":0},{"$f":"[1]Sub18!C100","v":0},{"$f":"[1]Sub18!D100","v":0},{"$f":"[1]Sub18!E100","v":0},{"$f":"[1]Sub18!F100","v":0},{"$f":"[1]Sub18!G100","v":0},0]

{"sheet":"(dados) TAÇAS","index":10,"n_rows":47,"n_cols":18,"rows_kept":47,"cut":false,"hidden":true,"merged":[[0,1,1,1]]}
[null,"TODAS TAÇAS",null,null,null,null,null,"1ª taça","2ª taça","3ª taça","4ª taça","5ª taça","6ª taça","7ª taça","8ª taça","9ª taça","10ª taça","11ª taça"]
[null,null,null,null,null,null,null,"13º","25º","40º","55º","72º","89º","106º","123º","140º","144º","165º"]
[null,"BOTONISTA","TOD","O","P","B","E","2007-02-21","2007-05-23","2007-09-05","2007-12-19","2007-04-23","2008-08-20","2008-12-17","2009-04-29","2009-08-26","2009-12-09","2010-12-08"]
[1,"Agnaldo Camelo",{"$f":"COUNT(H4:IV4)","v":2},{"$f":"COUNTIF(H4:IV4,\"100\")","v":0},{"$f":"COUNTIF(H4:IV4,\"200\")","v":0},{"$f":"COUNTIF(H4:IV4,\"300\")","v":0},{"$f":"COUNTIF(H4:IV4,\"400\")","v":0},"F",17,17,"F","F","F","F","F","F","F","F"]
[2,"André Stancatti",4,0,0,0,0,4,10,11,9,"F","F","F","F","F","F","F"]
[3,"Antonio Ribeiro",10,0,2,0,0,10,5,10,200,10,8,200,10,4,"F",4]
[4,"Augusto Cesar",0,0,0,0,0,"F","F","F","F","F","F","F","F","F","F","F"]
[5,"Bryan Brinque",1,0,0,0,0,"F","F","F","F","F","F",17,"F","F","F","F"]
[6,"Carlos Febo",6,0,0,1,0,9,15,300,15,"F",14,16,"F","F","F","F"]
[7,"Carlos Henrique",2,0,0,1,1,"F","F","F","F",300,400,"F","F","F","F","F"]
[8,"Celso de Assis",10,3,1,0,0,5,9,200,6,6,100,100,"F",2,3,100]
[9,"César Rebecca",3,0,0,1,0,"F","F","F","F","F","F","F",300,3,"F",6]
[10,"Cristiano Paffrath",3,0,1,0,0,200,8,2,"F","F","F","F","F","F","F","F"]
[11,"Edson Fortuna ",8,0,2,0,0,14,14,12,12,15,16,"F",200,"F","F",200]
[12,"Fábio Chelio",1,0,0,0,0,"F","F","F","F","F","F","F","F","F","F",7]
[13,"Gabriel Nardy",4,0,0,0,0,"F","F","F","F",16,10,8,14,"F","F","F"]
[14,"Guilherme Simeira",0,0,0,0,0,"F","F","F","F","F","F","F","F","F","F","F"]
[15,"Gustavo Arcolini",10,0,1,1,0,"F",300,3,5,3,4,14,4,9,200,5]
[16,"Henrique Laitano",1,0,0,0,0,"F","F","F","F","F","F","F","F","F","F",4]
[17,"Ismael Júnior",9,2,2,0,0,100,200,5,2,100,200,2,3,"F","F",3]
[18,"João Felipe",6,0,0,0,0,"F","F",18,8,8,15,9,"F","F",9,"F"]
[19,"Jorge Prado",0,0,0,0,0,"F","F","F","F","F","F","F","F","F","F","F"]
[20,"José Gallasch",0,0,0,0,0,"F","F","F","F","F","F","F","F","F","F","F"]
[21,"José Henrique",0,0,0,0,0,"F","F","F","F","F","F","F","F","F","F","F"]
[22,"Juliano Borges",0,0,0,0,0,"F","F","F","F","F","F","F","F","F","F","F"]
[23,"Leonardo Vicente",2,0,0,1,0,"F","F","F",300,9,"F","F","F","F","F","F"]
[24,"Lígia Waki",4,0,0,0,0,17,16,15,14,"F","F","F","F","F","F","F"]
[25,"Lucas Henrique",5,0,0,0,0,"F","F",16,11,20,17,15,"F","F","F","F"]
[26,"Luiz Antonio",2,0,0,0,1,"F","F","F","F",400,12,"F","F","F","F","F"]
[27,"Luiz Felipe",0,0,0,0,0,"F","F","F","F","F","F","F","F","F","F","F"]
[28,"Luiz Guilherme",2,0,0,1,0,300,"F",8,"F","F","F","F","F","F","F","F"]
[29,"Luiz Humberto",2,0,1,1,0,"F","F","F","F","F","F",300,"F",200,"F","F"]
[30,"Márcio Costa",9,2,0,0,0,3,100,4,3,5,3,"F",100,"F",8,3]
[31,"Márcio Guedes",1,0,0,0,1,"F","F","F","F","F","F",400,"F","F","F","F"]
[32,"Marcos Juliatto",0,0,0,0,0,"F","F","F","F","F","F","F","F","F","F","F"]
[33,"Marcos Neves",0,0,0,0,0,"F","F","F","F","F","F","F","F","F","F","F"]
[34,"Maurício Penteado",0,0,0,0,0,"F","F","F","F","F","F","F","F","F","F","F"]
[35,"Mauro Figueiredo",1,0,0,0,0,"F","F","F","F","F","F","F","F","F","F",2]
[36,"Michel Benevides",10,0,0,0,0,15,12,14,16,11,11,10,9,5,5,"F"]
[37,"Paulo César",1,0,0,0,0,"F","F","F","F","F","F","F","F","F","F",5]
[38,"Raul Grizi",4,0,0,0,0,"F","F","F","F",14,9,5,8,"F","F","F"]
[39,"Ricardo Benites",1,0,0,0,0,"F","F","F","F","F","F","F","F",10,"F","F"]
[40,"Ricardo Nardy",11,1,0,0,0,8,2,6,4,4,5,3,2,100,2,2]
[41,"Rodrigo Cisoto",1,0,0,0,0,"F","F","F","F","F","F","F","F","F","F",6]
[42,"Ronaldo Massa",1,0,0,1,0,"F","F","F","F","F",300,"F","F","F","F","F"]
[43,"Serginho Castilho",8,3,0,0,0,"F",3,100,100,2,2,6,"F",8,100,"F"]
[44,"Wilson Benevides",11,0,1,0,0,16,11,9,10,200,6,4,5,6,4,7]

{"sheet":"dados campeões","index":11,"n_rows":39,"n_cols":23,"rows_kept":39,"cut":false,"hidden":true,"merged":[[0,0,1,0],[39,30,39,31],[39,50,39,51],[42,24,42,25],[42,44,42,45],[40,24,40,25],[40,44,40,45],[41,24,41,25],[41,44,41,45]]}
["todos os torneios",null,null,null,null,null,"AGO","SET","OUT","NOV","DEZ","JAN","FEV","MAR","ABR","MAI","JUN","JUL","AGO","SET","OUT","NOV","DEZ"]
[null,null,null,null,null,null,141,142,143,144,145]
["BOTONISTA","TOD","O","P","B","E","2009-09-02","2009-09-30","2009-10-28","2009-11-25","2009-12-09"]
["Márcio Costa",{"$f":"COUNT(G4:IV4)","v":0},{"$f":"COUNTIF(G4:IV4,\"1\")","v":0},{"$f":"COUNTIF(Y4:IV4,\"2\")","v":0},{"$f":"COUNTIF(Y4:IV4,\"3\")","v":0},{"$f":"COUNTIF(Y4:IV4,\"4\")","v":0},"F"]
["Marcos Juliatto",0,0,0,0,0,"F"]
["André Stancatti",0,0,0,0,0,"F"]
["Celso de Assis",1,0,0,0,0,2]
["Ricardo Nardy",1,0,0,0,0,5]
["Antonio Ribeiro",0,0,0,0,0,"F"]
["Ismael Júnior",0,0,0,0,0,"F"]
["Cristiano Paffrath",0,0,0,0,0,"F"]
["Gustavo Arcolini",0,0,0,0,0,"F"]
["Lucas Henrique",0,0,0,0,0,"F"]
["Maurício Penteado",0,0,0,0,0,"F"]
["Carlos Febo",0,0,0,0,0,"F"]
["Edson Fortuna ",1,0,0,0,0,6]
["Wilson Benevides",1,0,0,0,0,9]
["Michel Benevides",1,0,0,0,0,7]
["Lígia Waki",0,0,0,0,0,"F"]
["Serginho Castilho",1,1,0,0,0,1]
["Luiz Antonio",0,0,0,0,0,"F"]
["Leonardo Vicente",0,0,0,0,0,"F"]
["José Gallasch",0,0,0,0,0,"F"]
["Augusto Cesar",0,0,0,0,0,"F"]
["Luiz Humberto",1,0,0,0,0,3]
["Agnaldo Camelo",0,0,0,0,0,"F"]
["João Felipe",1,0,0,0,0,10]
["Ronaldo Massa",0,0,0,0,0,"F"]
["Gabriel Nardy",0,0,0,0,0,"F"]
["Raul Grizi",1,0,0,0,0,4]
["Carlos Henrique",0,0,0,0,0,"F"]
["Bryan Brinque",0,0,0,0,0,"F"]
["Guilherme Simeira",0,0,0,0,0,"F"]
["Márcio Guedes",0,0,0,0,0,"F"]
["Luiz Guilherme",0,0,0,0,0,"F"]
["Luiz Felipe",0,0,0,0,0,"F"]
["César Rebecca",0,0,0,0,0,"F"]
["Ricardo Benites",1,0,0,0,0,8]
["Juliano Borges",0,0,0,0,0,"F"]

{"sheet":"dados taças","index":12,"n_rows":39,"n_cols":17,"rows_kept":39,"cut":false,"hidden":true,"merged":[[0,0,1,0]]}
["somente taças",null,null,null,null,null,"1ª taça","2ª taça","3ª taça","4ª taça","5ª taça","6ª taça","7ª taça","8ª taça","9ª taça","10ª taça","11ª taça"]
[null,null,null,null,null,null,"13º","25º","40º","55º","72º","89º","106º","123º","140º","145º","157º"]
["BOTONISTA","TOD","O","P","B","E","2007-02-21","2007-05-23","2007-09-05","2007-12-19","2008-04-23","2008-08-20","2008-12-17","2009-04-29","2009-08-26","2009-12-09"]
["Márcio Costa",{"$f":"COUNT(G4:IV4)","v":7},{"$f":"COUNTIF(G4:IV4,\"100\")","v":2},{"$f":"COUNTIF(G4:IV4,\"200\")","v":0},{"$f":"COUNTIF(G4:IV4,\"300\")","v":0},{"$f":"COUNTIF(G4:IV4,\"400\")","v":0},3,100,4,3,5,3,"F",100,"F"]
["Marcos Juliatto",0,0,0,0,0,"F","F","F","F","F","F","F","F","F"]
["André Stancatti",4,0,0,0,0,4,10,11,9,"F","F","F","F","F"]
["Celso de Assis",8,2,1,0,0,5,9,200,6,6,100,100,"F",2]
["Ricardo Nardy",9,1,0,0,0,8,2,6,4,4,5,3,2,100]
["Antonio Ribeiro",9,0,2,0,0,10,5,10,200,10,8,200,10,4]
["Ismael Júnior",8,2,2,0,0,100,200,5,2,100,200,2,3,"F"]
["Cristiano Paffrath",3,0,1,0,0,200,8,2,"F","F","F","F","F","F"]
["Gustavo Arcolini",8,0,0,1,0,"F",300,3,5,3,4,14,4,9]
["Lucas Henrique",5,0,0,0,0,"F","F",16,11,20,17,15,"F","F"]
["Maurício Penteado",0,0,0,0,0,"F","F","F","F","F","F","F","F","F"]
["Carlos Febo",6,0,0,1,0,9,15,300,15,"F",14,16,"F","F"]
["Edson Fortuna ",7,0,1,0,0,14,14,12,12,15,16,"F",200,"F"]
["Wilson Benevides",9,0,1,0,0,16,11,9,10,200,6,4,5,6]
["Michel Benevides",9,0,0,0,0,15,12,14,16,11,11,10,9,5]
["Lígia Waki",4,0,0,0,0,17,16,15,14,"F","F","F","F","F"]
["Serginho Castilho",7,2,0,0,0,"F",3,100,100,2,2,6,"F",8]
["Luiz Antonio",2,0,0,0,1,"F","F","F","F",400,12,"F","F","F"]
["Leonardo Vicente",2,0,0,1,0,"F","F","F",300,9,"F","F","F","F"]
["José Gallasch",0,0,0,0,0,"F","F","F","F","F","F","F","F","F"]
["Augusto Cesar",0,0,0,0,0,"F","F","F","F","F","F","F","F","F"]
["Luiz Humberto",2,0,1,1,0,"F","F","F","F","F","F",300,"F",200]
["Agnaldo Camelo",2,0,0,0,0,"F",17,17,"F","F","F","F","F","F"]
["João Felipe",5,0,0,0,0,"F","F",18,8,8,15,9,"F","F"]
["Ronaldo Massa",1,0,0,1,0,"F","F","F","F","F",300,"F","F","F"]
["Gabriel Nardy",4,0,0,0,0,"F","F","F","F",16,10,8,14,"F"]
["Raul Grizi",4,0,0,0,0,"F","F","F","F",14,9,5,8,"F"]
["Carlos Henrique",2,0,0,1,1,"F","F","F","F",300,400,"F","F","F"]
["Bryan Brinque",1,0,0,0,0,"F","F","F","F","F","F",17,"F","F"]
["Guilherme Simeira",0,0,0,0,0,"F","F","F","F","F","F","F","F","F"]
["Márcio Guedes",1,0,0,0,1,"F","F","F","F","F","F",400,"F","F"]
["Luiz Guilherme",2,0,0,1,0,300,"F",8,"F","F","F","F","F","F"]
["Luiz Felipe",0,0,0,0,0,"F","F","F","F","F","F","F","F","F"]
["César Rebecca",2,0,0,1,0,"F","F","F","F","F","F","F",300,3]
["Ricardo Benites",1,0,0,0,0,"F","F","F","F","F","F","F","F",10]
["Juliano Borges",0,0,0,0,0,"F","F","F","F","F","F","F","F","F"]